Workbook

Sheet Jan
A1: TOP 20 Producers
A2: Pegas Tourstik
A3: 2009 | B3: Jan | C3: Feb | D3: Mar | E3: Apr | F3: May | G3: Jun | H3: Jul | I3: Aug | J3: Sep | K3: Oct | L3: Nov | M3: Dec | N3: Total
A4: Rm Nights | B4: 2570 | N4: =SUM(B4:M4) -> 2570
A5: Av.R.R. | B5: 316.82216 | N5: =N10/N4 -> 316.82216
A6: # Of Guests | B6: 891 | N6: =SUM(B6:M6) -> 891
A7: DBL Occ. | B7: =IF(B4=0,0,(B6/B4)) -> 0.34669261 | C7: =IF(C4=0,0,(C6/C4)) -> 0 | D7: =IF(D4=0,0,(D6/D4)) -> 0 | E7: =IF(E4=0,0,(E6/E4)) -> 0 | F7: =IF(F4=0,0,(F6/F4)) -> 0 | G7: =IF(G4=0,0,(G6/G4)) -> 0 | H7: =IF(H4=0,0,(H6/H4)) -> 0 | I7: =IF(I4=0,0,(I6/I4)) -> 0 | ... N7: =IF(N4=0,0,(N6/N4)) -> 0.34669261
A8: Arrivals | N8: =SUM(B8:M8) -> 0
A9: Length of stay | B9: =IF(B8="","",(B4/B8)) | C9: =IF(C8="","",(C4/C8)) | D9: =IF(D8="","",(D4/D8)) | E9: =IF(E8="","",(E4/E8)) | F9: =IF(F8="","",(F4/F8)) | G9: =IF(G8="","",(G4/G8)) | H9: =IF(H8="","",(H4/H8)) | I9: =IF(I8="","",(I4/I8)) | ... N9: =IF(N8="","",(N4/N8)) -> #DIV/0!
A10: Room Rev | B10: =B4*B5 -> 814232.94 | C10: =C4*C5 -> 0 | D10: =D4*D5 -> 0 | E10: =E4*E5 -> 0 | F10: =F4*F5 -> 0 | G10: =G4*G5 -> 0 | H10: =H4*H5 -> 0 | I10: =I4*I5 -> 0 | ... M10: =M4*M5 -> 0 | N10: =SUM(B10:M10) -> 814232.94
A11: F&B Rev | B11: 18244 | N11: =SUM(B11:M11) -> 18244
A12: Extra Rev | B12: 509845.29 | N12: =SUM(B12:M12) -> 509845.29
A13: TOTAL Rev | B13: =SUM(B10:B12) -> 1342322.2 | C13: =SUM(C10:C12) -> 0 | D13: =SUM(D10:D12) -> 0 | E13: =SUM(E10:E12) -> 0 | F13: =SUM(F10:F12) -> 0 | G13: =SUM(G10:G12) -> 0 | H13: =SUM(H10:H12) -> 0 | I13: =SUM(I10:I12) -> 0 | ... M13: =SUM(M10:M12) -> 0 | N13: =SUM(B13:M13) -> 1342322.2
A14: Av. S. P Gst. | B14: =IF(B13="","",(B13/B6)) -> 1506.5345 | C14: =IF(C13="","",(C13/C6)) -> #DIV/0! | D14: =IF(D13="","",(D13/D6)) -> #DIV/0! | E14: =IF(E13="","",(E13/E6)) -> #DIV/0! | F14: =IF(F13="","",(F13/F6)) -> #DIV/0! | G14: =IF(G13="","",(G13/G6)) -> #DIV/0! | H14: =IF(H13="","",(H13/H6)) -> #DIV/0! | I14: =IF(I13="","",(I13/I6)) -> #DIV/0! | ... N14: =IF(N13="","",(N13/N6)) -> 1506.5345
A15: Spring/Apollo
A16: 2009 | B16: Jan | C16: Feb | D16: Mar | E16: Apr | F16: May | G16: Jun | H16: Jul | I16: Aug | J16: Sep | K16: Oct | L16: Nov | M16: Dec | N16: Total
A17: Rm Nights | B17: 899 | N17: =SUM(B17:M17) -> 899
A18: Av.R.R. | B18: 309.2627 | N18: =N23/N17 -> 309.2627
A19: # Of Guests | B19: 568 | N19: =SUM(B19:M19) -> 568
A20: DBL Occ. | B20: =IF(B17=0,0,(B19/B17)) -> 0.63181313 | C20: =IF(C17=0,0,(C19/C17)) -> 0 | D20: =IF(D17=0,0,(D19/D17)) -> 0 | E20: =IF(E17=0,0,(E19/E17)) -> 0 | F20: =IF(F17=0,0,(F19/F17)) -> 0 | G20: =IF(G17=0,0,(G19/G17)) -> 0 | H20: =IF(H17=0,0,(H19/H17)) -> 0 | I20: =IF(I17=0,0,(I19/I17)) -> 0 | ... N20: =IF(N17=0,0,(N19/N17)) -> 0.63181313
A21: Arrivals | N21: =SUM(B21:M21) -> 0
A22: Length of stay | B22: =IF(B21="","",(B17/B21)) | C22: =IF(C21="","",(C17/C21)) | D22: =IF(D21="","",(D17/D21)) | E22: =IF(E21="","",(E17/E21)) | F22: =IF(F21="","",(F17/F21)) | G22: =IF(G21="","",(G17/G21)) | H22: =IF(H21="","",(H17/H21)) | I22: =IF(I21="","",(I17/I21)) | ... N22: =IF(N21="","",(N17/N21)) -> #DIV/0!
A23: Room Rev | B23: =B17*B18 -> 278027.17 | C23: =C17*C18 -> 0 | D23: =D17*D18 -> 0 | E23: =E17*E18 -> 0 | F23: =F17*F18 -> 0 | G23: =G17*G18 -> 0 | H23: =H17*H18 -> 0 | I23: =I17*I18 -> 0 | ... M23: =M17*M18 -> 0 | N23: =SUM(B23:M23) -> 278027.17
A24: F&B Rev | B24: 84586.51 | N24: =SUM(B24:M24) -> 84586.51
A25: Extra Rev | B25: 54578.25 | N25: =SUM(B25:M25) -> 54578.25
A26: TOTAL Rev | B26: =SUM(B23:B25) -> 417191.93 | C26: =SUM(C23:C25) -> 0 | D26: =SUM(D23:D25) -> 0 | E26: =SUM(E23:E25) -> 0 | F26: =SUM(F23:F25) -> 0 | G26: =SUM(G23:G25) -> 0 | H26: =SUM(H23:H25) -> 0 | I26: =SUM(I23:I25) -> 0 | ... M26: =SUM(M23:M25) -> 0 | N26: =SUM(B26:M26) -> 417191.93
A27: Av. S. P Gst. | B27: =IF(B26="","",(B26/B19)) -> 734.49283 | C27: =IF(C26="","",(C26/C19)) -> #DIV/0! | D27: =IF(D26="","",(D26/D19)) -> #DIV/0! | E27: =IF(E26="","",(E26/E19)) -> #DIV/0! | F27: =IF(F26="","",(F26/F19)) -> #DIV/0! | G27: =IF(G26="","",(G26/G19)) -> #DIV/0! | H27: =IF(H26="","",(H26/H19)) -> #DIV/0! | I27: =IF(I26="","",(I26/I19)) -> #DIV/0! | ... N27: =IF(N26="","",(N26/N19)) -> 734.49283
A28: Nordic
A29: 2009 | B29: Jan | C29: Feb | D29: Mar | E29: Apr | F29: May | G29: Jun | H29: Jul | I29: Aug | J29: Sep | K29: Oct | L29: Nov | M29: Dec | N29: Total
A30: Rm Nights | B30: 619 | N30: =SUM(B30:M30) -> 619
A31: Av.R.R. | B31: 394.06147 | N31: =N36/N30 -> 394.06147
A32: # Of Guests | B32: 186 | N32: =SUM(B32:M32) -> 186
A33: DBL Occ. | B33: =IF(B30=0,0,(B32/B30)) -> 0.30048465 | C33: =IF(C30=0,0,(C32/C30)) -> 0 | D33: =IF(D30=0,0,(D32/D30)) -> 0 | E33: =IF(E30=0,0,(E32/E30)) -> 0 | F33: =IF(F30=0,0,(F32/F30)) -> 0 | G33: =IF(G30=0,0,(G32/G30)) -> 0 | H33: =IF(H30=0,0,(H32/H30)) -> 0 | I33: =IF(I30=0,0,(I32/I30)) -> 0 | ... N33: =IF(N30=0,0,(N32/N30)) -> 0.30048465
A34: Arrivals | N34: =SUM(B34:M34) -> 0
A35: Length of stay | B35: =IF(B34="","",(B30/B34)) | C35: =IF(C34="","",(C30/C34)) | D35: =IF(D34="","",(D30/D34)) | E35: =IF(E34="","",(E30/E34)) | F35: =IF(F34="","",(F30/F34)) | G35: =IF(G34="","",(G30/G34)) | H35: =IF(H34="","",(H30/H34)) | I35: =IF(I34="","",(I30/I34)) | ... N35: =IF(N34="","",(N30/N34)) -> #DIV/0!
A36: Room Rev | B36: =B30*B31 -> 243924.05 | C36: =C30*C31 -> 0 | D36: =D30*D31 -> 0 | E36: =E30*E31 -> 0 | F36: =F30*F31 -> 0 | G36: =G30*G31 -> 0 | H36: =H30*H31 -> 0 | I36: =I30*I31 -> 0 | ... M36: =M30*M31 -> 0 | N36: =SUM(B36:M36) -> 243924.05
A37: F&B Rev | B37: 90238.31 | N37: =SUM(B37:M37) -> 90238.31
A38: Extra Rev | B38: 92339.67 | N38: =SUM(B38:M38) -> 92339.67
A39: TOTAL Rev | B39: =SUM(B36:B38) -> 426502.03 | C39: =SUM(C36:C38) -> 0 | D39: =SUM(D36:D38) -> 0 | E39: =SUM(E36:E38) -> 0 | F39: =SUM(F36:F38) -> 0 | G39: =SUM(G36:G38) -> 0 | H39: =SUM(H36:H38) -> 0 | I39: =SUM(I36:I38) -> 0 | ... M39: =SUM(M36:M38) -> 0 | N39: =SUM(B39:M39) -> 426502.03
A40: Av. S. P Gst. | B40: =IF(B39="","",(B39/B32)) -> 2293.0217 | C40: =IF(C39="","",(C39/C32)) -> #DIV/0! | D40: =IF(D39="","",(D39/D32)) -> #DIV/0! | E40: =IF(E39="","",(E39/E32)) -> #DIV/0! | F40: =IF(F39="","",(F39/F32)) -> #DIV/0! | G40: =IF(G39="","",(G39/G32)) -> #DIV/0! | H40: =IF(H39="","",(H39/H32)) -> #DIV/0! | I40: =IF(I39="","",(I39/I32)) -> #DIV/0! | ... N40: =IF(N39="","",(N39/N32)) -> 2293.0217
...

Sheet Feb
A1: =Jan!A1 -> TOP 20 Producers
B3: Jan | C3: Feb | D3: Mar | E3: Apr | F3: May | G3: Jun | H3: Jul | I3: Aug | J3: Sep | K3: Oct | L3: Nov | M3: Dec | N3: Total
A4: Rm Nights | N4: =SUM(B4:M4) -> 0
A5: Av.R.R. | N5: =N10/N4 -> #DIV/0!
A6: # Of Guests | N6: =SUM(B6:M6) -> 0
A7: DBL Occ. | B7: =IF(B4=0,0,(B6/B4)) -> 0 | C7: =IF(C4=0,0,(C6/C4)) -> 0 | D7: =IF(D4=0,0,(D6/D4)) -> 0 | E7: =IF(E4=0,0,(E6/E4)) -> 0 | F7: =IF(F4=0,0,(F6/F4)) -> 0 | G7: =IF(G4=0,0,(G6/G4)) -> 0 | H7: =IF(H4=0,0,(H6/H4)) -> 0 | I7: =IF(I4=0,0,(I6/I4)) -> 0 | ... N7: =IF(N4=0,0,(N6/N4)) -> 0
A8: Arrivals | N8: =SUM(B8:M8) -> 0
A9: Length of stay | B9: =IF(B8="","",(B4/B8)) | C9: =IF(C8="","",(C4/C8)) | D9: =IF(D8="","",(D4/D8)) | E9: =IF(E8="","",(E4/E8)) | F9: =IF(F8="","",(F4/F8)) | G9: =IF(G8="","",(G4/G8)) | H9: =IF(H8="","",(H4/H8)) | I9: =IF(I8="","",(I4/I8)) | ... N9: =IF(N8="","",(N4/N8)) -> #DIV/0!
A10: Room Rev | B10: =B4*B5 -> 0 | C10: =C4*C5 -> 0 | D10: =D4*D5 -> 0 | E10: =E4*E5 -> 0 | F10: =F4*F5 -> 0 | G10: =G4*G5 -> 0 | H10: =H4*H5 -> 0 | I10: =I4*I5 -> 0 | ... M10: =M4*M5 -> 0 | N10: =SUM(B10:M10) -> 0
A11: F&B Rev | N11: =SUM(B11:M11) -> 0
A12: Extra Rev | N12: =SUM(B12:M12) -> 0
A13: TOTAL Rev | B13: =SUM(B10:B12) -> 0 | C13: =SUM(C10:C12) -> 0 | D13: =SUM(D10:D12) -> 0 | E13: =SUM(E10:E12) -> 0 | F13: =SUM(F10:F12) -> 0 | G13: =SUM(G10:G12) -> 0 | H13: =SUM(H10:H12) -> 0 | I13: =SUM(I10:I12) -> 0 | ... M13: =SUM(M10:M12) -> 0 | N13: =SUM(B13:M13) -> 0
A14: Av. S. P Gst. | B14: =IF(B13="","",(B13/B6)) -> #DIV/0! | C14: =IF(C13="","",(C13/C6)) -> #DIV/0! | D14: =IF(D13="","",(D13/D6)) -> #DIV/0! | E14: =IF(E13="","",(E13/E6)) -> #DIV/0! | F14: =IF(F13="","",(F13/F6)) -> #DIV/0! | G14: =IF(G13="","",(G13/G6)) -> #DIV/0! | H14: =IF(H13="","",(H13/H6)) -> #DIV/0! | I14: =IF(I13="","",(I13/I6)) -> #DIV/0! | ... N14: =IF(N13="","",(N13/N6)) -> #DIV/0!
B16: Jan | C16: Feb | D16: Mar | E16: Apr | F16: May | G16: Jun | H16: Jul | I16: Aug | J16: Sep | K16: Oct | L16: Nov | M16: Dec | N16: Total
A17: Rm Nights | N17: =SUM(B17:M17) -> 0
A18: Av.R.R. | N18: =N23/N17 -> #DIV/0!
A19: # Of Guests | N19: =SUM(B19:M19) -> 0
A20: DBL Occ. | B20: =IF(B17=0,0,(B19/B17)) -> 0 | C20: =IF(C17=0,0,(C19/C17)) -> 0 | D20: =IF(D17=0,0,(D19/D17)) -> 0 | E20: =IF(E17=0,0,(E19/E17)) -> 0 | F20: =IF(F17=0,0,(F19/F17)) -> 0 | G20: =IF(G17=0,0,(G19/G17)) -> 0 | H20: =IF(H17=0,0,(H19/H17)) -> 0 | I20: =IF(I17=0,0,(I19/I17)) -> 0 | ... N20: =IF(N17=0,0,(N19/N17)) -> 0
A21: Arrivals | N21: =SUM(B21:M21) -> 0
A22: Length of stay | B22: =IF(B21="","",(B17/B21)) | C22: =IF(C21="","",(C17/C21)) | D22: =IF(D21="","",(D17/D21)) | E22: =IF(E21="","",(E17/E21)) | F22: =IF(F21="","",(F17/F21)) | G22: =IF(G21="","",(G17/G21)) | H22: =IF(H21="","",(H17/H21)) | I22: =IF(I21="","",(I17/I21)) | ... N22: =IF(N21="","",(N17/N21)) -> #DIV/0!
A23: Room Rev | B23: =B17*B18 -> 0 | C23: =C17*C18 -> 0 | D23: =D17*D18 -> 0 | E23: =E17*E18 -> 0 | F23: =F17*F18 -> 0 | G23: =G17*G18 -> 0 | H23: =H17*H18 -> 0 | I23: =I17*I18 -> 0 | ... M23: =M17*M18 -> 0 | N23: =SUM(B23:M23) -> 0
A24: F&B Rev | N24: =SUM(B24:M24) -> 0
A25: Extra Rev | N25: =SUM(B25:M25) -> 0
A26: TOTAL Rev | B26: =SUM(B23:B25) -> 0 | C26: =SUM(C23:C25) -> 0 | D26: =SUM(D23:D25) -> 0 | E26: =SUM(E23:E25) -> 0 | F26: =SUM(F23:F25) -> 0 | G26: =SUM(G23:G25) -> 0 | H26: =SUM(H23:H25) -> 0 | I26: =SUM(I23:I25) -> 0 | ... M26: =SUM(M23:M25) -> 0 | N26: =SUM(B26:M26) -> 0
A27: Av. S. P Gst. | B27: =IF(B26="","",(B26/B19)) -> #DIV/0! | C27: =IF(C26="","",(C26/C19)) -> #DIV/0! | D27: =IF(D26="","",(D26/D19)) -> #DIV/0! | E27: =IF(E26="","",(E26/E19)) -> #DIV/0! | F27: =IF(F26="","",(F26/F19)) -> #DIV/0! | G27: =IF(G26="","",(G26/G19)) -> #DIV/0! | H27: =IF(H26="","",(H26/H19)) -> #DIV/0! | I27: =IF(I26="","",(I26/I19)) -> #DIV/0! | ... N27: =IF(N26="","",(N26/N19)) -> #DIV/0!
B29: Jan | C29: Feb | D29: Mar | E29: Apr | F29: May | G29: Jun | H29: Jul | I29: Aug | J29: Sep | K29: Oct | L29: Nov | M29: Dec | N29: Total
A30: Rm Nights | N30: =SUM(B30:M30) -> 0
A31: Av.R.R. | N31: =N36/N30 -> #DIV/0!
A32: # Of Guests | N32: =SUM(B32:M32) -> 0
A33: DBL Occ. | B33: =IF(B30=0,0,(B32/B30)) -> 0 | C33: =IF(C30=0,0,(C32/C30)) -> 0 | D33: =IF(D30=0,0,(D32/D30)) -> 0 | E33: =IF(E30=0,0,(E32/E30)) -> 0 | F33: =IF(F30=0,0,(F32/F30)) -> 0 | G33: =IF(G30=0,0,(G32/G30)) -> 0 | H33: =IF(H30=0,0,(H32/H30)) -> 0 | I33: =IF(I30=0,0,(I32/I30)) -> 0 | ... N33: =IF(N30=0,0,(N32/N30)) -> 0
A34: Arrivals | N34: =SUM(B34:M34) -> 0
A35: Length of stay | B35: =IF(B34="","",(B30/B34)) | C35: =IF(C34="","",(C30/C34)) | D35: =IF(D34="","",(D30/D34)) | E35: =IF(E34="","",(E30/E34)) | F35: =IF(F34="","",(F30/F34)) | G35: =IF(G34="","",(G30/G34)) | H35: =IF(H34="","",(H30/H34)) | I35: =IF(I34="","",(I30/I34)) | ... N35: =IF(N34="","",(N30/N34)) -> #DIV/0!
A36: Room Rev | B36: =B30*B31 -> 0 | C36: =C30*C31 -> 0 | D36: =D30*D31 -> 0 | E36: =E30*E31 -> 0 | F36: =F30*F31 -> 0 | G36: =G30*G31 -> 0 | H36: =H30*H31 -> 0 | I36: =I30*I31 -> 0 | ... M36: =M30*M31 -> 0 | N36: =SUM(B36:M36) -> 0
A37: F&B Rev | N37: =SUM(B37:M37) -> 0
A38: Extra Rev | N38: =SUM(B38:M38) -> 0
A39: TOTAL Rev | B39: =SUM(B36:B38) -> 0 | C39: =SUM(C36:C38) -> 0 | D39: =SUM(D36:D38) -> 0 | E39: =SUM(E36:E38) -> 0 | F39: =SUM(F36:F38) -> 0 | G39: =SUM(G36:G38) -> 0 | H39: =SUM(H36:H38) -> 0 | I39: =SUM(I36:I38) -> 0 | ... M39: =SUM(M36:M38) -> 0 | N39: =SUM(B39:M39) -> 0
A40: Av. S. P Gst. | B40: =IF(B39="","",(B39/B32)) -> #DIV/0! | C40: =IF(C39="","",(C39/C32)) -> #DIV/0! | D40: =IF(D39="","",(D39/D32)) -> #DIV/0! | E40: =IF(E39="","",(E39/E32)) -> #DIV/0! | F40: =IF(F39="","",(F39/F32)) -> #DIV/0! | G40: =IF(G39="","",(G39/G32)) -> #DIV/0! | H40: =IF(H39="","",(H39/H32)) -> #DIV/0! | I40: =IF(I39="","",(I39/I32)) -> #DIV/0! | ... N40: =IF(N39="","",(N39/N32)) -> #DIV/0!
B42: Jan | C42: Feb | D42: Mar | E42: Apr | F42: May | G42: Jun | H42: Jul | I42: Aug | J42: Sep | K42: Oct | L42: Nov | M42: Dec | N42: Total
A43: Rm Nights | N43: =SUM(B43:M43) -> 0
A44: Av.R.R. | N44: =N49/N43 -> #DIV/0!
...

Sheet Mar
A1: =Jan!A1 -> TOP 20 Producers
B3: Jan | C3: Feb | D3: Mar | E3: Apr | F3: May | G3: Jun | H3: Jul | I3: Aug | J3: Sep | K3: Oct | L3: Nov | M3: Dec | N3: Total
A4: Rm Nights | N4: =SUM(B4:M4) -> 0
A5: Av.R.R. | N5: =N10/N4 -> #DIV/0!
A6: # Of Guests | N6: =SUM(B6:M6) -> 0
A7: DBL Occ. | B7: =IF(B4=0,0,(B6/B4)) -> 0 | C7: =IF(C4=0,0,(C6/C4)) -> 0 | D7: =IF(D4=0,0,(D6/D4)) -> 0 | E7: =IF(E4=0,0,(E6/E4)) -> 0 | F7: =IF(F4=0,0,(F6/F4)) -> 0 | G7: =IF(G4=0,0,(G6/G4)) -> 0 | H7: =IF(H4=0,0,(H6/H4)) -> 0 | I7: =IF(I4=0,0,(I6/I4)) -> 0 | ... N7: =IF(N4=0,0,(N6/N4)) -> 0
A8: Arrivals | N8: =SUM(B8:M8) -> 0
A9: Length of stay | B9: =IF(B8="","",(B4/B8)) | C9: =IF(C8="","",(C4/C8)) | D9: =IF(D8="","",(D4/D8)) | E9: =IF(E8="","",(E4/E8)) | F9: =IF(F8="","",(F4/F8)) | G9: =IF(G8="","",(G4/G8)) | H9: =IF(H8="","",(H4/H8)) | I9: =IF(I8="","",(I4/I8)) | ... N9: =IF(N8="","",(N4/N8)) -> #DIV/0!
A10: Room Rev | B10: =B4*B5 -> 0 | C10: =C4*C5 -> 0 | D10: =D4*D5 -> 0 | E10: =E4*E5 -> 0 | F10: =F4*F5 -> 0 | G10: =G4*G5 -> 0 | H10: =H4*H5 -> 0 | I10: =I4*I5 -> 0 | ... M10: =M4*M5 -> 0 | N10: =SUM(B10:M10) -> 0
A11: F&B Rev | N11: =SUM(B11:M11) -> 0
A12: Extra Rev | N12: =SUM(B12:M12) -> 0
A13: TOTAL Rev | B13: =SUM(B10:B12) -> 0 | C13: =SUM(C10:C12) -> 0 | D13: =SUM(D10:D12) -> 0 | E13: =SUM(E10:E12) -> 0 | F13: =SUM(F10:F12) -> 0 | G13: =SUM(G10:G12) -> 0 | H13: =SUM(H10:H12) -> 0 | I13: =SUM(I10:I12) -> 0 | ... M13: =SUM(M10:M12) -> 0 | N13: =SUM(B13:M13) -> 0
A14: Av. S. P Gst. | B14: =IF(B13="","",(B13/B6)) -> #DIV/0! | C14: =IF(C13="","",(C13/C6)) -> #DIV/0! | D14: =IF(D13="","",(D13/D6)) -> #DIV/0! | E14: =IF(E13="","",(E13/E6)) -> #DIV/0! | F14: =IF(F13="","",(F13/F6)) -> #DIV/0! | G14: =IF(G13="","",(G13/G6)) -> #DIV/0! | H14: =IF(H13="","",(H13/H6)) -> #DIV/0! | I14: =IF(I13="","",(I13/I6)) -> #DIV/0! | ... N14: =IF(N13="","",(N13/N6)) -> #DIV/0!
B16: Jan | C16: Feb | D16: Mar | E16: Apr | F16: May | G16: Jun | H16: Jul | I16: Aug | J16: Sep | K16: Oct | L16: Nov | M16: Dec | N16: Total
A17: Rm Nights | N17: =SUM(B17:M17) -> 0
A18: Av.R.R. | N18: =N23/N17 -> #DIV/0!
A19: # Of Guests | N19: =SUM(B19:M19) -> 0
A20: DBL Occ. | B20: =IF(B17=0,0,(B19/B17)) -> 0 | C20: =IF(C17=0,0,(C19/C17)) -> 0 | D20: =IF(D17=0,0,(D19/D17)) -> 0 | E20: =IF(E17=0,0,(E19/E17)) -> 0 | F20: =IF(F17=0,0,(F19/F17)) -> 0 | G20: =IF(G17=0,0,(G19/G17)) -> 0 | H20: =IF(H17=0,0,(H19/H17)) -> 0 | I20: =IF(I17=0,0,(I19/I17)) -> 0 | ... N20: =IF(N17=0,0,(N19/N17)) -> 0
A21: Arrivals | N21: =SUM(B21:M21) -> 0
A22: Length of stay | B22: =IF(B21="","",(B17/B21)) | C22: =IF(C21="","",(C17/C21)) | D22: =IF(D21="","",(D17/D21)) | E22: =IF(E21="","",(E17/E21)) | F22: =IF(F21="","",(F17/F21)) | G22: =IF(G21="","",(G17/G21)) | H22: =IF(H21="","",(H17/H21)) | I22: =IF(I21="","",(I17/I21)) | ... N22: =IF(N21="","",(N17/N21)) -> #DIV/0!
A23: Room Rev | B23: =B17*B18 -> 0 | C23: =C17*C18 -> 0 | D23: =D17*D18 -> 0 | E23: =E17*E18 -> 0 | F23: =F17*F18 -> 0 | G23: =G17*G18 -> 0 | H23: =H17*H18 -> 0 | I23: =I17*I18 -> 0 | ... M23: =M17*M18 -> 0 | N23: =SUM(B23:M23) -> 0
A24: F&B Rev | N24: =SUM(B24:M24) -> 0
A25: Extra Rev | N25: =SUM(B25:M25) -> 0
A26: TOTAL Rev | B26: =SUM(B23:B25) -> 0 | C26: =SUM(C23:C25) -> 0 | D26: =SUM(D23:D25) -> 0 | E26: =SUM(E23:E25) -> 0 | F26: =SUM(F23:F25) -> 0 | G26: =SUM(G23:G25) -> 0 | H26: =SUM(H23:H25) -> 0 | I26: =SUM(I23:I25) -> 0 | ... M26: =SUM(M23:M25) -> 0 | N26: =SUM(B26:M26) -> 0
A27: Av. S. P Gst. | B27: =IF(B26="","",(B26/B19)) -> #DIV/0! | C27: =IF(C26="","",(C26/C19)) -> #DIV/0! | D27: =IF(D26="","",(D26/D19)) -> #DIV/0! | E27: =IF(E26="","",(E26/E19)) -> #DIV/0! | F27: =IF(F26="","",(F26/F19)) -> #DIV/0! | G27: =IF(G26="","",(G26/G19)) -> #DIV/0! | H27: =IF(H26="","",(H26/H19)) -> #DIV/0! | I27: =IF(I26="","",(I26/I19)) -> #DIV/0! | ... N27: =IF(N26="","",(N26/N19)) -> #DIV/0!
B29: Jan | C29: Feb | D29: Mar | E29: Apr | F29: May | G29: Jun | H29: Jul | I29: Aug | J29: Sep | K29: Oct | L29: Nov | M29: Dec | N29: Total
A30: Rm Nights | N30: =SUM(B30:M30) -> 0
A31: Av.R.R. | N31: =N36/N30 -> #DIV/0!
A32: # Of Guests | N32: =SUM(B32:M32) -> 0
A33: DBL Occ. | B33: =IF(B30=0,0,(B32/B30)) -> 0 | C33: =IF(C30=0,0,(C32/C30)) -> 0 | D33: =IF(D30=0,0,(D32/D30)) -> 0 | E33: =IF(E30=0,0,(E32/E30)) -> 0 | F33: =IF(F30=0,0,(F32/F30)) -> 0 | G33: =IF(G30=0,0,(G32/G30)) -> 0 | H33: =IF(H30=0,0,(H32/H30)) -> 0 | I33: =IF(I30=0,0,(I32/I30)) -> 0 | ... N33: =IF(N30=0,0,(N32/N30)) -> 0
A34: Arrivals | N34: =SUM(B34:M34) -> 0
A35: Length of stay | B35: =IF(B34="","",(B30/B34)) | C35: =IF(C34="","",(C30/C34)) | D35: =IF(D34="","",(D30/D34)) | E35: =IF(E34="","",(E30/E34)) | F35: =IF(F34="","",(F30/F34)) | G35: =IF(G34="","",(G30/G34)) | H35: =IF(H34="","",(H30/H34)) | I35: =IF(I34="","",(I30/I34)) | ... N35: =IF(N34="","",(N30/N34)) -> #DIV/0!
A36: Room Rev | B36: =B30*B31 -> 0 | C36: =C30*C31 -> 0 | D36: =D30*D31 -> 0 | E36: =E30*E31 -> 0 | F36: =F30*F31 -> 0 | G36: =G30*G31 -> 0 | H36: =H30*H31 -> 0 | I36: =I30*I31 -> 0 | ... M36: =M30*M31 -> 0 | N36: =SUM(B36:M36) -> 0
A37: F&B Rev | N37: =SUM(B37:M37) -> 0
A38: Extra Rev | N38: =SUM(B38:M38) -> 0
A39: TOTAL Rev | B39: =SUM(B36:B38) -> 0 | C39: =SUM(C36:C38) -> 0 | D39: =SUM(D36:D38) -> 0 | E39: =SUM(E36:E38) -> 0 | F39: =SUM(F36:F38) -> 0 | G39: =SUM(G36:G38) -> 0 | H39: =SUM(H36:H38) -> 0 | I39: =SUM(I36:I38) -> 0 | ... M39: =SUM(M36:M38) -> 0 | N39: =SUM(B39:M39) -> 0
A40: Av. S. P Gst. | B40: =IF(B39="","",(B39/B32)) -> #DIV/0! | C40: =IF(C39="","",(C39/C32)) -> #DIV/0! | D40: =IF(D39="","",(D39/D32)) -> #DIV/0! | E40: =IF(E39="","",(E39/E32)) -> #DIV/0! | F40: =IF(F39="","",(F39/F32)) -> #DIV/0! | G40: =IF(G39="","",(G39/G32)) -> #DIV/0! | H40: =IF(H39="","",(H39/H32)) -> #DIV/0! | I40: =IF(I39="","",(I39/I32)) -> #DIV/0! | ... N40: =IF(N39="","",(N39/N32)) -> #DIV/0!
B42: Jan | C42: Feb | D42: Mar | E42: Apr | F42: May | G42: Jun | H42: Jul | I42: Aug | J42: Sep | K42: Oct | L42: Nov | M42: Dec | N42: Total
A43: Rm Nights | N43: =SUM(B43:M43) -> 0
A44: Av.R.R. | N44: =N49/N43 -> #DIV/0!
...

Sheet Apr
A1: =Jan!A1 -> TOP 20 Producers
B3: Jan | C3: Feb | D3: Mar | E3: Apr | F3: May | G3: Jun | H3: Jul | I3: Aug | J3: Sep | K3: Oct | L3: Nov | M3: Dec | N3: Total
A4: Rm Nights | N4: =SUM(B4:M4) -> 0
A5: Av.R.R. | N5: =N10/N4 -> #DIV/0!
A6: # Of Guests | N6: =SUM(B6:M6) -> 0
A7: DBL Occ. | B7: =IF(B4=0,0,(B6/B4)) -> 0 | C7: =IF(C4=0,0,(C6/C4)) -> 0 | D7: =IF(D4=0,0,(D6/D4)) -> 0 | E7: =IF(E4=0,0,(E6/E4)) -> 0 | F7: =IF(F4=0,0,(F6/F4)) -> 0 | G7: =IF(G4=0,0,(G6/G4)) -> 0 | H7: =IF(H4=0,0,(H6/H4)) -> 0 | I7: =IF(I4=0,0,(I6/I4)) -> 0 | ... N7: =IF(N4=0,0,(N6/N4)) -> 0
A8: Arrivals | N8: =SUM(B8:M8) -> 0
A9: Length of stay | B9: =IF(B8="","",(B4/B8)) | C9: =IF(C8="","",(C4/C8)) | D9: =IF(D8="","",(D4/D8)) | E9: =IF(E8="","",(E4/E8)) | F9: =IF(F8="","",(F4/F8)) | G9: =IF(G8="","",(G4/G8)) | H9: =IF(H8="","",(H4/H8)) | I9: =IF(I8="","",(I4/I8)) | ... N9: =IF(N8="","",(N4/N8)) -> #DIV/0!
A10: Room Rev | B10: =B4*B5 -> 0 | C10: =C4*C5 -> 0 | D10: =D4*D5 -> 0 | E10: =E4*E5 -> 0 | F10: =F4*F5 -> 0 | G10: =G4*G5 -> 0 | H10: =H4*H5 -> 0 | I10: =I4*I5 -> 0 | ... M10: =M4*M5 -> 0 | N10: =SUM(B10:M10) -> 0
A11: F&B Rev | N11: =SUM(B11:M11) -> 0
A12: Extra Rev | N12: =SUM(B12:M12) -> 0
A13: TOTAL Rev | B13: =SUM(B10:B12) -> 0 | C13: =SUM(C10:C12) -> 0 | D13: =SUM(D10:D12) -> 0 | E13: =SUM(E10:E12) -> 0 | F13: =SUM(F10:F12) -> 0 | G13: =SUM(G10:G12) -> 0 | H13: =SUM(H10:H12) -> 0 | I13: =SUM(I10:I12) -> 0 | ... M13: =SUM(M10:M12) -> 0 | N13: =SUM(B13:M13) -> 0
A14: Av. S. P Gst. | B14: =IF(B13="","",(B13/B6)) -> #DIV/0! | C14: =IF(C13="","",(C13/C6)) -> #DIV/0! | D14: =IF(D13="","",(D13/D6)) -> #DIV/0! | E14: =IF(E13="","",(E13/E6)) -> #DIV/0! | F14: =IF(F13="","",(F13/F6)) -> #DIV/0! | G14: =IF(G13="","",(G13/G6)) -> #DIV/0! | H14: =IF(H13="","",(H13/H6)) -> #DIV/0! | I14: =IF(I13="","",(I13/I6)) -> #DIV/0! | ... N14: =IF(N13="","",(N13/N6)) -> #DIV/0!
B16: Jan | C16: Feb | D16: Mar | E16: Apr | F16: May | G16: Jun | H16: Jul | I16: Aug | J16: Sep | K16: Oct | L16: Nov | M16: Dec | N16: Total
A17: Rm Nights | N17: =SUM(B17:M17) -> 0
A18: Av.R.R. | N18: =N23/N17 -> #DIV/0!
A19: # Of Guests | N19: =SUM(B19:M19) -> 0
A20: DBL Occ. | B20: =IF(B17=0,0,(B19/B17)) -> 0 | C20: =IF(C17=0,0,(C19/C17)) -> 0 | D20: =IF(D17=0,0,(D19/D17)) -> 0 | E20: =IF(E17=0,0,(E19/E17)) -> 0 | F20: =IF(F17=0,0,(F19/F17)) -> 0 | G20: =IF(G17=0,0,(G19/G17)) -> 0 | H20: =IF(H17=0,0,(H19/H17)) -> 0 | I20: =IF(I17=0,0,(I19/I17)) -> 0 | ... N20: =IF(N17=0,0,(N19/N17)) -> 0
A21: Arrivals | N21: =SUM(B21:M21) -> 0
A22: Length of stay | B22: =IF(B21="","",(B17/B21)) | C22: =IF(C21="","",(C17/C21)) | D22: =IF(D21="","",(D17/D21)) | E22: =IF(E21="","",(E17/E21)) | F22: =IF(F21="","",(F17/F21)) | G22: =IF(G21="","",(G17/G21)) | H22: =IF(H21="","",(H17/H21)) | I22: =IF(I21="","",(I17/I21)) | ... N22: =IF(N21="","",(N17/N21)) -> #DIV/0!
A23: Room Rev | B23: =B17*B18 -> 0 | C23: =C17*C18 -> 0 | D23: =D17*D18 -> 0 | E23: =E17*E18 -> 0 | F23: =F17*F18 -> 0 | G23: =G17*G18 -> 0 | H23: =H17*H18 -> 0 | I23: =I17*I18 -> 0 | ... M23: =M17*M18 -> 0 | N23: =SUM(B23:M23) -> 0
A24: F&B Rev | N24: =SUM(B24:M24) -> 0
A25: Extra Rev | N25: =SUM(B25:M25) -> 0
A26: TOTAL Rev | B26: =SUM(B23:B25) -> 0 | C26: =SUM(C23:C25) -> 0 | D26: =SUM(D23:D25) -> 0 | E26: =SUM(E23:E25) -> 0 | F26: =SUM(F23:F25) -> 0 | G26: =SUM(G23:G25) -> 0 | H26: =SUM(H23:H25) -> 0 | I26: =SUM(I23:I25) -> 0 | ... M26: =SUM(M23:M25) -> 0 | N26: =SUM(B26:M26) -> 0
A27: Av. S. P Gst. | B27: =IF(B26="","",(B26/B19)) -> #DIV/0! | C27: =IF(C26="","",(C26/C19)) -> #DIV/0! | D27: =IF(D26="","",(D26/D19)) -> #DIV/0! | E27: =IF(E26="","",(E26/E19)) -> #DIV/0! | F27: =IF(F26="","",(F26/F19)) -> #DIV/0! | G27: =IF(G26="","",(G26/G19)) -> #DIV/0! | H27: =IF(H26="","",(H26/H19)) -> #DIV/0! | I27: =IF(I26="","",(I26/I19)) -> #DIV/0! | ... N27: =IF(N26="","",(N26/N19)) -> #DIV/0!
B29: Jan | C29: Feb | D29: Mar | E29: Apr | F29: May | G29: Jun | H29: Jul | I29: Aug | J29: Sep | K29: Oct | L29: Nov | M29: Dec | N29: Total
A30: Rm Nights | N30: =SUM(B30:M30) -> 0
A31: Av.R.R. | N31: =N36/N30 -> #DIV/0!
A32: # Of Guests | N32: =SUM(B32:M32) -> 0
A33: DBL Occ. | B33: =IF(B30=0,0,(B32/B30)) -> 0 | C33: =IF(C30=0,0,(C32/C30)) -> 0 | D33: =IF(D30=0,0,(D32/D30)) -> 0 | E33: =IF(E30=0,0,(E32/E30)) -> 0 | F33: =IF(F30=0,0,(F32/F30)) -> 0 | G33: =IF(G30=0,0,(G32/G30)) -> 0 | H33: =IF(H30=0,0,(H32/H30)) -> 0 | I33: =IF(I30=0,0,(I32/I30)) -> 0 | ... N33: =IF(N30=0,0,(N32/N30)) -> 0
A34: Arrivals | N34: =SUM(B34:M34) -> 0
A35: Length of stay | B35: =IF(B34="","",(B30/B34)) | C35: =IF(C34="","",(C30/C34)) | D35: =IF(D34="","",(D30/D34)) | E35: =IF(E34="","",(E30/E34)) | F35: =IF(F34="","",(F30/F34)) | G35: =IF(G34="","",(G30/G34)) | H35: =IF(H34="","",(H30/H34)) | I35: =IF(I34="","",(I30/I34)) | ... N35: =IF(N34="","",(N30/N34)) -> #DIV/0!
A36: Room Rev | B36: =B30*B31 -> 0 | C36: =C30*C31 -> 0 | D36: =D30*D31 -> 0 | E36: =E30*E31 -> 0 | F36: =F30*F31 -> 0 | G36: =G30*G31 -> 0 | H36: =H30*H31 -> 0 | I36: =I30*I31 -> 0 | ... M36: =M30*M31 -> 0 | N36: =SUM(B36:M36) -> 0
A37: F&B Rev | N37: =SUM(B37:M37) -> 0
A38: Extra Rev | N38: =SUM(B38:M38) -> 0
A39: TOTAL Rev | B39: =SUM(B36:B38) -> 0 | C39: =SUM(C36:C38) -> 0 | D39: =SUM(D36:D38) -> 0 | E39: =SUM(E36:E38) -> 0 | F39: =SUM(F36:F38) -> 0 | G39: =SUM(G36:G38) -> 0 | H39: =SUM(H36:H38) -> 0 | I39: =SUM(I36:I38) -> 0 | ... M39: =SUM(M36:M38) -> 0 | N39: =SUM(B39:M39) -> 0
A40: Av. S. P Gst. | B40: =IF(B39="","",(B39/B32)) -> #DIV/0! | C40: =IF(C39="","",(C39/C32)) -> #DIV/0! | D40: =IF(D39="","",(D39/D32)) -> #DIV/0! | E40: =IF(E39="","",(E39/E32)) -> #DIV/0! | F40: =IF(F39="","",(F39/F32)) -> #DIV/0! | G40: =IF(G39="","",(G39/G32)) -> #DIV/0! | H40: =IF(H39="","",(H39/H32)) -> #DIV/0! | I40: =IF(I39="","",(I39/I32)) -> #DIV/0! | ... N40: =IF(N39="","",(N39/N32)) -> #DIV/0!
B42: Jan | C42: Feb | D42: Mar | E42: Apr | F42: May | G42: Jun | H42: Jul | I42: Aug | J42: Sep | K42: Oct | L42: Nov | M42: Dec | N42: Total
A43: Rm Nights | N43: =SUM(B43:M43) -> 0
A44: Av.R.R. | N44: =N49/N43 -> #DIV/0!
...

Sheet May
A1: =Jan!A1 -> TOP 20 Producers
B3: Jan | C3: Feb | D3: Mar | E3: Apr | F3: May | G3: Jun | H3: Jul | I3: Aug | J3: Sep | K3: Oct | L3: Nov | M3: Dec | N3: Total
A4: Rm Nights | N4: =SUM(B4:M4) -> 0
A5: Av.R.R. | N5: =N10/N4 -> #DIV/0!
A6: # Of Guests | N6: =SUM(B6:M6) -> 0
A7: DBL Occ. | B7: =IF(B4=0,0,(B6/B4)) -> 0 | C7: =IF(C4=0,0,(C6/C4)) -> 0 | D7: =IF(D4=0,0,(D6/D4)) -> 0 | E7: =IF(E4=0,0,(E6/E4)) -> 0 | F7: =IF(F4=0,0,(F6/F4)) -> 0 | G7: =IF(G4=0,0,(G6/G4)) -> 0 | H7: =IF(H4=0,0,(H6/H4)) -> 0 | I7: =IF(I4=0,0,(I6/I4)) -> 0 | ... N7: =IF(N4=0,0,(N6/N4)) -> 0
A8: Arrivals | N8: =SUM(B8:M8) -> 0
A9: Length of stay | B9: =IF(B8="","",(B4/B8)) | C9: =IF(C8="","",(C4/C8)) | D9: =IF(D8="","",(D4/D8)) | E9: =IF(E8="","",(E4/E8)) | F9: =IF(F8="","",(F4/F8)) | G9: =IF(G8="","",(G4/G8)) | H9: =IF(H8="","",(H4/H8)) | I9: =IF(I8="","",(I4/I8)) | ... N9: =IF(N8="","",(N4/N8)) -> #DIV/0!
A10: Room Rev | B10: =B4*B5 -> 0 | C10: =C4*C5 -> 0 | D10: =D4*D5 -> 0 | E10: =E4*E5 -> 0 | F10: =F4*F5 -> 0 | G10: =G4*G5 -> 0 | H10: =H4*H5 -> 0 | I10: =I4*I5 -> 0 | ... M10: =M4*M5 -> 0 | N10: =SUM(B10:M10) -> 0
A11: F&B Rev | N11: =SUM(B11:M11) -> 0
A12: Extra Rev | N12: =SUM(B12:M12) -> 0
A13: TOTAL Rev | B13: =SUM(B10:B12) -> 0 | C13: =SUM(C10:C12) -> 0 | D13: =SUM(D10:D12) -> 0 | E13: =SUM(E10:E12) -> 0 | F13: =SUM(F10:F12) -> 0 | G13: =SUM(G10:G12) -> 0 | H13: =SUM(H10:H12) -> 0 | I13: =SUM(I10:I12) -> 0 | ... M13: =SUM(M10:M12) -> 0 | N13: =SUM(B13:M13) -> 0
A14: Av. S. P Gst. | B14: =IF(B13="","",(B13/B6)) -> #DIV/0! | C14: =IF(C13="","",(C13/C6)) -> #DIV/0! | D14: =IF(D13="","",(D13/D6)) -> #DIV/0! | E14: =IF(E13="","",(E13/E6)) -> #DIV/0! | F14: =IF(F13="","",(F13/F6)) -> #DIV/0! | G14: =IF(G13="","",(G13/G6)) -> #DIV/0! | H14: =IF(H13="","",(H13/H6)) -> #DIV/0! | I14: =IF(I13="","",(I13/I6)) -> #DIV/0! | ... N14: =IF(N13="","",(N13/N6)) -> #DIV/0!
B16: Jan | C16: Feb | D16: Mar | E16: Apr | F16: May | G16: Jun | H16: Jul | I16: Aug | J16: Sep | K16: Oct | L16: Nov | M16: Dec | N16: Total
A17: Rm Nights | N17: =SUM(B17:M17) -> 0
A18: Av.R.R. | N18: =N23/N17 -> #DIV/0!
A19: # Of Guests | N19: =SUM(B19:M19) -> 0
A20: DBL Occ. | B20: =IF(B17=0,0,(B19/B17)) -> 0 | C20: =IF(C17=0,0,(C19/C17)) -> 0 | D20: =IF(D17=0,0,(D19/D17)) -> 0 | E20: =IF(E17=0,0,(E19/E17)) -> 0 | F20: =IF(F17=0,0,(F19/F17)) -> 0 | G20: =IF(G17=0,0,(G19/G17)) -> 0 | H20: =IF(H17=0,0,(H19/H17)) -> 0 | I20: =IF(I17=0,0,(I19/I17)) -> 0 | ... N20: =IF(N17=0,0,(N19/N17)) -> 0
A21: Arrivals | N21: =SUM(B21:M21) -> 0
A22: Length of stay | B22: =IF(B21="","",(B17/B21)) | C22: =IF(C21="","",(C17/C21)) | D22: =IF(D21="","",(D17/D21)) | E22: =IF(E21="","",(E17/E21)) | F22: =IF(F21="","",(F17/F21)) | G22: =IF(G21="","",(G17/G21)) | H22: =IF(H21="","",(H17/H21)) | I22: =IF(I21="","",(I17/I21)) | ... N22: =IF(N21="","",(N17/N21)) -> #DIV/0!
A23: Room Rev | B23: =B17*B18 -> 0 | C23: =C17*C18 -> 0 | D23: =D17*D18 -> 0 | E23: =E17*E18 -> 0 | F23: =F17*F18 -> 0 | G23: =G17*G18 -> 0 | H23: =H17*H18 -> 0 | I23: =I17*I18 -> 0 | ... M23: =M17*M18 -> 0 | N23: =SUM(B23:M23) -> 0
A24: F&B Rev | N24: =SUM(B24:M24) -> 0
A25: Extra Rev | N25: =SUM(B25:M25) -> 0
A26: TOTAL Rev | B26: =SUM(B23:B25) -> 0 | C26: =SUM(C23:C25) -> 0 | D26: =SUM(D23:D25) -> 0 | E26: =SUM(E23:E25) -> 0 | F26: =SUM(F23:F25) -> 0 | G26: =SUM(G23:G25) -> 0 | H26: =SUM(H23:H25) -> 0 | I26: =SUM(I23:I25) -> 0 | ... M26: =SUM(M23:M25) -> 0 | N26: =SUM(B26:M26) -> 0
A27: Av. S. P Gst. | B27: =IF(B26="","",(B26/B19)) -> #DIV/0! | C27: =IF(C26="","",(C26/C19)) -> #DIV/0! | D27: =IF(D26="","",(D26/D19)) -> #DIV/0! | E27: =IF(E26="","",(E26/E19)) -> #DIV/0! | F27: =IF(F26="","",(F26/F19)) -> #DIV/0! | G27: =IF(G26="","",(G26/G19)) -> #DIV/0! | H27: =IF(H26="","",(H26/H19)) -> #DIV/0! | I27: =IF(I26="","",(I26/I19)) -> #DIV/0! | ... N27: =IF(N26="","",(N26/N19)) -> #DIV/0!
B29: Jan | C29: Feb | D29: Mar | E29: Apr | F29: May | G29: Jun | H29: Jul | I29: Aug | J29: Sep | K29: Oct | L29: Nov | M29: Dec | N29: Total
A30: Rm Nights | N30: =SUM(B30:M30) -> 0
A31: Av.R.R. | N31: =N36/N30 -> #DIV/0!
A32: # Of Guests | N32: =SUM(B32:M32) -> 0
A33: DBL Occ. | B33: =IF(B30=0,0,(B32/B30)) -> 0 | C33: =IF(C30=0,0,(C32/C30)) -> 0 | D33: =IF(D30=0,0,(D32/D30)) -> 0 | E33: =IF(E30=0,0,(E32/E30)) -> 0 | F33: =IF(F30=0,0,(F32/F30)) -> 0 | G33: =IF(G30=0,0,(G32/G30)) -> 0 | H33: =IF(H30=0,0,(H32/H30)) -> 0 | I33: =IF(I30=0,0,(I32/I30)) -> 0 | ... N33: =IF(N30=0,0,(N32/N30)) -> 0
A34: Arrivals | N34: =SUM(B34:M34) -> 0
A35: Length of stay | B35: =IF(B34="","",(B30/B34)) | C35: =IF(C34="","",(C30/C34)) | D35: =IF(D34="","",(D30/D34)) | E35: =IF(E34="","",(E30/E34)) | F35: =IF(F34="","",(F30/F34)) | G35: =IF(G34="","",(G30/G34)) | H35: =IF(H34="","",(H30/H34)) | I35: =IF(I34="","",(I30/I34)) | ... N35: =IF(N34="","",(N30/N34)) -> #DIV/0!
A36: Room Rev | B36: =B30*B31 -> 0 | C36: =C30*C31 -> 0 | D36: =D30*D31 -> 0 | E36: =E30*E31 -> 0 | F36: =F30*F31 -> 0 | G36: =G30*G31 -> 0 | H36: =H30*H31 -> 0 | I36: =I30*I31 -> 0 | ... M36: =M30*M31 -> 0 | N36: =SUM(B36:M36) -> 0
A37: F&B Rev | N37: =SUM(B37:M37) -> 0
A38: Extra Rev | N38: =SUM(B38:M38) -> 0
A39: TOTAL Rev | B39: =SUM(B36:B38) -> 0 | C39: =SUM(C36:C38) -> 0 | D39: =SUM(D36:D38) -> 0 | E39: =SUM(E36:E38) -> 0 | F39: =SUM(F36:F38) -> 0 | G39: =SUM(G36:G38) -> 0 | H39: =SUM(H36:H38) -> 0 | I39: =SUM(I36:I38) -> 0 | ... M39: =SUM(M36:M38) -> 0 | N39: =SUM(B39:M39) -> 0
A40: Av. S. P Gst. | B40: =IF(B39="","",(B39/B32)) -> #DIV/0! | C40: =IF(C39="","",(C39/C32)) -> #DIV/0! | D40: =IF(D39="","",(D39/D32)) -> #DIV/0! | E40: =IF(E39="","",(E39/E32)) -> #DIV/0! | F40: =IF(F39="","",(F39/F32)) -> #DIV/0! | G40: =IF(G39="","",(G39/G32)) -> #DIV/0! | H40: =IF(H39="","",(H39/H32)) -> #DIV/0! | I40: =IF(I39="","",(I39/I32)) -> #DIV/0! | ... N40: =IF(N39="","",(N39/N32)) -> #DIV/0!
B42: Jan | C42: Feb | D42: Mar | E42: Apr | F42: May | G42: Jun | H42: Jul | I42: Aug | J42: Sep | K42: Oct | L42: Nov | M42: Dec | N42: Total
A43: Rm Nights | N43: =SUM(B43:M43) -> 0
A44: Av.R.R. | N44: =N49/N43 -> #DIV/0!
...

Sheet Jun
A1: =Jan!A1 -> TOP 20 Producers
B3: Jan | C3: Feb | D3: Mar | E3: Apr | F3: May | G3: Jun | H3: Jul | I3: Aug | J3: Sep | K3: Oct | L3: Nov | M3: Dec | N3: Total
A4: Rm Nights | N4: =SUM(B4:M4) -> 0
A5: Av.R.R. | N5: =N10/N4 -> #DIV/0!
A6: # Of Guests | N6: =SUM(B6:M6) -> 0
A7: DBL Occ. | B7: =IF(B4=0,0,(B6/B4)) -> 0 | C7: =IF(C4=0,0,(C6/C4)) -> 0 | D7: =IF(D4=0,0,(D6/D4)) -> 0 | E7: =IF(E4=0,0,(E6/E4)) -> 0 | F7: =IF(F4=0,0,(F6/F4)) -> 0 | G7: =IF(G4=0,0,(G6/G4)) -> 0 | H7: =IF(H4=0,0,(H6/H4)) -> 0 | I7: =IF(I4=0,0,(I6/I4)) -> 0 | ... N7: =IF(N4=0,0,(N6/N4)) -> 0
A8: Arrivals | N8: =SUM(B8:M8) -> 0
A9: Length of stay | B9: =IF(B8="","",(B4/B8)) | C9: =IF(C8="","",(C4/C8)) | D9: =IF(D8="","",(D4/D8)) | E9: =IF(E8="","",(E4/E8)) | F9: =IF(F8="","",(F4/F8)) | G9: =IF(G8="","",(G4/G8)) | H9: =IF(H8="","",(H4/H8)) | I9: =IF(I8="","",(I4/I8)) | ... N9: =IF(N8="","",(N4/N8)) -> #DIV/0!
A10: Room Rev | B10: =B4*B5 -> 0 | C10: =C4*C5 -> 0 | D10: =D4*D5 -> 0 | E10: =E4*E5 -> 0 | F10: =F4*F5 -> 0 | G10: =G4*G5 -> 0 | H10: =H4*H5 -> 0 | I10: =I4*I5 -> 0 | ... M10: =M4*M5 -> 0 | N10: =SUM(B10:M10) -> 0
A11: F&B Rev | N11: =SUM(B11:M11) -> 0
A12: Extra Rev | N12: =SUM(B12:M12) -> 0
A13: TOTAL Rev | B13: =SUM(B10:B12) -> 0 | C13: =SUM(C10:C12) -> 0 | D13: =SUM(D10:D12) -> 0 | E13: =SUM(E10:E12) -> 0 | F13: =SUM(F10:F12) -> 0 | G13: =SUM(G10:G12) -> 0 | H13: =SUM(H10:H12) -> 0 | I13: =SUM(I10:I12) -> 0 | ... M13: =SUM(M10:M12) -> 0 | N13: =SUM(B13:M13) -> 0
A14: Av. S. P Gst. | B14: =IF(B13="","",(B13/B6)) -> #DIV/0! | C14: =IF(C13="","",(C13/C6)) -> #DIV/0! | D14: =IF(D13="","",(D13/D6)) -> #DIV/0! | E14: =IF(E13="","",(E13/E6)) -> #DIV/0! | F14: =IF(F13="","",(F13/F6)) -> #DIV/0! | G14: =IF(G13="","",(G13/G6)) -> #DIV/0! | H14: =IF(H13="","",(H13/H6)) -> #DIV/0! | I14: =IF(I13="","",(I13/I6)) -> #DIV/0! | ... N14: =IF(N13="","",(N13/N6)) -> #DIV/0!
B16: Jan | C16: Feb | D16: Mar | E16: Apr | F16: May | G16: Jun | H16: Jul | I16: Aug | J16: Sep | K16: Oct | L16: Nov | M16: Dec | N16: Total
A17: Rm Nights | N17: =SUM(B17:M17) -> 0
A18: Av.R.R. | N18: =N23/N17 -> #DIV/0!
A19: # Of Guests | N19: =SUM(B19:M19) -> 0
A20: DBL Occ. | B20: =IF(B17=0,0,(B19/B17)) -> 0 | C20: =IF(C17=0,0,(C19/C17)) -> 0 | D20: =IF(D17=0,0,(D19/D17)) -> 0 | E20: =IF(E17=0,0,(E19/E17)) -> 0 | F20: =IF(F17=0,0,(F19/F17)) -> 0 | G20: =IF(G17=0,0,(G19/G17)) -> 0 | H20: =IF(H17=0,0,(H19/H17)) -> 0 | I20: =IF(I17=0,0,(I19/I17)) -> 0 | ... N20: =IF(N17=0,0,(N19/N17)) -> 0
A21: Arrivals | N21: =SUM(B21:M21) -> 0
A22: Length of stay | B22: =IF(B21="","",(B17/B21)) | C22: =IF(C21="","",(C17/C21)) | D22: =IF(D21="","",(D17/D21)) | E22: =IF(E21="","",(E17/E21)) | F22: =IF(F21="","",(F17/F21)) | G22: =IF(G21="","",(G17/G21)) | H22: =IF(H21="","",(H17/H21)) | I22: =IF(I21="","",(I17/I21)) | ... N22: =IF(N21="","",(N17/N21)) -> #DIV/0!
A23: Room Rev | B23: =B17*B18 -> 0 | C23: =C17*C18 -> 0 | D23: =D17*D18 -> 0 | E23: =E17*E18 -> 0 | F23: =F17*F18 -> 0 | G23: =G17*G18 -> 0 | H23: =H17*H18 -> 0 | I23: =I17*I18 -> 0 | ... M23: =M17*M18 -> 0 | N23: =SUM(B23:M23) -> 0
A24: F&B Rev | N24: =SUM(B24:M24) -> 0
A25: Extra Rev | N25: =SUM(B25:M25) -> 0
A26: TOTAL Rev | B26: =SUM(B23:B25) -> 0 | C26: =SUM(C23:C25) -> 0 | D26: =SUM(D23:D25) -> 0 | E26: =SUM(E23:E25) -> 0 | F26: =SUM(F23:F25) -> 0 | G26: =SUM(G23:G25) -> 0 | H26: =SUM(H23:H25) -> 0 | I26: =SUM(I23:I25) -> 0 | ... M26: =SUM(M23:M25) -> 0 | N26: =SUM(B26:M26) -> 0
A27: Av. S. P Gst. | B27: =IF(B26="","",(B26/B19)) -> #DIV/0! | C27: =IF(C26="","",(C26/C19)) -> #DIV/0! | D27: =IF(D26="","",(D26/D19)) -> #DIV/0! | E27: =IF(E26="","",(E26/E19)) -> #DIV/0! | F27: =IF(F26="","",(F26/F19)) -> #DIV/0! | G27: =IF(G26="","",(G26/G19)) -> #DIV/0! | H27: =IF(H26="","",(H26/H19)) -> #DIV/0! | I27: =IF(I26="","",(I26/I19)) -> #DIV/0! | ... N27: =IF(N26="","",(N26/N19)) -> #DIV/0!
B29: Jan | C29: Feb | D29: Mar | E29: Apr | F29: May | G29: Jun | H29: Jul | I29: Aug | J29: Sep | K29: Oct | L29: Nov | M29: Dec | N29: Total
A30: Rm Nights | N30: =SUM(B30:M30) -> 0
A31: Av.R.R. | N31: =N36/N30 -> #DIV/0!
A32: # Of Guests | N32: =SUM(B32:M32) -> 0
A33: DBL Occ. | B33: =IF(B30=0,0,(B32/B30)) -> 0 | C33: =IF(C30=0,0,(C32/C30)) -> 0 | D33: =IF(D30=0,0,(D32/D30)) -> 0 | E33: =IF(E30=0,0,(E32/E30)) -> 0 | F33: =IF(F30=0,0,(F32/F30)) -> 0 | G33: =IF(G30=0,0,(G32/G30)) -> 0 | H33: =IF(H30=0,0,(H32/H30)) -> 0 | I33: =IF(I30=0,0,(I32/I30)) -> 0 | ... N33: =IF(N30=0,0,(N32/N30)) -> 0
A34: Arrivals | N34: =SUM(B34:M34) -> 0
A35: Length of stay | B35: =IF(B34="","",(B30/B34)) | C35: =IF(C34="","",(C30/C34)) | D35: =IF(D34="","",(D30/D34)) | E35: =IF(E34="","",(E30/E34)) | F35: =IF(F34="","",(F30/F34)) | G35: =IF(G34="","",(G30/G34)) | H35: =IF(H34="","",(H30/H34)) | I35: =IF(I34="","",(I30/I34)) | ... N35: =IF(N34="","",(N30/N34)) -> #DIV/0!
A36: Room Rev | B36: =B30*B31 -> 0 | C36: =C30*C31 -> 0 | D36: =D30*D31 -> 0 | E36: =E30*E31 -> 0 | F36: =F30*F31 -> 0 | G36: =G30*G31 -> 0 | H36: =H30*H31 -> 0 | I36: =I30*I31 -> 0 | ... M36: =M30*M31 -> 0 | N36: =SUM(B36:M36) -> 0
A37: F&B Rev | N37: =SUM(B37:M37) -> 0
A38: Extra Rev | N38: =SUM(B38:M38) -> 0
A39: TOTAL Rev | B39: =SUM(B36:B38) -> 0 | C39: =SUM(C36:C38) -> 0 | D39: =SUM(D36:D38) -> 0 | E39: =SUM(E36:E38) -> 0 | F39: =SUM(F36:F38) -> 0 | G39: =SUM(G36:G38) -> 0 | H39: =SUM(H36:H38) -> 0 | I39: =SUM(I36:I38) -> 0 | ... M39: =SUM(M36:M38) -> 0 | N39: =SUM(B39:M39) -> 0
A40: Av. S. P Gst. | B40: =IF(B39="","",(B39/B32)) -> #DIV/0! | C40: =IF(C39="","",(C39/C32)) -> #DIV/0! | D40: =IF(D39="","",(D39/D32)) -> #DIV/0! | E40: =IF(E39="","",(E39/E32)) -> #DIV/0! | F40: =IF(F39="","",(F39/F32)) -> #DIV/0! | G40: =IF(G39="","",(G39/G32)) -> #DIV/0! | H40: =IF(H39="","",(H39/H32)) -> #DIV/0! | I40: =IF(I39="","",(I39/I32)) -> #DIV/0! | ... N40: =IF(N39="","",(N39/N32)) -> #DIV/0!
B42: Jan | C42: Feb | D42: Mar | E42: Apr | F42: May | G42: Jun | H42: Jul | I42: Aug | J42: Sep | K42: Oct | L42: Nov | M42: Dec | N42: Total
A43: Rm Nights | N43: =SUM(B43:M43) -> 0
A44: Av.R.R. | N44: =N49/N43 -> #DIV/0!
...

Sheet July
A1: =Jan!A1 -> TOP 20 Producers
B3: Jan | C3: Feb | D3: Mar | E3: Apr | F3: May | G3: Jun | H3: Jul | I3: Aug | J3: Sep | K3: Oct | L3: Nov | M3: Dec | N3: Total
A4: Rm Nights | N4: =SUM(B4:M4) -> 0
A5: Av.R.R. | N5: =N10/N4 -> #DIV/0!
A6: # Of Guests | N6: =SUM(B6:M6) -> 0
A7: DBL Occ. | B7: =IF(B4=0,0,(B6/B4)) -> 0 | C7: =IF(C4=0,0,(C6/C4)) -> 0 | D7: =IF(D4=0,0,(D6/D4)) -> 0 | E7: =IF(E4=0,0,(E6/E4)) -> 0 | F7: =IF(F4=0,0,(F6/F4)) -> 0 | G7: =IF(G4=0,0,(G6/G4)) -> 0 | H7: =IF(H4=0,0,(H6/H4)) -> 0 | I7: =IF(I4=0,0,(I6/I4)) -> 0 | ... N7: =IF(N4=0,0,(N6/N4)) -> 0
A8: Arrivals | N8: =SUM(B8:M8) -> 0
A9: Length of stay | B9: =IF(B8="","",(B4/B8)) | C9: =IF(C8="","",(C4/C8)) | D9: =IF(D8="","",(D4/D8)) | E9: =IF(E8="","",(E4/E8)) | F9: =IF(F8="","",(F4/F8)) | G9: =IF(G8="","",(G4/G8)) | H9: =IF(H8="","",(H4/H8)) | I9: =IF(I8="","",(I4/I8)) | ... N9: =IF(N8="","",(N4/N8)) -> #DIV/0!
A10: Room Rev | B10: =B4*B5 -> 0 | C10: =C4*C5 -> 0 | D10: =D4*D5 -> 0 | E10: =E4*E5 -> 0 | F10: =F4*F5 -> 0 | G10: =G4*G5 -> 0 | H10: =H4*H5 -> 0 | I10: =I4*I5 -> 0 | ... M10: =M4*M5 -> 0 | N10: =SUM(B10:M10) -> 0
A11: F&B Rev | N11: =SUM(B11:M11) -> 0
A12: Extra Rev | N12: =SUM(B12:M12) -> 0
A13: TOTAL Rev | B13: =SUM(B10:B12) -> 0 | C13: =SUM(C10:C12) -> 0 | D13: =SUM(D10:D12) -> 0 | E13: =SUM(E10:E12) -> 0 | F13: =SUM(F10:F12) -> 0 | G13: =SUM(G10:G12) -> 0 | H13: =SUM(H10:H12) -> 0 | I13: =SUM(I10:I12) -> 0 | ... M13: =SUM(M10:M12) -> 0 | N13: =SUM(B13:M13) -> 0
A14: Av. S. P Gst. | B14: =IF(B13="","",(B13/B6)) -> #DIV/0! | C14: =IF(C13="","",(C13/C6)) -> #DIV/0! | D14: =IF(D13="","",(D13/D6)) -> #DIV/0! | E14: =IF(E13="","",(E13/E6)) -> #DIV/0! | F14: =IF(F13="","",(F13/F6)) -> #DIV/0! | G14: =IF(G13="","",(G13/G6)) -> #DIV/0! | H14: =IF(H13="","",(H13/H6)) -> #DIV/0! | I14: =IF(I13="","",(I13/I6)) -> #DIV/0! | ... N14: =IF(N13="","",(N13/N6)) -> #DIV/0!
B16: Jan | C16: Feb | D16: Mar | E16: Apr | F16: May | G16: Jun | H16: Jul | I16: Aug | J16: Sep | K16: Oct | L16: Nov | M16: Dec | N16: Total
A17: Rm Nights | N17: =SUM(B17:M17) -> 0
A18: Av.R.R. | N18: =N23/N17 -> #DIV/0!
A19: # Of Guests | N19: =SUM(B19:M19) -> 0
A20: DBL Occ. | B20: =IF(B17=0,0,(B19/B17)) -> 0 | C20: =IF(C17=0,0,(C19/C17)) -> 0 | D20: =IF(D17=0,0,(D19/D17)) -> 0 | E20: =IF(E17=0,0,(E19/E17)) -> 0 | F20: =IF(F17=0,0,(F19/F17)) -> 0 | G20: =IF(G17=0,0,(G19/G17)) -> 0 | H20: =IF(H17=0,0,(H19/H17)) -> 0 | I20: =IF(I17=0,0,(I19/I17)) -> 0 | ... N20: =IF(N17=0,0,(N19/N17)) -> 0
A21: Arrivals | N21: =SUM(B21:M21) -> 0
A22: Length of stay | B22: =IF(B21="","",(B17/B21)) | C22: =IF(C21="","",(C17/C21)) | D22: =IF(D21="","",(D17/D21)) | E22: =IF(E21="","",(E17/E21)) | F22: =IF(F21="","",(F17/F21)) | G22: =IF(G21="","",(G17/G21)) | H22: =IF(H21="","",(H17/H21)) | I22: =IF(I21="","",(I17/I21)) | ... N22: =IF(N21="","",(N17/N21)) -> #DIV/0!
A23: Room Rev | B23: =B17*B18 -> 0 | C23: =C17*C18 -> 0 | D23: =D17*D18 -> 0 | E23: =E17*E18 -> 0 | F23: =F17*F18 -> 0 | G23: =G17*G18 -> 0 | H23: =H17*H18 -> 0 | I23: =I17*I18 -> 0 | ... M23: =M17*M18 -> 0 | N23: =SUM(B23:M23) -> 0
A24: F&B Rev | N24: =SUM(B24:M24) -> 0
A25: Extra Rev | N25: =SUM(B25:M25) -> 0
A26: TOTAL Rev | B26: =SUM(B23:B25) -> 0 | C26: =SUM(C23:C25) -> 0 | D26: =SUM(D23:D25) -> 0 | E26: =SUM(E23:E25) -> 0 | F26: =SUM(F23:F25) -> 0 | G26: =SUM(G23:G25) -> 0 | H26: =SUM(H23:H25) -> 0 | I26: =SUM(I23:I25) -> 0 | ... M26: =SUM(M23:M25) -> 0 | N26: =SUM(B26:M26) -> 0
A27: Av. S. P Gst. | B27: =IF(B26="","",(B26/B19)) -> #DIV/0! | C27: =IF(C26="","",(C26/C19)) -> #DIV/0! | D27: =IF(D26="","",(D26/D19)) -> #DIV/0! | E27: =IF(E26="","",(E26/E19)) -> #DIV/0! | F27: =IF(F26="","",(F26/F19)) -> #DIV/0! | G27: =IF(G26="","",(G26/G19)) -> #DIV/0! | H27: =IF(H26="","",(H26/H19)) -> #DIV/0! | I27: =IF(I26="","",(I26/I19)) -> #DIV/0! | ... N27: =IF(N26="","",(N26/N19)) -> #DIV/0!
B29: Jan | C29: Feb | D29: Mar | E29: Apr | F29: May | G29: Jun | H29: Jul | I29: Aug | J29: Sep | K29: Oct | L29: Nov | M29: Dec | N29: Total
A30: Rm Nights | N30: =SUM(B30:M30) -> 0
A31: Av.R.R. | N31: =N36/N30 -> #DIV/0!
A32: # Of Guests | N32: =SUM(B32:M32) -> 0
A33: DBL Occ. | B33: =IF(B30=0,0,(B32/B30)) -> 0 | C33: =IF(C30=0,0,(C32/C30)) -> 0 | D33: =IF(D30=0,0,(D32/D30)) -> 0 | E33: =IF(E30=0,0,(E32/E30)) -> 0 | F33: =IF(F30=0,0,(F32/F30)) -> 0 | G33: =IF(G30=0,0,(G32/G30)) -> 0 | H33: =IF(H30=0,0,(H32/H30)) -> 0 | I33: =IF(I30=0,0,(I32/I30)) -> 0 | ... N33: =IF(N30=0,0,(N32/N30)) -> 0
A34: Arrivals | N34: =SUM(B34:M34) -> 0
A35: Length of stay | B35: =IF(B34="","",(B30/B34)) | C35: =IF(C34="","",(C30/C34)) | D35: =IF(D34="","",(D30/D34)) | E35: =IF(E34="","",(E30/E34)) | F35: =IF(F34="","",(F30/F34)) | G35: =IF(G34="","",(G30/G34)) | H35: =IF(H34="","",(H30/H34)) | I35: =IF(I34="","",(I30/I34)) | ... N35: =IF(N34="","",(N30/N34)) -> #DIV/0!
A36: Room Rev | B36: =B30*B31 -> 0 | C36: =C30*C31 -> 0 | D36: =D30*D31 -> 0 | E36: =E30*E31 -> 0 | F36: =F30*F31 -> 0 | G36: =G30*G31 -> 0 | H36: =H30*H31 -> 0 | I36: =I30*I31 -> 0 | ... M36: =M30*M31 -> 0 | N36: =SUM(B36:M36) -> 0
A37: F&B Rev | N37: =SUM(B37:M37) -> 0
A38: Extra Rev | N38: =SUM(B38:M38) -> 0
A39: TOTAL Rev | B39: =SUM(B36:B38) -> 0 | C39: =SUM(C36:C38) -> 0 | D39: =SUM(D36:D38) -> 0 | E39: =SUM(E36:E38) -> 0 | F39: =SUM(F36:F38) -> 0 | G39: =SUM(G36:G38) -> 0 | H39: =SUM(H36:H38) -> 0 | I39: =SUM(I36:I38) -> 0 | ... M39: =SUM(M36:M38) -> 0 | N39: =SUM(B39:M39) -> 0
A40: Av. S. P Gst. | B40: =IF(B39="","",(B39/B32)) -> #DIV/0! | C40: =IF(C39="","",(C39/C32)) -> #DIV/0! | D40: =IF(D39="","",(D39/D32)) -> #DIV/0! | E40: =IF(E39="","",(E39/E32)) -> #DIV/0! | F40: =IF(F39="","",(F39/F32)) -> #DIV/0! | G40: =IF(G39="","",(G39/G32)) -> #DIV/0! | H40: =IF(H39="","",(H39/H32)) -> #DIV/0! | I40: =IF(I39="","",(I39/I32)) -> #DIV/0! | ... N40: =IF(N39="","",(N39/N32)) -> #DIV/0!
B42: Jan | C42: Feb | D42: Mar | E42: Apr | F42: May | G42: Jun | H42: Jul | I42: Aug | J42: Sep | K42: Oct | L42: Nov | M42: Dec | N42: Total
A43: Rm Nights | N43: =SUM(B43:M43) -> 0
A44: Av.R.R. | N44: =N49/N43 -> #DIV/0!
...

Sheet Aug
A1: =Jan!A1 -> TOP 20 Producers
A3: 2008 | B3: Jan | C3: Feb | D3: Mar | E3: Apr | F3: May | G3: Jun | H3: Jul | I3: Aug | J3: Sep | K3: Oct | L3: Nov | M3: Dec | N3: Total
A4: Rm Nights | N4: =SUM(B4:M4) -> 0
A5: Av.R.R. | N5: =N10/N4 -> #DIV/0!
A6: # Of Guests | N6: =SUM(B6:M6) -> 0
A7: DBL Occ. | B7: =IF(B4=0,0,(B6/B4)) -> 0 | C7: =IF(C4=0,0,(C6/C4)) -> 0 | D7: =IF(D4=0,0,(D6/D4)) -> 0 | E7: =IF(E4=0,0,(E6/E4)) -> 0 | F7: =IF(F4=0,0,(F6/F4)) -> 0 | G7: =IF(G4=0,0,(G6/G4)) -> 0 | H7: =IF(H4=0,0,(H6/H4)) -> 0 | I7: =IF(I4=0,0,(I6/I4)) -> 0 | ... N7: =IF(N4=0,0,(N6/N4)) -> 0
A8: Arrivals | N8: =SUM(B8:M8) -> 0
A9: Length of stay | B9: =IF(B8="","",(B4/B8)) | C9: =IF(C8="","",(C4/C8)) | D9: =IF(D8="","",(D4/D8)) | E9: =IF(E8="","",(E4/E8)) | F9: =IF(F8="","",(F4/F8)) | G9: =IF(G8="","",(G4/G8)) | H9: =IF(H8="","",(H4/H8)) | I9: =IF(I8="","",(I4/I8)) | ... N9: =IF(N8="","",(N4/N8)) -> #DIV/0!
A10: Room Rev | B10: =B4*B5 -> 0 | C10: =C4*C5 -> 0 | D10: =D4*D5 -> 0 | E10: =E4*E5 -> 0 | F10: =F4*F5 -> 0 | G10: =G4*G5 -> 0 | H10: =H4*H5 -> 0 | I10: =I4*I5 -> 0 | ... M10: =M4*M5 -> 0 | N10: =SUM(B10:M10) -> 0
A11: F&B Rev | N11: =SUM(B11:M11) -> 0
A12: Extra Rev | N12: =SUM(B12:M12) -> 0
A13: TOTAL Rev | B13: =SUM(B10:B12) -> 0 | C13: =SUM(C10:C12) -> 0 | D13: =SUM(D10:D12) -> 0 | E13: =SUM(E10:E12) -> 0 | F13: =SUM(F10:F12) -> 0 | G13: =SUM(G10:G12) -> 0 | H13: =SUM(H10:H12) -> 0 | I13: =SUM(I10:I12) -> 0 | ... M13: =SUM(M10:M12) -> 0 | N13: =SUM(B13:M13) -> 0
A14: Av. S. P Gst. | B14: =IF(B13="","",(B13/B6)) -> #DIV/0! | C14: =IF(C13="","",(C13/C6)) -> #DIV/0! | D14: =IF(D13="","",(D13/D6)) -> #DIV/0! | E14: =IF(E13="","",(E13/E6)) -> #DIV/0! | F14: =IF(F13="","",(F13/F6)) -> #DIV/0! | G14: =IF(G13="","",(G13/G6)) -> #DIV/0! | H14: =IF(H13="","",(H13/H6)) -> #DIV/0! | I14: =IF(I13="","",(I13/I6)) -> #DIV/0! | ... N14: =IF(N13="","",(N13/N6)) -> #DIV/0!
A16: 2008 | B16: Jan | C16: Feb | D16: Mar | E16: Apr | F16: May | G16: Jun | H16: Jul | I16: Aug | J16: Sep | K16: Oct | L16: Nov | M16: Dec | N16: Total
A17: Rm Nights | N17: =SUM(B17:M17) -> 0
A18: Av.R.R. | N18: =N23/N17 -> #DIV/0!
A19: # Of Guests | N19: =SUM(B19:M19) -> 0
A20: DBL Occ. | B20: =IF(B17=0,0,(B19/B17)) -> 0 | C20: =IF(C17=0,0,(C19/C17)) -> 0 | D20: =IF(D17=0,0,(D19/D17)) -> 0 | E20: =IF(E17=0,0,(E19/E17)) -> 0 | F20: =IF(F17=0,0,(F19/F17)) -> 0 | G20: =IF(G17=0,0,(G19/G17)) -> 0 | H20: =IF(H17=0,0,(H19/H17)) -> 0 | I20: =IF(I17=0,0,(I19/I17)) -> 0 | ... N20: =IF(N17=0,0,(N19/N17)) -> 0
A21: Arrivals | N21: =SUM(B21:M21) -> 0
A22: Length of stay | B22: =IF(B21="","",(B17/B21)) | C22: =IF(C21="","",(C17/C21)) | D22: =IF(D21="","",(D17/D21)) | E22: =IF(E21="","",(E17/E21)) | F22: =IF(F21="","",(F17/F21)) | G22: =IF(G21="","",(G17/G21)) | H22: =IF(H21="","",(H17/H21)) | I22: =IF(I21="","",(I17/I21)) | ... N22: =IF(N21="","",(N17/N21)) -> #DIV/0!
A23: Room Rev | B23: =B17*B18 -> 0 | C23: =C17*C18 -> 0 | D23: =D17*D18 -> 0 | E23: =E17*E18 -> 0 | F23: =F17*F18 -> 0 | G23: =G17*G18 -> 0 | H23: =H17*H18 -> 0 | I23: =I17*I18 -> 0 | ... M23: =M17*M18 -> 0 | N23: =SUM(B23:M23) -> 0
A24: F&B Rev | N24: =SUM(B24:M24) -> 0
A25: Extra Rev | N25: =SUM(B25:M25) -> 0
A26: TOTAL Rev | B26: =SUM(B23:B25) -> 0 | C26: =SUM(C23:C25) -> 0 | D26: =SUM(D23:D25) -> 0 | E26: =SUM(E23:E25) -> 0 | F26: =SUM(F23:F25) -> 0 | G26: =SUM(G23:G25) -> 0 | H26: =SUM(H23:H25) -> 0 | I26: =SUM(I23:I25) -> 0 | ... M26: =SUM(M23:M25) -> 0 | N26: =SUM(B26:M26) -> 0
A27: Av. S. P Gst. | B27: =IF(B26="","",(B26/B19)) -> #DIV/0! | C27: =IF(C26="","",(C26/C19)) -> #DIV/0! | D27: =IF(D26="","",(D26/D19)) -> #DIV/0! | E27: =IF(E26="","",(E26/E19)) -> #DIV/0! | F27: =IF(F26="","",(F26/F19)) -> #DIV/0! | G27: =IF(G26="","",(G26/G19)) -> #DIV/0! | H27: =IF(H26="","",(H26/H19)) -> #DIV/0! | I27: =IF(I26="","",(I26/I19)) -> #DIV/0! | ... N27: =IF(N26="","",(N26/N19)) -> #DIV/0!
A29: 2008 | B29: Jan | C29: Feb | D29: Mar | E29: Apr | F29: May | G29: Jun | H29: Jul | I29: Aug | J29: Sep | K29: Oct | L29: Nov | M29: Dec | N29: Total
A30: Rm Nights | N30: =SUM(B30:M30) -> 0
A31: Av.R.R. | N31: =N36/N30 -> #DIV/0!
A32: # Of Guests | N32: =SUM(B32:M32) -> 0
A33: DBL Occ. | B33: =IF(B30=0,0,(B32/B30)) -> 0 | C33: =IF(C30=0,0,(C32/C30)) -> 0 | D33: =IF(D30=0,0,(D32/D30)) -> 0 | E33: =IF(E30=0,0,(E32/E30)) -> 0 | F33: =IF(F30=0,0,(F32/F30)) -> 0 | G33: =IF(G30=0,0,(G32/G30)) -> 0 | H33: =IF(H30=0,0,(H32/H30)) -> 0 | I33: =IF(I30=0,0,(I32/I30)) -> 0 | ... N33: =IF(N30=0,0,(N32/N30)) -> 0
A34: Arrivals | N34: =SUM(B34:M34) -> 0
A35: Length of stay | B35: =IF(B34="","",(B30/B34)) | C35: =IF(C34="","",(C30/C34)) | D35: =IF(D34="","",(D30/D34)) | E35: =IF(E34="","",(E30/E34)) | F35: =IF(F34="","",(F30/F34)) | G35: =IF(G34="","",(G30/G34)) | H35: =IF(H34="","",(H30/H34)) | I35: =IF(I34="","",(I30/I34)) | ... N35: =IF(N34="","",(N30/N34)) -> #DIV/0!
A36: Room Rev | B36: =B30*B31 -> 0 | C36: =C30*C31 -> 0 | D36: =D30*D31 -> 0 | E36: =E30*E31 -> 0 | F36: =F30*F31 -> 0 | G36: =G30*G31 -> 0 | H36: =H30*H31 -> 0 | I36: =I30*I31 -> 0 | ... M36: =M30*M31 -> 0 | N36: =SUM(B36:M36) -> 0
A37: F&B Rev | N37: =SUM(B37:M37) -> 0
A38: Extra Rev | N38: =SUM(B38:M38) -> 0
A39: TOTAL Rev | B39: =SUM(B36:B38) -> 0 | C39: =SUM(C36:C38) -> 0 | D39: =SUM(D36:D38) -> 0 | E39: =SUM(E36:E38) -> 0 | F39: =SUM(F36:F38) -> 0 | G39: =SUM(G36:G38) -> 0 | H39: =SUM(H36:H38) -> 0 | I39: =SUM(I36:I38) -> 0 | ... M39: =SUM(M36:M38) -> 0 | N39: =SUM(B39:M39) -> 0
A40: Av. S. P Gst. | B40: =IF(B39="","",(B39/B32)) -> #DIV/0! | C40: =IF(C39="","",(C39/C32)) -> #DIV/0! | D40: =IF(D39="","",(D39/D32)) -> #DIV/0! | E40: =IF(E39="","",(E39/E32)) -> #DIV/0! | F40: =IF(F39="","",(F39/F32)) -> #DIV/0! | G40: =IF(G39="","",(G39/G32)) -> #DIV/0! | H40: =IF(H39="","",(H39/H32)) -> #DIV/0! | I40: =IF(I39="","",(I39/I32)) -> #DIV/0! | ... N40: =IF(N39="","",(N39/N32)) -> #DIV/0!
A42: 2008 | B42: Jan | C42: Feb | D42: Mar | E42: Apr | F42: May | G42: Jun | H42: Jul | I42: Aug | J42: Sep | K42: Oct | L42: Nov | M42: Dec | N42: Total
A43: Rm Nights | N43: =SUM(B43:M43) -> 0
A44: Av.R.R. | N44: =N49/N43 -> #DIV/0!
...

Sheet Sep
A1: =Jan!A1 -> TOP 20 Producers
A2: Pegas
A3: 2008 | B3: Jan | C3: Feb | D3: Mar | E3: Apr | F3: May | G3: Jun | H3: Jul | I3: Aug | J3: Sep | K3: Oct | L3: Nov | M3: Dec | N3: Total
A4: Rm Nights | J4: 2057 | N4: =SUM(B4:M4) -> 2057
A5: Av.R.R. | J5: 315.19 | N5: =N10/N4 -> 315.19
A6: # Of Guests | J6: 4416 | N6: =SUM(B6:M6) -> 4416
A7: DBL Occ. | B7: =IF(B4=0,0,(B6/B4)) -> 0 | C7: =IF(C4=0,0,(C6/C4)) -> 0 | D7: =IF(D4=0,0,(D6/D4)) -> 0 | E7: =IF(E4=0,0,(E6/E4)) -> 0 | F7: =IF(F4=0,0,(F6/F4)) -> 0 | G7: =IF(G4=0,0,(G6/G4)) -> 0 | H7: =IF(H4=0,0,(H6/H4)) -> 0 | I7: =IF(I4=0,0,(I6/I4)) -> 0 | ... N7: =IF(N4=0,0,(N6/N4)) -> 2.1468158
A8: Arrivals | J8: 238 | N8: =SUM(B8:M8) -> 238
A9: Length of stay | B9: =IF(B8="","",(B4/B8)) | C9: =IF(C8="","",(C4/C8)) | D9: =IF(D8="","",(D4/D8)) | E9: =IF(E8="","",(E4/E8)) | F9: =IF(F8="","",(F4/F8)) | G9: =IF(G8="","",(G4/G8)) | H9: =IF(H8="","",(H4/H8)) | I9: =IF(I8="","",(I4/I8)) | ... N9: =IF(N8="","",(N4/N8)) -> 8.6428571
A10: Room Rev | B10: =B4*B5 -> 0 | C10: =C4*C5 -> 0 | D10: =D4*D5 -> 0 | E10: =E4*E5 -> 0 | F10: =F4*F5 -> 0 | G10: =G4*G5 -> 0 | H10: =H4*H5 -> 0 | I10: =I4*I5 -> 0 | ... M10: =M4*M5 -> 0 | N10: =SUM(B10:M10) -> 648345.83
A11: F&B Rev | J11: 271007.13 | N11: =SUM(B11:M11) -> 271007.13
A12: Extra Rev | J12: 118510.51 | N12: =SUM(B12:M12) -> 118510.51
A13: TOTAL Rev | B13: =SUM(B10:B12) -> 0 | C13: =SUM(C10:C12) -> 0 | D13: =SUM(D10:D12) -> 0 | E13: =SUM(E10:E12) -> 0 | F13: =SUM(F10:F12) -> 0 | G13: =SUM(G10:G12) -> 0 | H13: =SUM(H10:H12) -> 0 | I13: =SUM(I10:I12) -> 0 | ... M13: =SUM(M10:M12) -> 0 | N13: =SUM(B13:M13) -> 1037863.5
A14: Av. S. P Gst. | B14: =IF(B13="","",(B13/B6)) -> #DIV/0! | C14: =IF(C13="","",(C13/C6)) -> #DIV/0! | D14: =IF(D13="","",(D13/D6)) -> #DIV/0! | E14: =IF(E13="","",(E13/E6)) -> #DIV/0! | F14: =IF(F13="","",(F13/F6)) -> #DIV/0! | G14: =IF(G13="","",(G13/G6)) -> #DIV/0! | H14: =IF(H13="","",(H13/H6)) -> #DIV/0! | I14: =IF(I13="","",(I13/I6)) -> #DIV/0! | ... N14: =IF(N13="","",(N13/N6)) -> 235.02343
A15: Pianeta Terra
A16: 2008 | B16: Jan | C16: Feb | D16: Mar | E16: Apr | F16: May | G16: Jun | H16: Jul | I16: Aug | J16: Sep | K16: Oct | L16: Nov | M16: Dec | N16: Total
A17: Rm Nights | J17: 1504 | N17: =SUM(B17:M17) -> 1504
A18: Av.R.R. | J18: 323.42 | N18: =N23/N17 -> 323.42
A19: # Of Guests | J19: 3785 | N19: =SUM(B19:M19) -> 3785
A20: DBL Occ. | B20: =IF(B17=0,0,(B19/B17)) -> 0 | C20: =IF(C17=0,0,(C19/C17)) -> 0 | D20: =IF(D17=0,0,(D19/D17)) -> 0 | E20: =IF(E17=0,0,(E19/E17)) -> 0 | F20: =IF(F17=0,0,(F19/F17)) -> 0 | G20: =IF(G17=0,0,(G19/G17)) -> 0 | H20: =IF(H17=0,0,(H19/H17)) -> 0 | I20: =IF(I17=0,0,(I19/I17)) -> 0 | ... N20: =IF(N17=0,0,(N19/N17)) -> 2.5166223
A21: Arrivals | J21: 139 | N21: =SUM(B21:M21) -> 139
A22: Length of stay | B22: =IF(B21="","",(B17/B21)) | C22: =IF(C21="","",(C17/C21)) | D22: =IF(D21="","",(D17/D21)) | E22: =IF(E21="","",(E17/E21)) | F22: =IF(F21="","",(F17/F21)) | G22: =IF(G21="","",(G17/G21)) | H22: =IF(H21="","",(H17/H21)) | I22: =IF(I21="","",(I17/I21)) | ... N22: =IF(N21="","",(N17/N21)) -> 10.820144
A23: Room Rev | B23: =B17*B18 -> 0 | C23: =C17*C18 -> 0 | D23: =D17*D18 -> 0 | E23: =E17*E18 -> 0 | F23: =F17*F18 -> 0 | G23: =G17*G18 -> 0 | H23: =H17*H18 -> 0 | I23: =I17*I18 -> 0 | ... M23: =M17*M18 -> 0 | N23: =SUM(B23:M23) -> 486423.68
A24: F&B Rev | J24: 211568 | N24: =SUM(B24:M24) -> 211568
A25: Extra Rev | J25: 88264.61 | N25: =SUM(B25:M25) -> 88264.61
A26: TOTAL Rev | B26: =SUM(B23:B25) -> 0 | C26: =SUM(C23:C25) -> 0 | D26: =SUM(D23:D25) -> 0 | E26: =SUM(E23:E25) -> 0 | F26: =SUM(F23:F25) -> 0 | G26: =SUM(G23:G25) -> 0 | H26: =SUM(H23:H25) -> 0 | I26: =SUM(I23:I25) -> 0 | ... M26: =SUM(M23:M25) -> 0 | N26: =SUM(B26:M26) -> 786256.29
A27: Av. S. P Gst. | B27: =IF(B26="","",(B26/B19)) -> #DIV/0! | C27: =IF(C26="","",(C26/C19)) -> #DIV/0! | D27: =IF(D26="","",(D26/D19)) -> #DIV/0! | E27: =IF(E26="","",(E26/E19)) -> #DIV/0! | F27: =IF(F26="","",(F26/F19)) -> #DIV/0! | G27: =IF(G26="","",(G26/G19)) -> #DIV/0! | H27: =IF(H26="","",(H26/H19)) -> #DIV/0! | I27: =IF(I26="","",(I26/I19)) -> #DIV/0! | ... N27: =IF(N26="","",(N26/N19)) -> 207.72954
A28: Travel Ways
A29: 2008 | B29: Jan | C29: Feb | D29: Mar | E29: Apr | F29: May | G29: Jun | H29: Jul | I29: Aug | J29: Sep | K29: Oct | L29: Nov | M29: Dec | N29: Total
A30: Rm Nights | J30: 1305 | N30: =SUM(B30:M30) -> 1305
A31: Av.R.R. | J31: 225.53 | N31: =N36/N30 -> 225.53
A32: # Of Guests | J32: 2726 | N32: =SUM(B32:M32) -> 2726
A33: DBL Occ. | B33: =IF(B30=0,0,(B32/B30)) -> 0 | C33: =IF(C30=0,0,(C32/C30)) -> 0 | D33: =IF(D30=0,0,(D32/D30)) -> 0 | E33: =IF(E30=0,0,(E32/E30)) -> 0 | F33: =IF(F30=0,0,(F32/F30)) -> 0 | G33: =IF(G30=0,0,(G32/G30)) -> 0 | H33: =IF(H30=0,0,(H32/H30)) -> 0 | I33: =IF(I30=0,0,(I32/I30)) -> 0 | ... N33: =IF(N30=0,0,(N32/N30)) -> 2.0888889
A34: Arrivals | J34: 184 | N34: =SUM(B34:M34) -> 184
A35: Length of stay | B35: =IF(B34="","",(B30/B34)) | C35: =IF(C34="","",(C30/C34)) | D35: =IF(D34="","",(D30/D34)) | E35: =IF(E34="","",(E30/E34)) | F35: =IF(F34="","",(F30/F34)) | G35: =IF(G34="","",(G30/G34)) | H35: =IF(H34="","",(H30/H34)) | I35: =IF(I34="","",(I30/I34)) | ... N35: =IF(N34="","",(N30/N34)) -> 7.0923913
A36: Room Rev | B36: =B30*B31 -> 0 | C36: =C30*C31 -> 0 | D36: =D30*D31 -> 0 | E36: =E30*E31 -> 0 | F36: =F30*F31 -> 0 | G36: =G30*G31 -> 0 | H36: =H30*H31 -> 0 | I36: =I30*I31 -> 0 | ... M36: =M30*M31 -> 0 | N36: =SUM(B36:M36) -> 294316.65
A37: F&B Rev | J37: 203204.51 | N37: =SUM(B37:M37) -> 203204.51
A38: Extra Rev | J38: 70809.98 | N38: =SUM(B38:M38) -> 70809.98
A39: TOTAL Rev | B39: =SUM(B36:B38) -> 0 | C39: =SUM(C36:C38) -> 0 | D39: =SUM(D36:D38) -> 0 | E39: =SUM(E36:E38) -> 0 | F39: =SUM(F36:F38) -> 0 | G39: =SUM(G36:G38) -> 0 | H39: =SUM(H36:H38) -> 0 | I39: =SUM(I36:I38) -> 0 | ... M39: =SUM(M36:M38) -> 0 | N39: =SUM(B39:M39) -> 568331.14
A40: Av. S. P Gst. | B40: =IF(B39="","",(B39/B32)) -> #DIV/0! | C40: =IF(C39="","",(C39/C32)) -> #DIV/0! | D40: =IF(D39="","",(D39/D32)) -> #DIV/0! | E40: =IF(E39="","",(E39/E32)) -> #DIV/0! | F40: =IF(F39="","",(F39/F32)) -> #DIV/0! | G40: =IF(G39="","",(G39/G32)) -> #DIV/0! | H40: =IF(H39="","",(H39/H32)) -> #DIV/0! | I40: =IF(I39="","",(I39/I32)) -> #DIV/0! | ... N40: =IF(N39="","",(N39/N32)) -> 208.48538
...

Sheet Oct
B3: Jan | C3: Feb | D3: Mar | E3: Apr | F3: May | G3: Jun | H3: Jul | I3: Aug | J3: Sep | L3: Nov | M3: Dec | N3: Total
A4: Rm Nights | N4: =SUM(B4:M4) -> 0
A5: Av.R.R. | N5: =N10/N4 -> #DIV/0!
A6: # Of Guests | N6: =SUM(B6:M6) -> 0
A7: DBL Occ. | B7: =IF(B4=0,0,(B6/B4)) -> 0 | C7: =IF(C4=0,0,(C6/C4)) -> 0 | D7: =IF(D4=0,0,(D6/D4)) -> 0 | E7: =IF(E4=0,0,(E6/E4)) -> 0 | F7: =IF(F4=0,0,(F6/F4)) -> 0 | G7: =IF(G4=0,0,(G6/G4)) -> 0 | H7: =IF(H4=0,0,(H6/H4)) -> 0 | I7: =IF(I4=0,0,(I6/I4)) -> 0 | ... N7: =IF(N4=0,0,(N6/N4)) -> 0
A8: Arrivals | N8: =SUM(B8:M8) -> 0
A9: Length of stay | B9: =IF(B8="","",(B4/B8)) | C9: =IF(C8="","",(C4/C8)) | D9: =IF(D8="","",(D4/D8)) | E9: =IF(E8="","",(E4/E8)) | F9: =IF(F8="","",(F4/F8)) | G9: =IF(G8="","",(G4/G8)) | H9: =IF(H8="","",(H4/H8)) | I9: =IF(I8="","",(I4/I8)) | ... N9: =IF(N8="","",(N4/N8)) -> #DIV/0!
A10: Room Rev | B10: =B4*B5 -> 0 | C10: =C4*C5 -> 0 | D10: =D4*D5 -> 0 | E10: =E4*E5 -> 0 | F10: =F4*F5 -> 0 | G10: =G4*G5 -> 0 | H10: =H4*H5 -> 0 | I10: =I4*I5 -> 0 | ... M10: =M4*M5 -> 0 | N10: =SUM(B10:M10) -> 0
A11: F&B Rev | N11: =SUM(B11:M11) -> 0
A12: Extra Rev | N12: =SUM(B12:M12) -> 0
A13: TOTAL Rev | B13: =SUM(B10:B12) -> 0 | C13: =SUM(C10:C12) -> 0 | D13: =SUM(D10:D12) -> 0 | E13: =SUM(E10:E12) -> 0 | F13: =SUM(F10:F12) -> 0 | G13: =SUM(G10:G12) -> 0 | H13: =SUM(H10:H12) -> 0 | I13: =SUM(I10:I12) -> 0 | ... M13: =SUM(M10:M12) -> 0 | N13: =SUM(B13:M13) -> 0
A14: Av. S. P Gst. | B14: =IF(B13="","",(B13/B6)) -> #DIV/0! | C14: =IF(C13="","",(C13/C6)) -> #DIV/0! | D14: =IF(D13="","",(D13/D6)) -> #DIV/0! | E14: =IF(E13="","",(E13/E6)) -> #DIV/0! | F14: =IF(F13="","",(F13/F6)) -> #DIV/0! | G14: =IF(G13="","",(G13/G6)) -> #DIV/0! | H14: =IF(H13="","",(H13/H6)) -> #DIV/0! | I14: =IF(I13="","",(I13/I6)) -> #DIV/0! | ... N14: =IF(N13="","",(N13/N6)) -> #DIV/0!
B16: Jan | C16: Feb | D16: Mar | E16: Apr | F16: May | G16: Jun | H16: Jul | I16: Aug | J16: Sep | K16: Oct | L16: Nov | M16: Dec | N16: Total
A17: Rm Nights | N17: =SUM(B17:M17) -> 0
A18: Av.R.R. | N18: =N23/N17 -> #DIV/0!
A19: # Of Guests | N19: =SUM(B19:M19) -> 0
A20: DBL Occ. | B20: =IF(B17=0,0,(B19/B17)) -> 0 | C20: =IF(C17=0,0,(C19/C17)) -> 0 | D20: =IF(D17=0,0,(D19/D17)) -> 0 | E20: =IF(E17=0,0,(E19/E17)) -> 0 | F20: =IF(F17=0,0,(F19/F17)) -> 0 | G20: =IF(G17=0,0,(G19/G17)) -> 0 | H20: =IF(H17=0,0,(H19/H17)) -> 0 | I20: =IF(I17=0,0,(I19/I17)) -> 0 | ... N20: =IF(N17=0,0,(N19/N17)) -> 0
A21: Arrivals | N21: =SUM(B21:M21) -> 0
A22: Length of stay | B22: =IF(B21="","",(B17/B21)) | C22: =IF(C21="","",(C17/C21)) | D22: =IF(D21="","",(D17/D21)) | E22: =IF(E21="","",(E17/E21)) | F22: =IF(F21="","",(F17/F21)) | G22: =IF(G21="","",(G17/G21)) | H22: =IF(H21="","",(H17/H21)) | I22: =IF(I21="","",(I17/I21)) | ... N22: =IF(N21="","",(N17/N21)) -> #DIV/0!
A23: Room Rev | B23: =B17*B18 -> 0 | C23: =C17*C18 -> 0 | D23: =D17*D18 -> 0 | E23: =E17*E18 -> 0 | F23: =F17*F18 -> 0 | G23: =G17*G18 -> 0 | H23: =H17*H18 -> 0 | I23: =I17*I18 -> 0 | ... M23: =M17*M18 -> 0 | N23: =SUM(B23:M23) -> 0
A24: F&B Rev | N24: =SUM(B24:M24) -> 0
A25: Extra Rev | N25: =SUM(B25:M25) -> 0
A26: TOTAL Rev | B26: =SUM(B23:B25) -> 0 | C26: =SUM(C23:C25) -> 0 | D26: =SUM(D23:D25) -> 0 | E26: =SUM(E23:E25) -> 0 | F26: =SUM(F23:F25) -> 0 | G26: =SUM(G23:G25) -> 0 | H26: =SUM(H23:H25) -> 0 | I26: =SUM(I23:I25) -> 0 | ... M26: =SUM(M23:M25) -> 0 | N26: =SUM(B26:M26) -> 0
A27: Av. S. P Gst. | B27: =IF(B26="","",(B26/B19)) -> #DIV/0! | C27: =IF(C26="","",(C26/C19)) -> #DIV/0! | D27: =IF(D26="","",(D26/D19)) -> #DIV/0! | E27: =IF(E26="","",(E26/E19)) -> #DIV/0! | F27: =IF(F26="","",(F26/F19)) -> #DIV/0! | G27: =IF(G26="","",(G26/G19)) -> #DIV/0! | H27: =IF(H26="","",(H26/H19)) -> #DIV/0! | I27: =IF(I26="","",(I26/I19)) -> #DIV/0! | ... N27: =IF(N26="","",(N26/N19)) -> #DIV/0!
B29: Jan | C29: Feb | D29: Mar | E29: Apr | F29: May | G29: Jun | H29: Jul | I29: Aug | J29: Sep | K29: Oct | L29: Nov | M29: Dec | N29: Total
A30: Rm Nights | N30: =SUM(B30:M30) -> 0
A31: Av.R.R. | N31: =N36/N30 -> #DIV/0!
A32: # Of Guests | N32: =SUM(B32:M32) -> 0
A33: DBL Occ. | B33: =IF(B30=0,0,(B32/B30)) -> 0 | C33: =IF(C30=0,0,(C32/C30)) -> 0 | D33: =IF(D30=0,0,(D32/D30)) -> 0 | E33: =IF(E30=0,0,(E32/E30)) -> 0 | F33: =IF(F30=0,0,(F32/F30)) -> 0 | G33: =IF(G30=0,0,(G32/G30)) -> 0 | H33: =IF(H30=0,0,(H32/H30)) -> 0 | I33: =IF(I30=0,0,(I32/I30)) -> 0 | ... N33: =IF(N30=0,0,(N32/N30)) -> 0
A34: Arrivals | N34: =SUM(B34:M34) -> 0
A35: Length of stay | B35: =IF(B34="","",(B30/B34)) | C35: =IF(C34="","",(C30/C34)) | D35: =IF(D34="","",(D30/D34)) | E35: =IF(E34="","",(E30/E34)) | F35: =IF(F34="","",(F30/F34)) | G35: =IF(G34="","",(G30/G34)) | H35: =IF(H34="","",(H30/H34)) | I35: =IF(I34="","",(I30/I34)) | ... N35: =IF(N34="","",(N30/N34)) -> #DIV/0!
A36: Room Rev | B36: =B30*B31 -> 0 | C36: =C30*C31 -> 0 | D36: =D30*D31 -> 0 | E36: =E30*E31 -> 0 | F36: =F30*F31 -> 0 | G36: =G30*G31 -> 0 | H36: =H30*H31 -> 0 | I36: =I30*I31 -> 0 | ... M36: =M30*M31 -> 0 | N36: =SUM(B36:M36) -> 0
A37: F&B Rev | N37: =SUM(B37:M37) -> 0
A38: Extra Rev | N38: =SUM(B38:M38) -> 0
