Workbook

Sheet Jan
A1: TOP 20 Producers
A2: Pegas Tourstik
A3: 2009 | B3: Jan | C3: Feb | D3: Mar | E3: Apr | F3: May | G3: Jun | H3: Jul | I3: Aug | J3: Sep | K3: Oct | L3: Nov | M3: Dec | N3: Total
A4: Rm Nights | B4: 2570 | N4: =SUM(B4:M4) -> 2570
A5: Av.R.R. | B5: 316.82216 | N5: =N10/N4 -> 316.82216
A6: # Of Guests | B6: 891 | N6: =SUM(B6:M6) -> 891
A7: DBL Occ. | B7: =IF(B4=0,0,(B6/B4)) -> 0.34669261 | C7: =IF(C4=0,0,(C6/C4)) -> 0 | D7: =IF(D4=0,0,(D6/D4)) -> 0 | E7: =IF(E4=0,0,(E6/E4)) -> 0 | F7: =IF(F4=0,0,(F6/F4)) -> 0 | G7: =IF(G4=0,0,(G6/G4)) -> 0 | H7: =IF(H4=0,0,(H6/H4)) -> 0 | I7: =IF(I4=0,0,(I6/I4)) -> 0 | ... N7: =IF(N4=0,0,(N6/N4)) -> 0.34669261
A8: Arrivals | N8: =SUM(B8:M8) -> 0
A9: Length of stay | B9: =IF(B8="","",(B4/B8)) | C9: =IF(C8="","",(C4/C8)) | D9: =IF(D8="","",(D4/D8)) | E9: =IF(E8="","",(E4/E8)) | F9: =IF(F8="","",(F4/F8)) | G9: =IF(G8="","",(G4/G8)) | H9: =IF(H8="","",(H4/H8)) | I9: =IF(I8="","",(I4/I8)) | ... N9: =IF(N8="","",(N4/N8)) -> #DIV/0!
A10: Room Rev | B10: =B4*B5 -> 814232.94 | C10: =C4*C5 -> 0 | D10: =D4*D5 -> 0 | E10: =E4*E5 -> 0 | F10: =F4*F5 -> 0 | G10: =G4*G5 -> 0 | H10: =H4*H5 -> 0 | I10: =I4*I5 -> 0 | ... M10: =M4*M5 -> 0 | N10: =SUM(B10:M10) -> 814232.94
A11: F&B Rev | B11: 18244 | N11: =SUM(B11:M11) -> 18244
A12: Extra Rev | B12: 509845.29 | N12: =SUM(B12:M12) -> 509845.29
A13: TOTAL Rev | B13: =SUM(B10:B12) -> 1342322.2 | C13: =SUM(C10:C12) -> 0 | D13: =SUM(D10:D12) -> 0 | E13: =SUM(E10:E12) -> 0 | F13: =SUM(F10:F12) -> 0 | G13: =SUM(G10:G12) -> 0 | H13: =SUM(H10:H12) -> 0 | I13: =SUM(I10:I12) -> 0 | ... M13: =SUM(M10:M12) -> 0 | N13: =SUM(B13:M13) -> 1342322.2
A14: Av. S. P Gst. | B14: =IF(B13="","",(B13/B6)) -> 1506.5345 | C14: =IF(C13="","",(C13/C6)) -> #DIV/0! | D14: =IF(D13="","",(D13/D6)) -> #DIV/0! | E14: =IF(E13="","",(E13/E6)) -> #DIV/0! | F14: =IF(F13="","",(F13/F6)) -> #DIV/0! | G14: =IF(G13="","",(G13/G6)) -> #DIV/0! | H14: =IF(H13="","",(H13/H6)) -> #DIV/0! | I14: =IF(I13="","",(I13/I6)) -> #DIV/0! | ... N14: =IF(N13="","",(N13/N6)) -> 1506.5345
A15: Spring/Apollo
A16: 2009 | B16: Jan | C16: Feb | D16: Mar | E16: Apr | F16: May | G16: Jun | H16: Jul | I16: Aug | J16: Sep | K16: Oct | L16: Nov | M16: Dec | N16: Total
A17: Rm Nights | B17: 899 | N17: =SUM(B17:M17) -> 899
A18: Av.R.R. | B18: 309.2627 | N18: =N23/N17 -> 309.2627
A19: # Of Guests | B19: 568 | N19: =SUM(B19:M19) -> 568
A20: DBL Occ. | B20: =IF(B17=0,0,(B19/B17)) -> 0.63181313 | C20: =IF(C17=0,0,(C19/C17)) -> 0 | D20: =IF(D17=0,0,(D19/D17)) -> 0 | E20: =IF(E17=0,0,(E19/E17)) -> 0 | F20: =IF(F17=0,0,(F19/F17)) -> 0 | G20: =IF(G17=0,0,(G19/G17)) -> 0 | H20: =IF(H17=0,0,(H19/H17)) -> 0 | I20: =IF(I17=0,0,(I19/I17)) -> 0 | ... N20: =IF(N17=0,0,(N19/N17)) -> 0.63181313
A21: Arrivals | N21: =SUM(B21:M21) -> 0
A22: Length of stay | B22: =IF(B21="","",(B17/B21)) | C22: =IF(C21="","",(C17/C21)) | D22: =IF(D21="","",(D17/D21)) | E22: =IF(E21="","",(E17/E21)) | F22: =IF(F21="","",(F17/F21)) | G22: =IF(G21="","",(G17/G21)) | H22: =IF(H21="","",(H17/H21)) | I22: =IF(I21="","",(I17/I21)) | ... N22: =IF(N21="","",(N17/N21)) -> #DIV/0!
A23: Room Rev | B23: =B17*B18 -> 278027.17 | C23: =C17*C18 -> 0 | D23: =D17*D18 -> 0 | E23: =E17*E18 -> 0 | F23: =F17*F18 -> 0 | G23: =G17*G18 -> 0 | H23: =H17*H18 -> 0 | I23: =I17*I18 -> 0 | ... M23: =M17*M18 -> 0 | N23: =SUM(B23:M23) -> 278027.17
A24: F&B Rev | B24: 84586.51 | N24: =SUM(B24:M24) -> 84586.51
A25: Extra Rev | B25: 54578.25 | N25: =SUM(B25:M25) -> 54578.25
A26: TOTAL Rev | B26: =SUM(B23:B25) -> 417191.93 | C26: =SUM(C23:C25) -> 0 | D26: =SUM(D23:D25) -> 0 | E26: =SUM(E23:E25) -> 0 | F26: =SUM(F23:F25) -> 0 | G26: =SUM(G23:G25) -> 0 | H26: =SUM(H23:H25) -> 0 | I26: =SUM(I23:I25) -> 0 | ... M26: =SUM(M23:M25) -> 0 | N26: =SUM(B26:M26) -> 417191.93
A27: Av. S. P Gst. | B27: =IF(B26="","",(B26/B19)) -> 734.49283 | C27: =IF(C26="","",(C26/C19)) -> #DIV/0! | D27: =IF(D26="","",(D26/D19)) -> #DIV/0! | E27: =IF(E26="","",(E26/E19)) -> #DIV/0! | F27: =IF(F26="","",(F26/F19)) -> #DIV/0! | G27: =IF(G26="","",(G26/G19)) -> #DIV/0! | H27: =IF(H26="","",(H26/H19)) -> #DIV/0! | I27: =IF(I26="","",(I26/I19)) -> #DIV/0! | ... N27: =IF(N26="","",(N26/N19)) -> 734.49283
A28: Nordic
A29: 2009 | B29: Jan | C29: Feb | D29: Mar | E29: Apr | F29: May | G29: Jun | H29: Jul | I29: Aug | J29: Sep | K29: Oct | L29: Nov | M29: Dec | N29: Total
A30: Rm Nights | B30: 619 | N30: =SUM(B30:M30) -> 619
A31: Av.R.R. | B31: 394.06147 | N31: =N36/N30 -> 394.06147
A32: # Of Guests | B32: 186 | N32: =SUM(B32:M32) -> 186
A33: DBL Occ. | B33: =IF(B30=0,0,(B32/B30)) -> 0.30048465 | C33: =IF(C30=0,0,(C32/C30)) -> 0 | D33: =IF(D30=0,0,(D32/D30)) -> 0 | E33: =IF(E30=0,0,(E32/E30)) -> 0 | F33: =IF(F30=0,0,(F32/F30)) -> 0 | G33: =IF(G30=0,0,(G32/G30)) -> 0 | H33: =IF(H30=0,0,(H32/H30)) -> 0 | I33: =IF(I30=0,0,(I32/I30)) -> 0 | ... N33: =IF(N30=0,0,(N32/N30)) -> 0.30048465
A34: Arrivals | N34: =SUM(B34:M34) -> 0
A35: Length of stay | B35: =IF(B34="","",(B30/B34)) | C35: =IF(C34="","",(C30/C34)) | D35: =IF(D34="","",(D30/D34)) | E35: =IF(E34="","",(E30/E34)) | F35: =IF(F34="","",(F30/F34)) | G35: =IF(G34="","",(G30/G34)) | H35: =IF(H34="","",(H30/H34)) | I35: =IF(I34="","",(I30/I34)) | ... N35: =IF(N34="","",(N30/N34)) -> #DIV/0!
A36: Room Rev | B36: =B30*B31 -> 243924.05 | C36: =C30*C31 -> 0 | D36: =D30*D31 -> 0 | E36: =E30*E31 -> 0 | F36: =F30*F31 -> 0 | G36: =G30*G31 -> 0 | H36: =H30*H31 -> 0 | I36: =I30*I31 -> 0 | ... M36: =M30*M31 -> 0 | N36: =SUM(B36:M36) -> 243924.05
A37: F&B Rev | B37: 90238.31 | N37: =SUM(B37:M37) -> 90238.31
A38: Extra Rev | B38: 92339.67 | N38: =SUM(B38:M38) -> 92339.67
A39: TOTAL Rev | B39: =SUM(B36:B38) -> 426502.03 | C39: =SUM(C36:C38) -> 0 | D39: =SUM(D36:D38) -> 0 | E39: =SUM(E36:E38) -> 0 | F39: =SUM(F36:F38) -> 0 | G39: =SUM(G36:G38) -> 0 | H39: =SUM(H36:H38) -> 0 | I39: =SUM(I36:I38) -> 0 | ... M39: =SUM(M36:M38) -> 0 | N39: =SUM(B39:M39) -> 426502.03
A40: Av. S. P Gst. | B40: =IF(B39="","",(B39/B32)) -> 2293.0217 | C40: =IF(C39="","",(C39/C32)) -> #DIV/0! | D40: =IF(D39="","",(D39/D32)) -> #DIV/0! | E40: =IF(E39="","",(E39/E32)) -> #DIV/0! | F40: =IF(F39="","",(F39/F32)) -> #DIV/0! | G40: =IF(G39="","",(G39/G32)) -> #DIV/0! | H40: =IF(H39="","",(H39/H32)) -> #DIV/0! | I40: =IF(I39="","",(I39/I32)) -> #DIV/0! | ... N40: =IF(N39="","",(N39/N32)) -> 2293.0217
A41: Thomson Holidays
A42: 2009 | B42: Jan | C42: Feb | D42: Mar | E42: Apr | F42: May | G42: Jun | H42: Jul | I42: Aug | J42: Sep | K42: Oct | L42: Nov | M42: Dec | N42: Total
A43: Rm Nights | B43: 346 | N43: =SUM(B43:M43) -> 346
A44: Av.R.R. | B44: 402.93228 | N44: =N49/N43 -> 402.93228
A45: # Of Guests | B45: 111 | N45: =SUM(B45:M45) -> 111
A46: DBL Occ. | B46: =IF(B43=0,0,(B45/B43)) -> 0.32080925 | C46: =IF(C43=0,0,(C45/C43)) -> 0 | D46: =IF(D43=0,0,(D45/D43)) -> 0 | E46: =IF(E43=0,0,(E45/E43)) -> 0 | F46: =IF(F43=0,0,(F45/F43)) -> 0 | G46: =IF(G43=0,0,(G45/G43)) -> 0 | H46: =IF(H43=0,0,(H45/H43)) -> 0 | I46: =IF(I43=0,0,(I45/I43)) -> 0 | ... N46: =IF(N43=0,0,(N45/N43)) -> 0.32080925
A47: Arrivals | N47: =SUM(B47:M47) -> 0
A48: Length of stay | B48: =IF(B47="","",(B43/B47)) | C48: =IF(C47="","",(C43/C47)) | D48: =IF(D47="","",(D43/D47)) | E48: =IF(E47="","",(E43/E47)) | F48: =IF(F47="","",(F43/F47)) | G48: =IF(G47="","",(G43/G47)) | H48: =IF(H47="","",(H43/H47)) | I48: =IF(I47="","",(I43/I47)) | ... N48: =IF(N47="","",(N43/N47)) -> #DIV/0!
A49: Room Rev | B49: =B43*B44 -> 139414.57 | C49: =C43*C44 -> 0 | D49: =D43*D44 -> 0 | E49: =E43*E44 -> 0 | F49: =F43*F44 -> 0 | G49: =G43*G44 -> 0 | H49: =H43*H44 -> 0 | I49: =I43*I44 -> 0 | ... M49: =M43*M44 -> 0 | N49: =SUM(B49:M49) -> 139414.57
A50: F&B Rev | B50: 23876 | N50: =SUM(B50:M50) -> 23876
A51: Extra Rev | B51: 23652.72 | N51: =SUM(B51:M51) -> 23652.72
A52: TOTAL Rev | B52: =SUM(B49:B51) -> 186943.29 | C52: =SUM(C49:C51) -> 0 | D52: =SUM(D49:D51) -> 0 | E52: =SUM(E49:E51) -> 0 | F52: =SUM(F49:F51) -> 0 | G52: =SUM(G49:G51) -> 0 | H52: =SUM(H49:H51) -> 0 | I52: =SUM(I49:I51) -> 0 | ... M52: =SUM(M49:M51) -> 0 | N52: =SUM(B52:M52) -> 186943.29
A53: Av. S. P Gst. | B53: =IF(B52="","",(B52/B45)) -> 1684.1738 | C53: =IF(C52="","",(C52/C45)) -> #DIV/0! | D53: =IF(D52="","",(D52/D45)) -> #DIV/0! | E53: =IF(E52="","",(E52/E45)) -> #DIV/0! | F53: =IF(F52="","",(F52/F45)) -> #DIV/0! | G53: =IF(G52="","",(G52/G45)) -> #DIV/0! | H53: =IF(H52="","",(H52/H45)) -> #DIV/0! | I53: =IF(I52="","",(I52/I45)) -> #DIV/0! | ... N53: =IF(N52="","",(N52/N45)) -> 1684.1738
A54: My travel
A55: 2009 | B55: Jan | C55: Feb | D55: Mar | E55: Apr | F55: May | G55: Jun | H55: Jul | I55: Aug | J55: Sep | K55: Oct | L55: Nov | M55: Dec | N55: Total
A56: Rm Nights | B56: 334 | N56: =SUM(B56:M56) -> 334
A57: Av.R.R. | B57: 341.36608 | N57: =N62/N56 -> 341.36608
A58: # Of Guests | B58: 93 | N58: =SUM(B58:M58) -> 93
A59: DBL Occ. | B59: =IF(B56=0,0,(B58/B56)) -> 0.27844311 | C59: =IF(C56=0,0,(C58/C56)) -> 0 | D59: =IF(D56=0,0,(D58/D56)) -> 0 | E59: =IF(E56=0,0,(E58/E56)) -> 0 | F59: =IF(F56=0,0,(F58/F56)) -> 0 | G59: =IF(G56=0,0,(G58/G56)) -> 0 | H59: =IF(H56=0,0,(H58/H56)) -> 0 | I59: =IF(I56=0,0,(I58/I56)) -> 0 | ... N59: =IF(N56=0,0,(N58/N56)) -> 0.27844311
A60: Arrivals | N60: =SUM(B60:M60) -> 0
A61: Length of stay | B61: =IF(B60="","",(B56/B60)) | C61: =IF(C60="","",(C56/C60)) | D61: =IF(D60="","",(D56/D60)) | E61: =IF(E60="","",(E56/E60)) | F61: =IF(F60="","",(F56/F60)) | G61: =IF(G60="","",(G56/G60)) | H61: =IF(H60="","",(H56/H60)) | I61: =IF(I60="","",(I56/I60)) | ... N61: =IF(N60="","",(N56/N60)) -> #DIV/0!
A62: Room Rev | B62: =B56*B57 -> 114016.27 | C62: =C56*C57 -> 0 | D62: =D56*D57 -> 0 | E62: =E56*E57 -> 0 | F62: =F56*F57 -> 0 | G62: =G56*G57 -> 0 | H62: =H56*H57 -> 0 | I62: =I56*I57 -> 0 | ... M62: =M56*M57 -> 0 | N62: =SUM(B62:M62) -> 114016.27
A63: F&B Rev | B63: 10879 | N63: =SUM(B63:M63) -> 10879
A64: Extra Rev | B64: 28872.21 | N64: =SUM(B64:M64) -> 28872.21
A65: TOTAL Rev | B65: =SUM(B62:B64) -> 153767.48 | C65: =SUM(C62:C64) -> 0 | D65: =SUM(D62:D64) -> 0 | E65: =SUM(E62:E64) -> 0 | F65: =SUM(F62:F64) -> 0 | G65: =SUM(G62:G64) -> 0 | H65: =SUM(H62:H64) -> 0 | I65: =SUM(I62:I64) -> 0 | ... M65: =SUM(M62:M64) -> 0 | N65: =SUM(B65:M65) -> 153767.48
A66: Av. S. P Gst. | B66: =IF(B65="","",(B65/B58)) -> 1653.4138 | C66: =IF(C65="","",(C65/C58)) -> #DIV/0! | D66: =IF(D65="","",(D65/D58)) -> #DIV/0! | E66: =IF(E65="","",(E65/E58)) -> #DIV/0! | F66: =IF(F65="","",(F65/F58)) -> #DIV/0! | G66: =IF(G65="","",(G65/G58)) -> #DIV/0! | H66: =IF(H65="","",(H65/H58)) -> #DIV/0! | I66: =IF(I65="","",(I65/I58)) -> #DIV/0! | ... N66: =IF(N65="","",(N65/N58)) -> 1653.4138
A67: Travel ways
A68: 2008 | B68: Jan | C68: Feb | D68: Mar | E68: Apr | F68: May | G68: Jun | H68: Jul | I68: Aug | J68: Sep | K68: Oct | L68: Nov | M68: Dec | N68: Total
A69: Rm Nights | B69: 330 | N69: =SUM(B69:M69) -> 330
A70: Av.R.R. | B70: 304.5337 | N70: =N75/N69 -> 304.5337
A71: # Of Guests | B71: 123 | N71: =SUM(B71:M71) -> 123
A72: DBL Occ. | B72: =IF(B69=0,0,(B71/B69)) -> 0.37272727 | C72: =IF(C69=0,0,(C71/C69)) -> 0 | D72: =IF(D69=0,0,(D71/D69)) -> 0 | E72: =IF(E69=0,0,(E71/E69)) -> 0 | F72: =IF(F69=0,0,(F71/F69)) -> 0 | G72: =IF(G69=0,0,(G71/G69)) -> 0 | H72: =IF(H69=0,0,(H71/H69)) -> 0 | I72: =IF(I69=0,0,(I71/I69)) -> 0 | ... N72: =IF(N69=0,0,(N71/N69)) -> 0.37272727
A73: Arrivals | N73: =SUM(B73:M73) -> 0
A74: Length of stay | B74: =IF(B73="","",(B69/B73)) | C74: =IF(C73="","",(C69/C73)) | D74: =IF(D73="","",(D69/D73)) | E74: =IF(E73="","",(E69/E73)) | F74: =IF(F73="","",(F69/F73)) | G74: =IF(G73="","",(G69/G73)) | H74: =IF(H73="","",(H69/H73)) | I74: =IF(I73="","",(I69/I73)) | ... N74: =IF(N73="","",(N69/N73)) -> #DIV/0!
A75: Room Rev | B75: =B69*B70 -> 100496.12 | C75: =C69*C70 -> 0 | D75: =D69*D70 -> 0 | E75: =E69*E70 -> 0 | F75: =F69*F70 -> 0 | G75: =G69*G70 -> 0 | H75: =H69*H70 -> 0 | I75: =I69*I70 -> 0 | ... M75: =M69*M70 -> 0 | N75: =SUM(B75:M75) -> 100496.12
A76: F&B Rev | B76: 5807.02 | N76: =SUM(B76:M76) -> 5807.02
A77: Extra Rev | B77: 46884.4 | N77: =SUM(B77:M77) -> 46884.4
A78: TOTAL Rev | B78: =SUM(B75:B77) -> 153187.54 | C78: =SUM(C75:C77) -> 0 | D78: =SUM(D75:D77) -> 0 | E78: =SUM(E75:E77) -> 0 | F78: =SUM(F75:F77) -> 0 | G78: =SUM(G75:G77) -> 0 | H78: =SUM(H75:H77) -> 0 | I78: =SUM(I75:I77) -> 0 | ... M78: =SUM(M75:M77) -> 0 | N78: =SUM(B78:M78) -> 153187.54
A79: Av. S. P Gst. | B79: =IF(B78="","",(B78/B71)) -> 1245.4272 | C79: =IF(C78="","",(C78/C71)) -> #DIV/0! | D79: =IF(D78="","",(D78/D71)) -> #DIV/0! | E79: =IF(E78="","",(E78/E71)) -> #DIV/0! | F79: =IF(F78="","",(F78/F71)) -> #DIV/0! | G79: =IF(G78="","",(G78/G71)) -> #DIV/0! | H79: =IF(H78="","",(H78/H71)) -> #DIV/0! | I79: =IF(I78="","",(I78/I71)) -> #DIV/0! | ... N79: =IF(N78="","",(N78/N71)) -> 1245.4272
A80: Aurinkomatkat
A81: 2009 | B81: Jan | C81: Feb | D81: Mar | E81: Apr | F81: May | G81: Jun | H81: Jul | I81: Aug | J81: Sep | K81: Oct | L81: Nov | M81: Dec | N81: Total
A82: Rm Nights | B82: 316 | N82: =SUM(B82:M82) -> 316
A83: Av.R.R. | B83: 275.70174 | N83: =N88/N82 -> 275.70174
A84: # Of Guests | B84: 69 | N84: =SUM(B84:M84) -> 69
A85: DBL Occ. | B85: =IF(B82=0,0,(B84/B82)) -> 0.21835443 | C85: =IF(C82=0,0,(C84/C82)) -> 0 | D85: =IF(D82=0,0,(D84/D82)) -> 0 | E85: =IF(E82=0,0,(E84/E82)) -> 0 | F85: =IF(F82=0,0,(F84/F82)) -> 0 | G85: =IF(G82=0,0,(G84/G82)) -> 0 | H85: =IF(H82=0,0,(H84/H82)) -> 0 | I85: =IF(I82=0,0,(I84/I82)) -> 0 | ... N85: =IF(N82=0,0,(N84/N82)) -> 0.21835443
A86: Arrivals | N86: =SUM(B86:M86) -> 0
A87: Length of stay | B87: =IF(B86="","",(B82/B86)) | C87: =IF(C86="","",(C82/C86)) | D87: =IF(D86="","",(D82/D86)) | E87: =IF(E86="","",(E82/E86)) | F87: =IF(F86="","",(F82/F86)) | G87: =IF(G86="","",(G82/G86)) | H87: =IF(H86="","",(H82/H86)) | I87: =IF(I86="","",(I82/I86)) | ... N87: =IF(N86="","",(N82/N86)) -> #DIV/0!
A88: Room Rev | B88: =B82*B83 -> 87121.75 | C88: =C82*C83 -> 0 | D88: =D82*D83 -> 0 | E88: =E82*E83 -> 0 | F88: =F82*F83 -> 0 | G88: =G82*G83 -> 0 | H88: =H82*H83 -> 0 | I88: =I82*I83 -> 0 | ... M88: =M82*M83 -> 0 | N88: =SUM(B88:M88) -> 87121.75
A89: F&B Rev | B89: 7012.3 | N89: =SUM(B89:M89) -> 7012.3
A90: Extra Rev | B90: 11835.31 | N90: =SUM(B90:M90) -> 11835.31
A91: TOTAL Rev | B91: =SUM(B88:B90) -> 105969.36 | C91: =SUM(C88:C90) -> 0 | D91: =SUM(D88:D90) -> 0 | E91: =SUM(E88:E90) -> 0 | F91: =SUM(F88:F90) -> 0 | G91: =SUM(G88:G90) -> 0 | H91: =SUM(H88:H90) -> 0 | I91: =SUM(I88:I90) -> 0 | ... M91: =SUM(M88:M90) -> 0 | N91: =SUM(B91:M91) -> 105969.36
A92: Av. S. P Gst. | B92: =IF(B91="","",(B91/B84)) -> 1535.7878 | C92: =IF(C91="","",(C91/C84)) -> #DIV/0! | D92: =IF(D91="","",(D91/D84)) -> #DIV/0! | E92: =IF(E91="","",(E91/E84)) -> #DIV/0! | F92: =IF(F91="","",(F91/F84)) -> #DIV/0! | G92: =IF(G91="","",(G91/G84)) -> #DIV/0! | H92: =IF(H91="","",(H91/H84)) -> #DIV/0! | I92: =IF(I91="","",(I91/I84)) -> #DIV/0! | ... N92: =IF(N91="","",(N91/N84)) -> 1535.7878
A93: Atlantis Rejser
A94: 2009 | B94: Jan | C94: Feb | D94: Mar | E94: Apr | F94: May | G94: Jun | H94: Jul | I94: Aug | J94: Sep | K94: Oct | L94: Nov | M94: Dec | N94: Total
A95: Rm Nights | B95: 249 | N95: =SUM(B95:M95) -> 249
A96: Av.R.R. | B96: 329.67647 | N96: =N101/N95 -> 329.67647
A97: # Of Guests | B97: 78 | N97: =SUM(B97:M97) -> 78
A98: DBL Occ. | B98: =IF(B95=0,0,(B97/B95)) -> 0.31325301 | C98: =IF(C95=0,0,(C97/C95)) -> 0 | D98: =IF(D95=0,0,(D97/D95)) -> 0 | E98: =IF(E95=0,0,(E97/E95)) -> 0 | F98: =IF(F95=0,0,(F97/F95)) -> 0 | G98: =IF(G95=0,0,(G97/G95)) -> 0 | H98: =IF(H95=0,0,(H97/H95)) -> 0 | I98: =IF(I95=0,0,(I97/I95)) -> 0 | ... N98: =IF(N95=0,0,(N97/N95)) -> 0.31325301
A99: Arrivals | N99: =SUM(B99:M99) -> 0
A100: Length of stay | B100: =IF(B99="","",(B95/B99)) | C100: =IF(C99="","",(C95/C99)) | D100: =IF(D99="","",(D95/D99)) | E100: =IF(E99="","",(E95/E99)) | F100: =IF(F99="","",(F95/F99)) | G100: =IF(G99="","",(G95/G99)) | H100: =IF(H99="","",(H95/H99)) | I100: =IF(I99="","",(I95/I99)) | ... N100: =IF(N99="","",(N95/N99)) -> #DIV/0!
...

Sheet Feb
A1: =Jan!A1 -> TOP 20 Producers
B3: Jan | C3: Feb | D3: Mar | E3: Apr | F3: May | G3: Jun | H3: Jul | I3: Aug | J3: Sep | K3: Oct | L3: Nov | M3: Dec | N3: Total
A4: Rm Nights | N4: =SUM(B4:M4) -> 0
A5: Av.R.R. | N5: =N10/N4 -> #DIV/0!
A6: # Of Guests | N6: =SUM(B6:M6) -> 0
A7: DBL Occ. | B7: =IF(B4=0,0,(B6/B4)) -> 0 | C7: =IF(C4=0,0,(C6/C4)) -> 0 | D7: =IF(D4=0,0,(D6/D4)) -> 0 | E7: =IF(E4=0,0,(E6/E4)) -> 0 | F7: =IF(F4=0,0,(F6/F4)) -> 0 | G7: =IF(G4=0,0,(G6/G4)) -> 0 | H7: =IF(H4=0,0,(H6/H4)) -> 0 | I7: =IF(I4=0,0,(I6/I4)) -> 0 | ... N7: =IF(N4=0,0,(N6/N4)) -> 0
A8: Arrivals | N8: =SUM(B8:M8) -> 0
A9: Length of stay | B9: =IF(B8="","",(B4/B8)) | C9: =IF(C8="","",(C4/C8)) | D9: =IF(D8="","",(D4/D8)) | E9: =IF(E8="","",(E4/E8)) | F9: =IF(F8="","",(F4/F8)) | G9: =IF(G8="","",(G4/G8)) | H9: =IF(H8="","",(H4/H8)) | I9: =IF(I8="","",(I4/I8)) | ... N9: =IF(N8="","",(N4/N8)) -> #DIV/0!
A10: Room Rev | B10: =B4*B5 -> 0 | C10: =C4*C5 -> 0 | D10: =D4*D5 -> 0 | E10: =E4*E5 -> 0 | F10: =F4*F5 -> 0 | G10: =G4*G5 -> 0 | H10: =H4*H5 -> 0 | I10: =I4*I5 -> 0 | ... M10: =M4*M5 -> 0 | N10: =SUM(B10:M10) -> 0
A11: F&B Rev | N11: =SUM(B11:M11) -> 0
A12: Extra Rev | N12: =SUM(B12:M12) -> 0
A13: TOTAL Rev | B13: =SUM(B10:B12) -> 0 | C13: =SUM(C10:C12) -> 0 | D13: =SUM(D10:D12) -> 0 | E13: =SUM(E10:E12) -> 0 | F13: =SUM(F10:F12) -> 0 | G13: =SUM(G10:G12) -> 0 | H13: =SUM(H10:H12) -> 0 | I13: =SUM(I10:I12) -> 0 | ... M13: =SUM(M10:M12) -> 0 | N13: =SUM(B13:M13) -> 0
A14: Av. S. P Gst. | B14: =IF(B13="","",(B13/B6)) -> #DIV/0! | C14: =IF(C13="","",(C13/C6)) -> #DIV/0! | D14: =IF(D13="","",(D13/D6)) -> #DIV/0! | E14: =IF(E13="","",(E13/E6)) -> #DIV/0! | F14: =IF(F13="","",(F13/F6)) -> #DIV/0! | G14: =IF(G13="","",(G13/G6)) -> #DIV/0! | H14: =IF(H13="","",(H13/H6)) -> #DIV/0! | I14: =IF(I13="","",(I13/I6)) -> #DIV/0! | ... N14: =IF(N13="","",(N13/N6)) -> #DIV/0!
B16: Jan | C16: Feb | D16: Mar | E16: Apr | F16: May | G16: Jun | H16: Jul | I16: Aug | J16: Sep | K16: Oct | L16: Nov | M16: Dec | N16: Total
A17: Rm Nights | N17: =SUM(B17:M17) -> 0
A18: Av.R.R. | N18: =N23/N17 -> #DIV/0!
A19: # Of Guests | N19: =SUM(B19:M19) -> 0
A20: DBL Occ. | B20: =IF(B17=0,0,(B19/B17)) -> 0 | C20: =IF(C17=0,0,(C19/C17)) -> 0 | D20: =IF(D17=0,0,(D19/D17)) -> 0 | E20: =IF(E17=0,0,(E19/E17)) -> 0 | F20: =IF(F17=0,0,(F19/F17)) -> 0 | G20: =IF(G17=0,0,(G19/G17)) -> 0 | H20: =IF(H17=0,0,(H19/H17)) -> 0 | I20: =IF(I17=0,0,(I19/I17)) -> 0 | ... N20: =IF(N17=0,0,(N19/N17)) -> 0
A21: Arrivals | N21: =SUM(B21:M21) -> 0
A22: Length of stay | B22: =IF(B21="","",(B17/B21)) | C22: =IF(C21="","",(C17/C21)) | D22: =IF(D21="","",(D17/D21)) | E22: =IF(E21="","",(E17/E21)) | F22: =IF(F21="","",(F17/F21)) | G22: =IF(G21="","",(G17/G21)) | H22: =IF(H21="","",(H17/H21)) | I22: =IF(I21="","",(I17/I21)) | ... N22: =IF(N21="","",(N17/N21)) -> #DIV/0!
A23: Room Rev | B23: =B17*B18 -> 0 | C23: =C17*C18 -> 0 | D23: =D17*D18 -> 0 | E23: =E17*E18 -> 0 | F23: =F17*F18 -> 0 | G23: =G17*G18 -> 0 | H23: =H17*H18 -> 0 | I23: =I17*I18 -> 0 | ... M23: =M17*M18 -> 0 | N23: =SUM(B23:M23) -> 0
A24: F&B Rev | N24: =SUM(B24:M24) -> 0
A25: Extra Rev | N25: =SUM(B25:M25) -> 0
A26: TOTAL Rev | B26: =SUM(B23:B25) -> 0 | C26: =SUM(C23:C25) -> 0 | D26: =SUM(D23:D25) -> 0 | E26: =SUM(E23:E25) -> 0 | F26: =SUM(F23:F25) -> 0 | G26: =SUM(G23:G25) -> 0 | H26: =SUM(H23:H25) -> 0 | I26: =SUM(I23:I25) -> 0 | ... M26: =SUM(M23:M25) -> 0 | N26: =SUM(B26:M26) -> 0
A27: Av. S. P Gst. | B27: =IF(B26="","",(B26/B19)) -> #DIV/0! | C27: =IF(C26="","",(C26/C19)) -> #DIV/0! | D27: =IF(D26="","",(D26/D19)) -> #DIV/0! | E27: =IF(E26="","",(E26/E19)) -> #DIV/0! | F27: =IF(F26="","",(F26/F19)) -> #DIV/0! | G27: =IF(G26="","",(G26/G19)) -> #DIV/0! | H27: =IF(H26="","",(H26/H19)) -> #DIV/0! | I27: =IF(I26="","",(I26/I19)) -> #DIV/0! | ... N27: =IF(N26="","",(N26/N19)) -> #DIV/0!
B29: Jan | C29: Feb | D29: Mar | E29: Apr | F29: May | G29: Jun | H29: Jul | I29: Aug | J29: Sep | K29: Oct | L29: Nov | M29: Dec | N29: Total
A30: Rm Nights | N30: =SUM(B30:M30) -> 0
A31: Av.R.R. | N31: =N36/N30 -> #DIV/0!
A32: # Of Guests | N32: =SUM(B32:M32) -> 0
A33: DBL Occ. | B33: =IF(B30=0,0,(B32/B30)) -> 0 | C33: =IF(C30=0,0,(C32/C30)) -> 0 | D33: =IF(D30=0,0,(D32/D30)) -> 0 | E33: =IF(E30=0,0,(E32/E30)) -> 0 | F33: =IF(F30=0,0,(F32/F30)) -> 0 | G33: =IF(G30=0,0,(G32/G30)) -> 0 | H33: =IF(H30=0,0,(H32/H30)) -> 0 | I33: =IF(I30=0,0,(I32/I30)) -> 0 | ... N33: =IF(N30=0,0,(N32/N30)) -> 0
A34: Arrivals | N34: =SUM(B34:M34) -> 0
A35: Length of stay | B35: =IF(B34="","",(B30/B34)) | C35: =IF(C34="","",(C30/C34)) | D35: =IF(D34="","",(D30/D34)) | E35: =IF(E34="","",(E30/E34)) | F35: =IF(F34="","",(F30/F34)) | G35: =IF(G34="","",(G30/G34)) | H35: =IF(H34="","",(H30/H34)) | I35: =IF(I34="","",(I30/I34)) | ... N35: =IF(N34="","",(N30/N34)) -> #DIV/0!
A36: Room Rev | B36: =B30*B31 -> 0 | C36: =C30*C31 -> 0 | D36: =D30*D31 -> 0 | E36: =E30*E31 -> 0 | F36: =F30*F31 -> 0 | G36: =G30*G31 -> 0 | H36: =H30*H31 -> 0 | I36: =I30*I31 -> 0 | ... M36: =M30*M31 -> 0 | N36: =SUM(B36:M36) -> 0
A37: F&B Rev | N37: =SUM(B37:M37) -> 0
A38: Extra Rev | N38: =SUM(B38:M38) -> 0
A39: TOTAL Rev | B39: =SUM(B36:B38) -> 0 | C39: =SUM(C36:C38) -> 0 | D39: =SUM(D36:D38) -> 0 | E39: =SUM(E36:E38) -> 0 | F39: =SUM(F36:F38) -> 0 | G39: =SUM(G36:G38) -> 0 | H39: =SUM(H36:H38) -> 0 | I39: =SUM(I36:I38) -> 0 | ... M39: =SUM(M36:M38) -> 0 | N39: =SUM(B39:M39) -> 0
A40: Av. S. P Gst. | B40: =IF(B39="","",(B39/B32)) -> #DIV/0! | C40: =IF(C39="","",(C39/C32)) -> #DIV/0! | D40: =IF(D39="","",(D39/D32)) -> #DIV/0! | E40: =IF(E39="","",(E39/E32)) -> #DIV/0! | F40: =IF(F39="","",(F39/F32)) -> #DIV/0! | G40: =IF(G39="","",(G39/G32)) -> #DIV/0! | H40: =IF(H39="","",(H39/H32)) -> #DIV/0! | I40: =IF(I39="","",(I39/I32)) -> #DIV/0! | ... N40: =IF(N39="","",(N39/N32)) -> #DIV/0!
B42: Jan | C42: Feb | D42: Mar | E42: Apr | F42: May | G42: Jun | H42: Jul | I42: Aug | J42: Sep | K42: Oct | L42: Nov | M42: Dec | N42: Total
A43: Rm Nights | N43: =SUM(B43:M43) -> 0
A44: Av.R.R. | N44: =N49/N43 -> #DIV/0!
A45: # Of Guests | N45: =SUM(B45:M45) -> 0
A46: DBL Occ. | B46: =IF(B43=0,0,(B45/B43)) -> 0 | C46: =IF(C43=0,0,(C45/C43)) -> 0 | D46: =IF(D43=0,0,(D45/D43)) -> 0 | E46: =IF(E43=0,0,(E45/E43)) -> 0 | F46: =IF(F43=0,0,(F45/F43)) -> 0 | G46: =IF(G43=0,0,(G45/G43)) -> 0 | H46: =IF(H43=0,0,(H45/H43)) -> 0 | I46: =IF(I43=0,0,(I45/I43)) -> 0 | ... N46: =IF(N43=0,0,(N45/N43)) -> 0
A47: Arrivals | N47: =SUM(B47:M47) -> 0
A48: Length of stay | B48: =IF(B47="","",(B43/B47)) | C48: =IF(C47="","",(C43/C47)) | D48: =IF(D47="","",(D43/D47)) | E48: =IF(E47="","",(E43/E47)) | F48: =IF(F47="","",(F43/F47)) | G48: =IF(G47="","",(G43/G47)) | H48: =IF(H47="","",(H43/H47)) | I48: =IF(I47="","",(I43/I47)) | ... N48: =IF(N47="","",(N43/N47)) -> #DIV/0!
A49: Room Rev | B49: =B43*B44 -> 0 | C49: =C43*C44 -> 0 | D49: =D43*D44 -> 0 | E49: =E43*E44 -> 0 | F49: =F43*F44 -> 0 | G49: =G43*G44 -> 0 | H49: =H43*H44 -> 0 | I49: =I43*I44 -> 0 | ... M49: =M43*M44 -> 0 | N49: =SUM(B49:M49) -> 0
A50: F&B Rev | N50: =SUM(B50:M50) -> 0
A51: Extra Rev | N51: =SUM(B51:M51) -> 0
A52: TOTAL Rev | B52: =SUM(B49:B51) -> 0 | C52: =SUM(C49:C51) -> 0 | D52: =SUM(D49:D51) -> 0 | E52: =SUM(E49:E51) -> 0 | F52: =SUM(F49:F51) -> 0 | G52: =SUM(G49:G51) -> 0 | H52: =SUM(H49:H51) -> 0 | I52: =SUM(I49:I51) -> 0 | ... M52: =SUM(M49:M51) -> 0 | N52: =SUM(B52:M52) -> 0
A53: Av. S. P Gst. | B53: =IF(B52="","",(B52/B45)) -> #DIV/0! | C53: =IF(C52="","",(C52/C45)) -> #DIV/0! | D53: =IF(D52="","",(D52/D45)) -> #DIV/0! | E53: =IF(E52="","",(E52/E45)) -> #DIV/0! | F53: =IF(F52="","",(F52/F45)) -> #DIV/0! | G53: =IF(G52="","",(G52/G45)) -> #DIV/0! | H53: =IF(H52="","",(H52/H45)) -> #DIV/0! | I53: =IF(I52="","",(I52/I45)) -> #DIV/0! | ... N53: =IF(N52="","",(N52/N45)) -> #DIV/0!
B55: Jan | C55: Feb | D55: Mar | E55: Apr | F55: May | G55: Jun | H55: Jul | I55: Aug | J55: Sep | K55: Oct | L55: Nov | M55: Dec | N55: Total
A56: Rm Nights | N56: =SUM(B56:M56) -> 0
A57: Av.R.R. | N57: =N62/N56 -> #DIV/0!
A58: # Of Guests | N58: =SUM(B58:M58) -> 0
A59: DBL Occ. | B59: =IF(B56=0,0,(B58/B56)) -> 0 | C59: =IF(C56=0,0,(C58/C56)) -> 0 | D59: =IF(D56=0,0,(D58/D56)) -> 0 | E59: =IF(E56=0,0,(E58/E56)) -> 0 | F59: =IF(F56=0,0,(F58/F56)) -> 0 | G59: =IF(G56=0,0,(G58/G56)) -> 0 | H59: =IF(H56=0,0,(H58/H56)) -> 0 | I59: =IF(I56=0,0,(I58/I56)) -> 0 | ... N59: =IF(N56=0,0,(N58/N56)) -> 0
A60: Arrivals | N60: =SUM(B60:M60) -> 0
A61: Length of stay | B61: =IF(B60="","",(B56/B60)) | C61: =IF(C60="","",(C56/C60)) | D61: =IF(D60="","",(D56/D60)) | E61: =IF(E60="","",(E56/E60)) | F61: =IF(F60="","",(F56/F60)) | G61: =IF(G60="","",(G56/G60)) | H61: =IF(H60="","",(H56/H60)) | I61: =IF(I60="","",(I56/I60)) | ... N61: =IF(N60="","",(N56/N60)) -> #DIV/0!
A62: Room Rev | B62: =B56*B57 -> 0 | C62: =C56*C57 -> 0 | D62: =D56*D57 -> 0 | E62: =E56*E57 -> 0 | F62: =F56*F57 -> 0 | G62: =G56*G57 -> 0 | H62: =H56*H57 -> 0 | I62: =I56*I57 -> 0 | ... M62: =M56*M57 -> 0 | N62: =SUM(B62:M62) -> 0
A63: F&B Rev | N63: =SUM(B63:M63) -> 0
A64: Extra Rev | N64: =SUM(B64:M64) -> 0
A65: TOTAL Rev | B65: =SUM(B62:B64) -> 0 | C65: =SUM(C62:C64) -> 0 | D65: =SUM(D62:D64) -> 0 | E65: =SUM(E62:E64) -> 0 | F65: =SUM(F62:F64) -> 0 | G65: =SUM(G62:G64) -> 0 | H65: =SUM(H62:H64) -> 0 | I65: =SUM(I62:I64) -> 0 | ... M65: =SUM(M62:M64) -> 0 | N65: =SUM(B65:M65) -> 0
A66: Av. S. P Gst. | B66: =IF(B65="","",(B65/B58)) -> #DIV/0! | C66: =IF(C65="","",(C65/C58)) -> #DIV/0! | D66: =IF(D65="","",(D65/D58)) -> #DIV/0! | E66: =IF(E65="","",(E65/E58)) -> #DIV/0! | F66: =IF(F65="","",(F65/F58)) -> #DIV/0! | G66: =IF(G65="","",(G65/G58)) -> #DIV/0! | H66: =IF(H65="","",(H65/H58)) -> #DIV/0! | I66: =IF(I65="","",(I65/I58)) -> #DIV/0! | ... N66: =IF(N65="","",(N65/N58)) -> #DIV/0!
A67: You Travel
A68: 2008 | B68: Jan | C68: Feb | D68: Mar | E68: Apr | F68: May | G68: Jun | H68: Jul | I68: Aug | J68: Sep | K68: Oct | L68: Nov | M68: Dec | N68: Total
A69: Rm Nights | N69: =SUM(B69:M69) -> 0
A70: Av.R.R. | N70: =N75/N69 -> #DIV/0!
A71: # Of Guests | N71: =SUM(B71:M71) -> 0
A72: DBL Occ. | B72: =IF(B69=0,0,(B71/B69)) -> 0 | C72: =IF(C69=0,0,(C71/C69)) -> 0 | D72: =IF(D69=0,0,(D71/D69)) -> 0 | E72: =IF(E69=0,0,(E71/E69)) -> 0 | F72: =IF(F69=0,0,(F71/F69)) -> 0 | G72: =IF(G69=0,0,(G71/G69)) -> 0 | H72: =IF(H69=0,0,(H71/H69)) -> 0 | I72: =IF(I69=0,0,(I71/I69)) -> 0 | ... N72: =IF(N69=0,0,(N71/N69)) -> 0
A73: Arrivals | N73: =SUM(B73:M73) -> 0
A74: Length of stay | B74: =IF(B73="","",(B69/B73)) | C74: =IF(C73="","",(C69/C73)) | D74: =IF(D73="","",(D69/D73)) | E74: =IF(E73="","",(E69/E73)) | F74: =IF(F73="","",(F69/F73)) | G74: =IF(G73="","",(G69/G73)) | H74: =IF(H73="","",(H69/H73)) | I74: =IF(I73="","",(I69/I73)) | ... N74: =IF(N73="","",(N69/N73)) -> #DIV/0!
A75: Room Rev | B75: =B69*B70 -> 0 | C75: =C69*C70 -> 0 | D75: =D69*D70 -> 0 | E75: =E69*E70 -> 0 | F75: =F69*F70 -> 0 | G75: =G69*G70 -> 0 | H75: =H69*H70 -> 0 | I75: =I69*I70 -> 0 | ... M75: =M69*M70 -> 0 | N75: =SUM(B75:M75) -> 0
A76: F&B Rev | N76: =SUM(B76:M76) -> 0
A77: Extra Rev | N77: =SUM(B77:M77) -> 0
A78: TOTAL Rev | B78: =SUM(B75:B77) -> 0 | C78: =SUM(C75:C77) -> 0 | D78: =SUM(D75:D77) -> 0 | E78: =SUM(E75:E77) -> 0 | F78: =SUM(F75:F77) -> 0 | G78: =SUM(G75:G77) -> 0 | H78: =SUM(H75:H77) -> 0 | I78: =SUM(I75:I77) -> 0 | ... M78: =SUM(M75:M77) -> 0 | N78: =SUM(B78:M78) -> 0
A79: Av. S. P Gst. | B79: =IF(B78="","",(B78/B71)) -> #DIV/0! | C79: =IF(C78="","",(C78/C71)) -> #DIV/0! | D79: =IF(D78="","",(D78/D71)) -> #DIV/0! | E79: =IF(E78="","",(E78/E71)) -> #DIV/0! | F79: =IF(F78="","",(F78/F71)) -> #DIV/0! | G79: =IF(G78="","",(G78/G71)) -> #DIV/0! | H79: =IF(H78="","",(H78/H71)) -> #DIV/0! | I79: =IF(I78="","",(I78/I71)) -> #DIV/0! | ... N79: =IF(N78="","",(N78/N71)) -> #DIV/0!
A80: Spring/Apollo
A81: 2008 | B81: Jan | C81: Feb | D81: Mar | E81: Apr | F81: May | G81: Jun | H81: Jul | I81: Aug | J81: Sep | K81: Oct | L81: Nov | M81: Dec | N81: Total
A82: Rm Nights | N82: =SUM(B82:M82) -> 0
A83: Av.R.R. | N83: =N88/N82 -> #DIV/0!
A84: # Of Guests | N84: =SUM(B84:M84) -> 0
A85: DBL Occ. | B85: =IF(B82=0,0,(B84/B82)) -> 0 | C85: =IF(C82=0,0,(C84/C82)) -> 0 | D85: =IF(D82=0,0,(D84/D82)) -> 0 | E85: =IF(E82=0,0,(E84/E82)) -> 0 | F85: =IF(F82=0,0,(F84/F82)) -> 0 | G85: =IF(G82=0,0,(G84/G82)) -> 0 | H85: =IF(H82=0,0,(H84/H82)) -> 0 | I85: =IF(I82=0,0,(I84/I82)) -> 0 | ... N85: =IF(N82=0,0,(N84/N82)) -> 0
A86: Arrivals | N86: =SUM(B86:M86) -> 0
A87: Length of stay | B87: =IF(B86="","",(B82/B86)) | C87: =IF(C86="","",(C82/C86)) | D87: =IF(D86="","",(D82/D86)) | E87: =IF(E86="","",(E82/E86)) | F87: =IF(F86="","",(F82/F86)) | G87: =IF(G86="","",(G82/G86)) | H87: =IF(H86="","",(H82/H86)) | I87: =IF(I86="","",(I82/I86)) | ... N87: =IF(N86="","",(N82/N86)) -> #DIV/0!
A88: Room Rev | B88: =B82*B83 -> 0 | C88: =C82*C83 -> 0 | D88: =D82*D83 -> 0 | E88: =E82*E83 -> 0 | F88: =F82*F83 -> 0 | G88: =G82*G83 -> 0 | H88: =H82*H83 -> 0 | I88: =I82*I83 -> 0 | ... M88: =M82*M83 -> 0 | N88: =SUM(B88:M88) -> 0
A89: F&B Rev | N89: =SUM(B89:M89) -> 0
A90: Extra Rev | N90: =SUM(B90:M90) -> 0
A91: TOTAL Rev | B91: =SUM(B88:B90) -> 0 | C91: =SUM(C88:C90) -> 0 | D91: =SUM(D88:D90) -> 0 | E91: =SUM(E88:E90) -> 0 | F91: =SUM(F88:F90) -> 0 | G91: =SUM(G88:G90) -> 0 | H91: =SUM(H88:H90) -> 0 | I91: =SUM(I88:I90) -> 0 | ... M91: =SUM(M88:M90) -> 0 | N91: =SUM(B91:M91) -> 0
A92: Av. S. P Gst. | B92: =IF(B91="","",(B91/B84)) -> #DIV/0! | C92: =IF(C91="","",(C91/C84)) -> #DIV/0! | D92: =IF(D91="","",(D91/D84)) -> #DIV/0! | E92: =IF(E91="","",(E91/E84)) -> #DIV/0! | F92: =IF(F91="","",(F91/F84)) -> #DIV/0! | G92: =IF(G91="","",(G91/G84)) -> #DIV/0! | H92: =IF(H91="","",(H91/H84)) -> #DIV/0! | I92: =IF(I91="","",(I91/I84)) -> #DIV/0! | ... N92: =IF(N91="","",(N91/N84)) -> #DIV/0!
A93: Trust Accommodation
A94: 2008 | B94: Jan | C94: Feb | D94: Mar | E94: Apr | F94: May | G94: Jun | H94: Jul | I94: Aug | J94: Sep | K94: Oct | L94: Nov | M94: Dec | N94: Total
A95: Rm Nights | N95: =SUM(B95:M95) -> 0
A96: Av.R.R. | N96: =N101/N95 -> #DIV/0!
A97: # Of Guests | N97: =SUM(B97:M97) -> 0
A98: DBL Occ. | B98: =IF(B95=0,0,(B97/B95)) -> 0 | C98: =IF(C95=0,0,(C97/C95)) -> 0 | D98: =IF(D95=0,0,(D97/D95)) -> 0 | E98: =IF(E95=0,0,(E97/E95)) -> 0 | F98: =IF(F95=0,0,(F97/F95)) -> 0 | G98: =IF(G95=0,0,(G97/G95)) -> 0 | H98: =IF(H95=0,0,(H97/H95)) -> 0 | I98: =IF(I95=0,0,(I97/I95)) -> 0 | ... N98: =IF(N95=0,0,(N97/N95)) -> 0
A99: Arrivals | N99: =SUM(B99:M99) -> 0
A100: Length of stay | B100: =IF(B99="","",(B95/B99)) | C100: =IF(C99="","",(C95/C99)) | D100: =IF(D99="","",(D95/D99)) | E100: =IF(E99="","",(E95/E99)) | F100: =IF(F99="","",(F95/F99)) | G100: =IF(G99="","",(G95/G99)) | H100: =IF(H99="","",(H95/H99)) | I100: =IF(I99="","",(I95/I99)) | ... N100: =IF(N99="","",(N95/N99)) -> #DIV/0!
A101: Room Rev | B101: =B95*B96 -> 0 | C101: =C95*C96 -> 0 | D101: =D95*D96 -> 0 | E101: =E95*E96 -> 0 | F101: =F95*F96 -> 0 | G101: =G95*G96 -> 0 | H101: =H95*H96 -> 0 | I101: =I95*I96 -> 0 | ... M101: =M95*M96 -> 0 | N101: =SUM(B101:M101) -> 0
A102: F&B Rev | N102: =SUM(B102:M102) -> 0
A103: Extra Rev | N103: =SUM(B103:M103) -> 0
A104: TOTAL Rev | B104: =SUM(B101:B103) -> 0 | C104: =SUM(C101:C103) -> 0 | D104: =SUM(D101:D103) -> 0 | E104: =SUM(E101:E103) -> 0 | F104: =SUM(F101:F103) -> 0 | G104: =SUM(G101:G103) -> 0 | H104: =SUM(H101:H103) -> 0 | I104: =SUM(I101:I103) -> 0 | ... M104: =SUM(M101:M103) -> 0 | N104: =SUM(B104:M104) -> 0
A105: Av. S. P Gst. | B105: =IF(B104="","",(B104/B97)) -> #DIV/0! | C105: =IF(C104="","",(C104/C97)) -> #DIV/0! | D105: =IF(D104="","",(D104/D97)) -> #DIV/0! | E105: =IF(E104="","",(E104/E97)) -> #DIV/0! | F105: =IF(F104="","",(F104/F97)) -> #DIV/0! | G105: =IF(G104="","",(G104/G97)) -> #DIV/0! | H105: =IF(H104="","",(H104/H97)) -> #DIV/0! | I105: =IF(I104="","",(I104/I97)) -> #DIV/0! | ... N105: =IF(N104="","",(N104/N97)) -> #DIV/0!
...

Sheet Mar
A1: =Jan!A1 -> TOP 20 Producers
B3: Jan | C3: Feb | D3: Mar | E3: Apr | F3: May | G3: Jun | H3: Jul | I3: Aug | J3: Sep | K3: Oct | L3: Nov | M3: Dec | N3: Total
A4: Rm Nights | N4: =SUM(B4:M4) -> 0
A5: Av.R.R. | N5: =N10/N4 -> #DIV/0!
A6: # Of Guests | N6: =SUM(B6:M6) -> 0
A7: DBL Occ. | B7: =IF(B4=0,0,(B6/B4)) -> 0 | C7: =IF(C4=0,0,(C6/C4)) -> 0 | D7: =IF(D4=0,0,(D6/D4)) -> 0 | E7: =IF(E4=0,0,(E6/E4)) -> 0 | F7: =IF(F4=0,0,(F6/F4)) -> 0 | G7: =IF(G4=0,0,(G6/G4)) -> 0 | H7: =IF(H4=0,0,(H6/H4)) -> 0 | I7: =IF(I4=0,0,(I6/I4)) -> 0 | ... N7: =IF(N4=0,0,(N6/N4)) -> 0
A8: Arrivals | N8: =SUM(B8:M8) -> 0
A9: Length of stay | B9: =IF(B8="","",(B4/B8)) | C9: =IF(C8="","",(C4/C8)) | D9: =IF(D8="","",(D4/D8)) | E9: =IF(E8="","",(E4/E8)) | F9: =IF(F8="","",(F4/F8)) | G9: =IF(G8="","",(G4/G8)) | H9: =IF(H8="","",(H4/H8)) | I9: =IF(I8="","",(I4/I8)) | ... N9: =IF(N8="","",(N4/N8)) -> #DIV/0!
A10: Room Rev | B10: =B4*B5 -> 0 | C10: =C4*C5 -> 0 | D10: =D4*D5 -> 0 | E10: =E4*E5 -> 0 | F10: =F4*F5 -> 0 | G10: =G4*G5 -> 0 | H10: =H4*H5 -> 0 | I10: =I4*I5 -> 0 | ... M10: =M4*M5 -> 0 | N10: =SUM(B10:M10) -> 0
A11: F&B Rev | N11: =SUM(B11:M11) -> 0
A12: Extra Rev | N12: =SUM(B12:M12) -> 0
A13: TOTAL Rev | B13: =SUM(B10:B12) -> 0 | C13: =SUM(C10:C12) -> 0 | D13: =SUM(D10:D12) -> 0 | E13: =SUM(E10:E12) -> 0 | F13: =SUM(F10:F12) -> 0 | G13: =SUM(G10:G12) -> 0 | H13: =SUM(H10:H12) -> 0 | I13: =SUM(I10:I12) -> 0 | ... M13: =SUM(M10:M12) -> 0 | N13: =SUM(B13:M13) -> 0
A14: Av. S. P Gst. | B14: =IF(B13="","",(B13/B6)) -> #DIV/0! | C14: =IF(C13="","",(C13/C6)) -> #DIV/0! | D14: =IF(D13="","",(D13/D6)) -> #DIV/0! | E14: =IF(E13="","",(E13/E6)) -> #DIV/0! | F14: =IF(F13="","",(F13/F6)) -> #DIV/0! | G14: =IF(G13="","",(G13/G6)) -> #DIV/0! | H14: =IF(H13="","",(H13/H6)) -> #DIV/0! | I14: =IF(I13="","",(I13/I6)) -> #DIV/0! | ... N14: =IF(N13="","",(N13/N6)) -> #DIV/0!
B16: Jan | C16: Feb | D16: Mar | E16: Apr | F16: May | G16: Jun | H16: Jul | I16: Aug | J16: Sep | K16: Oct | L16: Nov | M16: Dec | N16: Total
A17: Rm Nights | N17: =SUM(B17:M17) -> 0
A18: Av.R.R. | N18: =N23/N17 -> #DIV/0!
A19: # Of Guests | N19: =SUM(B19:M19) -> 0
A20: DBL Occ. | B20: =IF(B17=0,0,(B19/B17)) -> 0 | C20: =IF(C17=0,0,(C19/C17)) -> 0 | D20: =IF(D17=0,0,(D19/D17)) -> 0 | E20: =IF(E17=0,0,(E19/E17)) -> 0 | F20: =IF(F17=0,0,(F19/F17)) -> 0 | G20: =IF(G17=0,0,(G19/G17)) -> 0 | H20: =IF(H17=0,0,(H19/H17)) -> 0 | I20: =IF(I17=0,0,(I19/I17)) -> 0 | ... N20: =IF(N17=0,0,(N19/N17)) -> 0
A21: Arrivals | N21: =SUM(B21:M21) -> 0
A22: Length of stay | B22: =IF(B21="","",(B17/B21)) | C22: =IF(C21="","",(C17/C21)) | D22: =IF(D21="","",(D17/D21)) | E22: =IF(E21="","",(E17/E21)) | F22: =IF(F21="","",(F17/F21)) | G22: =IF(G21="","",(G17/G21)) | H22: =IF(H21="","",(H17/H21)) | I22: =IF(I21="","",(I17/I21)) | ... N22: =IF(N21="","",(N17/N21)) -> #DIV/0!
A23: Room Rev | B23: =B17*B18 -> 0 | C23: =C17*C18 -> 0 | D23: =D17*D18 -> 0 | E23: =E17*E18 -> 0 | F23: =F17*F18 -> 0 | G23: =G17*G18 -> 0 | H23: =H17*H18 -> 0 | I23: =I17*I18 -> 0 | ... M23: =M17*M18 -> 0 | N23: =SUM(B23:M23) -> 0
A24: F&B Rev | N24: =SUM(B24:M24) -> 0
A25: Extra Rev | N25: =SUM(B25:M25) -> 0
A26: TOTAL Rev | B26: =SUM(B23:B25) -> 0 | C26: =SUM(C23:C25) -> 0 | D26: =SUM(D23:D25) -> 0 | E26: =SUM(E23:E25) -> 0 | F26: =SUM(F23:F25) -> 0 | G26: =SUM(G23:G25) -> 0 | H26: =SUM(H23:H25) -> 0 | I26: =SUM(I23:I25) -> 0 | ... M26: =SUM(M23:M25) -> 0 | N26: =SUM(B26:M26) -> 0
A27: Av. S. P Gst. | B27: =IF(B26="","",(B26/B19)) -> #DIV/0! | C27: =IF(C26="","",(C26/C19)) -> #DIV/0! | D27: =IF(D26="","",(D26/D19)) -> #DIV/0! | E27: =IF(E26="","",(E26/E19)) -> #DIV/0! | F27: =IF(F26="","",(F26/F19)) -> #DIV/0! | G27: =IF(G26="","",(G26/G19)) -> #DIV/0! | H27: =IF(H26="","",(H26/H19)) -> #DIV/0! | I27: =IF(I26="","",(I26/I19)) -> #DIV/0! | ... N27: =IF(N26="","",(N26/N19)) -> #DIV/0!
B29: Jan | C29: Feb | D29: Mar | E29: Apr | F29: May | G29: Jun | H29: Jul | I29: Aug | J29: Sep | K29: Oct | L29: Nov | M29: Dec | N29: Total
A30: Rm Nights | N30: =SUM(B30:M30) -> 0
A31: Av.R.R. | N31: =N36/N30 -> #DIV/0!
A32: # Of Guests | N32: =SUM(B32:M32) -> 0
A33: DBL Occ. | B33: =IF(B30=0,0,(B32/B30)) -> 0 | C33: =IF(C30=0,0,(C32/C30)) -> 0 | D33: =IF(D30=0,0,(D32/D30)) -> 0 | E33: =IF(E30=0,0,(E32/E30)) -> 0 | F33: =IF(F30=0,0,(F32/F30)) -> 0 | G33: =IF(G30=0,0,(G32/G30)) -> 0 | H33: =IF(H30=0,0,(H32/H30)) -> 0 | I33: =IF(I30=0,0,(I32/I30)) -> 0 | ... N33: =IF(N30=0,0,(N32/N30)) -> 0
A34: Arrivals | N34: =SUM(B34:M34) -> 0
A35: Length of stay | B35: =IF(B34="","",(B30/B34)) | C35: =IF(C34="","",(C30/C34)) | D35: =IF(D34="","",(D30/D34)) | E35: =IF(E34="","",(E30/E34)) | F35: =IF(F34="","",(F30/F34)) | G35: =IF(G34="","",(G30/G34)) | H35: =IF(H34="","",(H30/H34)) | I35: =IF(I34="","",(I30/I34)) | ... N35: =IF(N34="","",(N30/N34)) -> #DIV/0!
A36: Room Rev | B36: =B30*B31 -> 0 | C36: =C30*C31 -> 0 | D36: =D30*D31 -> 0 | E36: =E30*E31 -> 0 | F36: =F30*F31 -> 0 | G36: =G30*G31 -> 0 | H36: =H30*H31 -> 0 | I36: =I30*I31 -> 0 | ... M36: =M30*M31 -> 0 | N36: =SUM(B36:M36) -> 0
A37: F&B Rev | N37: =SUM(B37:M37) -> 0
A38: Extra Rev | N38: =SUM(B38:M38) -> 0
A39: TOTAL Rev | B39: =SUM(B36:B38) -> 0 | C39: =SUM(C36:C38) -> 0 | D39: =SUM(D36:D38) -> 0 | E39: =SUM(E36:E38) -> 0 | F39: =SUM(F36:F38) -> 0 | G39: =SUM(G36:G38) -> 0 | H39: =SUM(H36:H38) -> 0 | I39: =SUM(I36:I38) -> 0 | ... M39: =SUM(M36:M38) -> 0 | N39: =SUM(B39:M39) -> 0
A40: Av. S. P Gst. | B40: =IF(B39="","",(B39/B32)) -> #DIV/0! | C40: =IF(C39="","",(C39/C32)) -> #DIV/0! | D40: =IF(D39="","",(D39/D32)) -> #DIV/0! | E40: =IF(E39="","",(E39/E32)) -> #DIV/0! | F40: =IF(F39="","",(F39/F32)) -> #DIV/0! | G40: =IF(G39="","",(G39/G32)) -> #DIV/0! | H40: =IF(H39="","",(H39/H32)) -> #DIV/0! | I40: =IF(I39="","",(I39/I32)) -> #DIV/0! | ... N40: =IF(N39="","",(N39/N32)) -> #DIV/0!
B42: Jan | C42: Feb | D42: Mar | E42: Apr | F42: May | G42: Jun | H42: Jul | I42: Aug | J42: Sep | K42: Oct | L42: Nov | M42: Dec | N42: Total
A43: Rm Nights | N43: =SUM(B43:M43) -> 0
A44: Av.R.R. | N44: =N49/N43 -> #DIV/0!
A45: # Of Guests | N45: =SUM(B45:M45) -> 0
A46: DBL Occ. | B46: =IF(B43=0,0,(B45/B43)) -> 0 | C46: =IF(C43=0,0,(C45/C43)) -> 0 | D46: =IF(D43=0,0,(D45/D43)) -> 0 | E46: =IF(E43=0,0,(E45/E43)) -> 0 | F46: =IF(F43=0,0,(F45/F43)) -> 0 | G46: =IF(G43=0,0,(G45/G43)) -> 0 | H46: =IF(H43=0,0,(H45/H43)) -> 0 | I46: =IF(I43=0,0,(I45/I43)) -> 0 | ... N46: =IF(N43=0,0,(N45/N43)) -> 0
A47: Arrivals | N47: =SUM(B47:M47) -> 0
A48: Length of stay | B48: =IF(B47="","",(B43/B47)) | C48: =IF(C47="","",(C43/C47)) | D48: =IF(D47="","",(D43/D47)) | E48: =IF(E47="","",(E43/E47)) | F48: =IF(F47="","",(F43/F47)) | G48: =IF(G47="","",(G43/G47)) | H48: =IF(H47="","",(H43/H47)) | I48: =IF(I47="","",(I43/I47)) | ... N48: =IF(N47="","",(N43/N47)) -> #DIV/0!
A49: Room Rev | B49: =B43*B44 -> 0 | C49: =C43*C44 -> 0 | D49: =D43*D44 -> 0 | E49: =E43*E44 -> 0 | F49: =F43*F44 -> 0 | G49: =G43*G44 -> 0 | H49: =H43*H44 -> 0 | I49: =I43*I44 -> 0 | ... M49: =M43*M44 -> 0 | N49: =SUM(B49:M49) -> 0
A50: F&B Rev | N50: =SUM(B50:M50) -> 0
A51: Extra Rev | N51: =SUM(B51:M51) -> 0
A52: TOTAL Rev | B52: =SUM(B49:B51) -> 0 | C52: =SUM(C49:C51) -> 0 | D52: =SUM(D49:D51) -> 0 | E52: =SUM(E49:E51) -> 0 | F52: =SUM(F49:F51) -> 0 | G52: =SUM(G49:G51) -> 0 | H52: =SUM(H49:H51) -> 0 | I52: =SUM(I49:I51) -> 0 | ... M52: =SUM(M49:M51) -> 0 | N52: =SUM(B52:M52) -> 0
A53: Av. S. P Gst. | B53: =IF(B52="","",(B52/B45)) -> #DIV/0! | C53: =IF(C52="","",(C52/C45)) -> #DIV/0! | D53: =IF(D52="","",(D52/D45)) -> #DIV/0! | E53: =IF(E52="","",(E52/E45)) -> #DIV/0! | F53: =IF(F52="","",(F52/F45)) -> #DIV/0! | G53: =IF(G52="","",(G52/G45)) -> #DIV/0! | H53: =IF(H52="","",(H52/H45)) -> #DIV/0! | I53: =IF(I52="","",(I52/I45)) -> #DIV/0! | ... N53: =IF(N52="","",(N52/N45)) -> #DIV/0!
B55: Jan | C55: Feb | D55: Mar | E55: Apr | F55: May | G55: Jun | H55: Jul | I55: Aug | J55: Sep | K55: Oct | L55: Nov | M55: Dec | N55: Total
A56: Rm Nights | N56: =SUM(B56:M56) -> 0
A57: Av.R.R. | N57: =N62/N56 -> #DIV/0!
A58: # Of Guests | N58: =SUM(B58:M58) -> 0
A59: DBL Occ. | B59: =IF(B56=0,0,(B58/B56)) -> 0 | C59: =IF(C56=0,0,(C58/C56)) -> 0 | D59: =IF(D56=0,0,(D58/D56)) -> 0 | E59: =IF(E56=0,0,(E58/E56)) -> 0 | F59: =IF(F56=0,0,(F58/F56)) -> 0 | G59: =IF(G56=0,0,(G58/G56)) -> 0 | H59: =IF(H56=0,0,(H58/H56)) -> 0 | I59: =IF(I56=0,0,(I58/I56)) -> 0 | ... N59: =IF(N56=0,0,(N58/N56)) -> 0
A60: Arrivals | N60: =SUM(B60:M60) -> 0
A61: Length of stay | B61: =IF(B60="","",(B56/B60)) | C61: =IF(C60="","",(C56/C60)) | D61: =IF(D60="","",(D56/D60)) | E61: =IF(E60="","",(E56/E60)) | F61: =IF(F60="","",(F56/F60)) | G61: =IF(G60="","",(G56/G60)) | H61: =IF(H60="","",(H56/H60)) | I61: =IF(I60="","",(I56/I60)) | ... N61: =IF(N60="","",(N56/N60)) -> #DIV/0!
A62: Room Rev | B62: =B56*B57 -> 0 | C62: =C56*C57 -> 0 | D62: =D56*D57 -> 0 | E62: =E56*E57 -> 0 | F62: =F56*F57 -> 0 | G62: =G56*G57 -> 0 | H62: =H56*H57 -> 0 | I62: =I56*I57 -> 0 | ... M62: =M56*M57 -> 0 | N62: =SUM(B62:M62) -> 0
A63: F&B Rev | N63: =SUM(B63:M63) -> 0
A64: Extra Rev | N64: =SUM(B64:M64) -> 0
A65: TOTAL Rev | B65: =SUM(B62:B64) -> 0 | C65: =SUM(C62:C64) -> 0 | D65: =SUM(D62:D64) -> 0 | E65: =SUM(E62:E64) -> 0 | F65: =SUM(F62:F64) -> 0 | G65: =SUM(G62:G64) -> 0 | H65: =SUM(H62:H64) -> 0 | I65: =SUM(I62:I64) -> 0 | ... M65: =SUM(M62:M64) -> 0 | N65: =SUM(B65:M65) -> 0
A66: Av. S. P Gst. | B66: =IF(B65="","",(B65/B58)) -> #DIV/0! | C66: =IF(C65="","",(C65/C58)) -> #DIV/0! | D66: =IF(D65="","",(D65/D58)) -> #DIV/0! | E66: =IF(E65="","",(E65/E58)) -> #DIV/0! | F66: =IF(F65="","",(F65/F58)) -> #DIV/0! | G66: =IF(G65="","",(G65/G58)) -> #DIV/0! | H66: =IF(H65="","",(H65/H58)) -> #DIV/0! | I66: =IF(I65="","",(I65/I58)) -> #DIV/0! | ... N66: =IF(N65="","",(N65/N58)) -> #DIV/0!
B68: Jan | C68: Feb | D68: Mar | E68: Apr | F68: May | G68: Jun | H68: Jul | I68: Aug | J68: Sep | K68: Oct | L68: Nov | M68: Dec | N68: Total
A69: Rm Nights | N69: =SUM(B69:M69) -> 0
A70: Av.R.R. | N70: =N75/N69 -> #DIV/0!
A71: # Of Guests | N71: =SUM(B71:M71) -> 0
A72: DBL Occ. | B72: =IF(B69=0,0,(B71/B69)) -> 0 | C72: =IF(C69=0,0,(C71/C69)) -> 0 | D72: =IF(D69=0,0,(D71/D69)) -> 0 | E72: =IF(E69=0,0,(E71/E69)) -> 0 | F72: =IF(F69=0,0,(F71/F69)) -> 0 | G72: =IF(G69=0,0,(G71/G69)) -> 0 | H72: =IF(H69=0,0,(H71/H69)) -> 0 | I72: =IF(I69=0,0,(I71/I69)) -> 0 | ... N72: =IF(N69=0,0,(N71/N69)) -> 0
A73: Arrivals | N73: =SUM(B73:M73) -> 0
A74: Length of stay | B74: =IF(B73="","",(B69/B73)) | C74: =IF(C73="","",(C69/C73)) | D74: =IF(D73="","",(D69/D73)) | E74: =IF(E73="","",(E69/E73)) | F74: =IF(F73="","",(F69/F73)) | G74: =IF(G73="","",(G69/G73)) | H74: =IF(H73="","",(H69/H73)) | I74: =IF(I73="","",(I69/I73)) | ... N74: =IF(N73="","",(N69/N73)) -> #DIV/0!
A75: Room Rev | B75: =B69*B70 -> 0 | C75: =C69*C70 -> 0 | D75: =D69*D70 -> 0 | E75: =E69*E70 -> 0 | F75: =F69*F70 -> 0 | G75: =G69*G70 -> 0 | H75: =H69*H70 -> 0 | I75: =I69*I70 -> 0 | ... M75: =M69*M70 -> 0 | N75: =SUM(B75:M75) -> 0
A76: F&B Rev | N76: =SUM(B76:M76) -> 0
A77: Extra Rev | N77: =SUM(B77:M77) -> 0
A78: TOTAL Rev | B78: =SUM(B75:B77) -> 0 | C78: =SUM(C75:C77) -> 0 | D78: =SUM(D75:D77) -> 0 | E78: =SUM(E75:E77) -> 0 | F78: =SUM(F75:F77) -> 0 | G78: =SUM(G75:G77) -> 0 | H78: =SUM(H75:H77) -> 0 | I78: =SUM(I75:I77) -> 0 | ... M78: =SUM(M75:M77) -> 0 | N78: =SUM(B78:M78) -> 0
A79: Av. S. P Gst. | B79: =IF(B78="","",(B78/B71)) -> #DIV/0! | C79: =IF(C78="","",(C78/C71)) -> #DIV/0! | D79: =IF(D78="","",(D78/D71)) -> #DIV/0! | E79: =IF(E78="","",(E78/E71)) -> #DIV/0! | F79: =IF(F78="","",(F78/F71)) -> #DIV/0! | G79: =IF(G78="","",(G78/G71)) -> #DIV/0! | H79: =IF(H78="","",(H78/H71)) -> #DIV/0! | I79: =IF(I78="","",(I78/I71)) -> #DIV/0! | ... N79: =IF(N78="","",(N78/N71)) -> #DIV/0!
B81: Jan | C81: Feb | D81: Mar | E81: Apr | F81: May | G81: Jun | H81: Jul | I81: Aug | J81: Sep | K81: Oct | L81: Nov | M81: Dec | N81: Total
A82: Rm Nights | N82: =SUM(B82:M82) -> 0
A83: Av.R.R. | N83: =N88/N82 -> #DIV/0!
A84: # Of Guests | N84: =SUM(B84:M84) -> 0
A85: DBL Occ. | B85: =IF(B82=0,0,(B84/B82)) -> 0 | C85: =IF(C82=0,0,(C84/C82)) -> 0 | D85: =IF(D82=0,0,(D84/D82)) -> 0 | E85: =IF(E82=0,0,(E84/E82)) -> 0 | F85: =IF(F82=0,0,(F84/F82)) -> 0 | G85: =IF(G82=0,0,(G84/G82)) -> 0 | H85: =IF(H82=0,0,(H84/H82)) -> 0 | I85: =IF(I82=0,0,(I84/I82)) -> 0 | ... N85: =IF(N82=0,0,(N84/N82)) -> 0
A86: Arrivals | N86: =SUM(B86:M86) -> 0
A87: Length of stay | B87: =IF(B86="","",(B82/B86)) | C87: =IF(C86="","",(C82/C86)) | D87: =IF(D86="","",(D82/D86)) | E87: =IF(E86="","",(E82/E86)) | F87: =IF(F86="","",(F82/F86)) | G87: =IF(G86="","",(G82/G86)) | H87: =IF(H86="","",(H82/H86)) | I87: =IF(I86="","",(I82/I86)) | ... N87: =IF(N86="","",(N82/N86)) -> #DIV/0!
A88: Room Rev | B88: =B82*B83 -> 0 | C88: =C82*C83 -> 0 | D88: =D82*D83 -> 0 | E88: =E82*E83 -> 0 | F88: =F82*F83 -> 0 | G88: =G82*G83 -> 0 | H88: =H82*H83 -> 0 | I88: =I82*I83 -> 0 | ... M88: =M82*M83 -> 0 | N88: =SUM(B88:M88) -> 0
A89: F&B Rev | N89: =SUM(B89:M89) -> 0
A90: Extra Rev | N90: =SUM(B90:M90) -> 0
A91: TOTAL Rev | B91: =SUM(B88:B90) -> 0 | C91: =SUM(C88:C90) -> 0 | D91: =SUM(D88:D90) -> 0 | E91: =SUM(E88:E90) -> 0 | F91: =SUM(F88:F90) -> 0 | G91: =SUM(G88:G90) -> 0 | H91: =SUM(H88:H90) -> 0 | I91: =SUM(I88:I90) -> 0 | ... M91: =SUM(M88:M90) -> 0 | N91: =SUM(B91:M91) -> 0
A92: Av. S. P Gst. | B92: =IF(B91="","",(B91/B84)) -> #DIV/0! | C92: =IF(C91="","",(C91/C84)) -> #DIV/0! | D92: =IF(D91="","",(D91/D84)) -> #DIV/0! | E92: =IF(E91="","",(E91/E84)) -> #DIV/0! | F92: =IF(F91="","",(F91/F84)) -> #DIV/0! | G92: =IF(G91="","",(G91/G84)) -> #DIV/0! | H92: =IF(H91="","",(H91/H84)) -> #DIV/0! | I92: =IF(I91="","",(I91/I84)) -> #DIV/0! | ... N92: =IF(N91="","",(N91/N84)) -> #DIV/0!
B94: Jan | C94: Feb | D94: Mar | E94: Apr | F94: May | G94: Jun | H94: Jul | I94: Aug | J94: Sep | K94: Oct | L94: Nov | M94: Dec | N94: Total
A95: Rm Nights | N95: =SUM(B95:M95) -> 0
A96: Av.R.R. | N96: =N101/N95 -> #DIV/0!
A97: # Of Guests | N97: =SUM(B97:M97) -> 0
A98: DBL Occ. | B98: =IF(B95=0,0,(B97/B95)) -> 0 | C98: =IF(C95=0,0,(C97/C95)) -> 0 | D98: =IF(D95=0,0,(D97/D95)) -> 0 | E98: =IF(E95=0,0,(E97/E95)) -> 0 | F98: =IF(F95=0,0,(F97/F95)) -> 0 | G98: =IF(G95=0,0,(G97/G95)) -> 0 | H98: =IF(H95=0,0,(H97/H95)) -> 0 | I98: =IF(I95=0,0,(I97/I95)) -> 0 | ... N98: =IF(N95=0,0,(N97/N95)) -> 0
A99: Arrivals | N99: =SUM(B99:M99) -> 0
A100: Length of stay | B100: =IF(B99="","",(B95/B99)) | C100: =IF(C99="","",(C95/C99)) | D100: =IF(D99="","",(D95/D99)) | E100: =IF(E99="","",(E95/E99)) | F100: =IF(F99="","",(F95/F99)) | G100: =IF(G99="","",(G95/G99)) | H100: =IF(H99="","",(H95/H99)) | I100: =IF(I99="","",(I95/I99)) | ... N100: =IF(N99="","",(N95/N99)) -> #DIV/0!
A101: Room Rev | B101: =B95*B96 -> 0 | C101: =C95*C96 -> 0 | D101: =D95*D96 -> 0 | E101: =E95*E96 -> 0 | F101: =F95*F96 -> 0 | G101: =G95*G96 -> 0 | H101: =H95*H96 -> 0 | I101: =I95*I96 -> 0 | ... M101: =M95*M96 -> 0 | N101: =SUM(B101:M101) -> 0
A102: F&B Rev | N102: =SUM(B102:M102) -> 0
A103: Extra Rev | N103: =SUM(B103:M103) -> 0
A104: TOTAL Rev | B104: =SUM(B101:B103) -> 0 | C104: =SUM(C101:C103) -> 0 | D104: =SUM(D101:D103) -> 0 | E104: =SUM(E101:E103) -> 0 | F104: =SUM(F101:F103) -> 0 | G104: =SUM(G101:G103) -> 0 | H104: =SUM(H101:H103) -> 0 | I104: =SUM(I101:I103) -> 0 | ... M104: =SUM(M101:M103) -> 0 | N104: =SUM(B104:M104) -> 0
A105: Av. S. P Gst. | B105: =IF(B104="","",(B104/B97)) -> #DIV/0! | C105: =IF(C104="","",(C104/C97)) -> #DIV/0! | D105: =IF(D104="","",(D104/D97)) -> #DIV/0! | E105: =IF(E104="","",(E104/E97)) -> #DIV/0! | F105: =IF(F104="","",(F104/F97)) -> #DIV/0! | G105: =IF(G104="","",(G104/G97)) -> #DIV/0! | H105: =IF(H104="","",(H104/H97)) -> #DIV/0! | I105: =IF(I104="","",(I104/I97)) -> #DIV/0! | ... N105: =IF(N104="","",(N104/N97)) -> #DIV/0!
B107: Jan | C107: Feb | D107: Mar | E107: Apr | F107: May | G107: Jun | H107: Jul | I107: Aug | J107: Sep | K107: Oct | L107: Nov | M107: Dec | N107: Total
A108: Rm Nights | N108: =SUM(B108:M108) -> 0
A109: Av.R.R. | N109: =N114/N108 -> #DIV/0!
...

Sheet Apr
A1: =Jan!A1 -> TOP 20 Producers
B3: Jan | C3: Feb | D3: Mar | E3: Apr | F3: May | G3: Jun | H3: Jul | I3: Aug | J3: Sep | K3: Oct | L3: Nov | M3: Dec | N3: Total
A4: Rm Nights | N4: =SUM(B4:M4) -> 0
A5: Av.R.R. | N5: =N10/N4 -> #DIV/0!
A6: # Of Guests | N6: =SUM(B6:M6) -> 0
A7: DBL Occ. | B7: =IF(B4=0,0,(B6/B4)) -> 0 | C7: =IF(C4=0,0,(C6/C4)) -> 0 | D7: =IF(D4=0,0,(D6/D4)) -> 0 | E7: =IF(E4=0,0,(E6/E4)) -> 0 | F7: =IF(F4=0,0,(F6/F4)) -> 0 | G7: =IF(G4=0,0,(G6/G4)) -> 0 | H7: =IF(H4=0,0,(H6/H4)) -> 0 | I7: =IF(I4=0,0,(I6/I4)) -> 0 | ... N7: =IF(N4=0,0,(N6/N4)) -> 0
A8: Arrivals | N8: =SUM(B8:M8) -> 0
A9: Length of stay | B9: =IF(B8="","",(B4/B8)) | C9: =IF(C8="","",(C4/C8)) | D9: =IF(D8="","",(D4/D8)) | E9: =IF(E8="","",(E4/E8)) | F9: =IF(F8="","",(F4/F8)) | G9: =IF(G8="","",(G4/G8)) | H9: =IF(H8="","",(H4/H8)) | I9: =IF(I8="","",(I4/I8)) | ... N9: =IF(N8="","",(N4/N8)) -> #DIV/0!
A10: Room Rev | B10: =B4*B5 -> 0 | C10: =C4*C5 -> 0 | D10: =D4*D5 -> 0 | E10: =E4*E5 -> 0 | F10: =F4*F5 -> 0 | G10: =G4*G5 -> 0 | H10: =H4*H5 -> 0 | I10: =I4*I5 -> 0 | ... M10: =M4*M5 -> 0 | N10: =SUM(B10:M10) -> 0
A11: F&B Rev | N11: =SUM(B11:M11) -> 0
A12: Extra Rev | N12: =SUM(B12:M12) -> 0
A13: TOTAL Rev | B13: =SUM(B10:B12) -> 0 | C13: =SUM(C10:C12) -> 0 | D13: =SUM(D10:D12) -> 0 | E13: =SUM(E10:E12) -> 0 | F13: =SUM(F10:F12) -> 0 | G13: =SUM(G10:G12) -> 0 | H13: =SUM(H10:H12) -> 0 | I13: =SUM(I10:I12) -> 0 | ... M13: =SUM(M10:M12) -> 0 | N13: =SUM(B13:M13) -> 0
A14: Av. S. P Gst. | B14: =IF(B13="","",(B13/B6)) -> #DIV/0! | C14: =IF(C13="","",(C13/C6)) -> #DIV/0! | D14: =IF(D13="","",(D13/D6)) -> #DIV/0! | E14: =IF(E13="","",(E13/E6)) -> #DIV/0! | F14: =IF(F13="","",(F13/F6)) -> #DIV/0! | G14: =IF(G13="","",(G13/G6)) -> #DIV/0! | H14: =IF(H13="","",(H13/H6)) -> #DIV/0! | I14: =IF(I13="","",(I13/I6)) -> #DIV/0! | ... N14: =IF(N13="","",(N13/N6)) -> #DIV/0!
B16: Jan | C16: Feb | D16: Mar | E16: Apr | F16: May | G16: Jun | H16: Jul | I16: Aug | J16: Sep | K16: Oct | L16: Nov | M16: Dec | N16: Total
A17: Rm Nights | N17: =SUM(B17:M17) -> 0
A18: Av.R.R. | N18: =N23/N17 -> #DIV/0!
A19: # Of Guests | N19: =SUM(B19:M19) -> 0
A20: DBL Occ. | B20: =IF(B17=0,0,(B19/B17)) -> 0 | C20: =IF(C17=0,0,(C19/C17)) -> 0 | D20: =IF(D17=0,0,(D19/D17)) -> 0 | E20: =IF(E17=0,0,(E19/E17)) -> 0 | F20: =IF(F17=0,0,(F19/F17)) -> 0 | G20: =IF(G17=0,0,(G19/G17)) -> 0 | H20: =IF(H17=0,0,(H19/H17)) -> 0 | I20: =IF(I17=0,0,(I19/I17)) -> 0 | ... N20: =IF(N17=0,0,(N19/N17)) -> 0
A21: Arrivals | N21: =SUM(B21:M21) -> 0
A22: Length of stay | B22: =IF(B21="","",(B17/B21)) | C22: =IF(C21="","",(C17/C21)) | D22: =IF(D21="","",(D17/D21)) | E22: =IF(E21="","",(E17/E21)) | F22: =IF(F21="","",(F17/F21)) | G22: =IF(G21="","",(G17/G21)) | H22: =IF(H21="","",(H17/H21)) | I22: =IF(I21="","",(I17/I21)) | ... N22: =IF(N21="","",(N17/N21)) -> #DIV/0!
A23: Room Rev | B23: =B17*B18 -> 0 | C23: =C17*C18 -> 0 | D23: =D17*D18 -> 0 | E23: =E17*E18 -> 0 | F23: =F17*F18 -> 0 | G23: =G17*G18 -> 0 | H23: =H17*H18 -> 0 | I23: =I17*I18 -> 0 | ... M23: =M17*M18 -> 0 | N23: =SUM(B23:M23) -> 0
A24: F&B Rev | N24: =SUM(B24:M24) -> 0
A25: Extra Rev | N25: =SUM(B25:M25) -> 0
A26: TOTAL Rev | B26: =SUM(B23:B25) -> 0 | C26: =SUM(C23:C25) -> 0 | D26: =SUM(D23:D25) -> 0 | E26: =SUM(E23:E25) -> 0 | F26: =SUM(F23:F25) -> 0 | G26: =SUM(G23:G25) -> 0 | H26: =SUM(H23:H25) -> 0 | I26: =SUM(I23:I25) -> 0 | ... M26: =SUM(M23:M25) -> 0 | N26: =SUM(B26:M26) -> 0
A27: Av. S. P Gst. | B27: =IF(B26="","",(B26/B19)) -> #DIV/0! | C27: =IF(C26="","",(C26/C19)) -> #DIV/0! | D27: =IF(D26="","",(D26/D19)) -> #DIV/0! | E27: =IF(E26="","",(E26/E19)) -> #DIV/0! | F27: =IF(F26="","",(F26/F19)) -> #DIV/0! | G27: =IF(G26="","",(G26/G19)) -> #DIV/0! | H27: =IF(H26="","",(H26/H19)) -> #DIV/0! | I27: =IF(I26="","",(I26/I19)) -> #DIV/0! | ... N27: =IF(N26="","",(N26/N19)) -> #DIV/0!
B29: Jan | C29: Feb | D29: Mar | E29: Apr | F29: May | G29: Jun | H29: Jul | I29: Aug | J29: Sep | K29: Oct | L29: Nov | M29: Dec | N29: Total
A30: Rm Nights | N30: =SUM(B30:M30) -> 0
A31: Av.R.R. | N31: =N36/N30 -> #DIV/0!
A32: # Of Guests | N32: =SUM(B32:M32) -> 0
A33: DBL Occ. | B33: =IF(B30=0,0,(B32/B30)) -> 0 | C33: =IF(C30=0,0,(C32/C30)) -> 0 | D33: =IF(D30=0,0,(D32/D30)) -> 0 | E33: =IF(E30=0,0,(E32/E30)) -> 0 | F33: =IF(F30=0,0,(F32/F30)) -> 0 | G33: =IF(G30=0,0,(G32/G30)) -> 0 | H33: =IF(H30=0,0,(H32/H30)) -> 0 | I33: =IF(I30=0,0,(I32/I30)) -> 0 | ... N33: =IF(N30=0,0,(N32/N30)) -> 0
A34: Arrivals | N34: =SUM(B34:M34) -> 0
A35: Length of stay | B35: =IF(B34="","",(B30/B34)) | C35: =IF(C34="","",(C30/C34)) | D35: =IF(D34="","",(D30/D34)) | E35: =IF(E34="","",(E30/E34)) | F35: =IF(F34="","",(F30/F34)) | G35: =IF(G34="","",(G30/G34)) | H35: =IF(H34="","",(H30/H34)) | I35: =IF(I34="","",(I30/I34)) | ... N35: =IF(N34="","",(N30/N34)) -> #DIV/0!
A36: Room Rev | B36: =B30*B31 -> 0 | C36: =C30*C31 -> 0 | D36: =D30*D31 -> 0 | E36: =E30*E31 -> 0 | F36: =F30*F31 -> 0 | G36: =G30*G31 -> 0 | H36: =H30*H31 -> 0 | I36: =I30*I31 -> 0 | ... M36: =M30*M31 -> 0 | N36: =SUM(B36:M36) -> 0
A37: F&B Rev | N37: =SUM(B37:M37) -> 0
A38: Extra Rev | N38: =SUM(B38:M38) -> 0
A39: TOTAL Rev | B39: =SUM(B36:B38) -> 0 | C39: =SUM(C36:C38) -> 0 | D39: =SUM(D36:D38) -> 0 | E39: =SUM(E36:E38) -> 0 | F39: =SUM(F36:F38) -> 0 | G39: =SUM(G36:G38) -> 0 | H39: =SUM(H36:H38) -> 0 | I39: =SUM(I36:I38) -> 0 | ... M39: =SUM(M36:M38) -> 0 | N39: =SUM(B39:M39) -> 0
A40: Av. S. P Gst. | B40: =IF(B39="","",(B39/B32)) -> #DIV/0! | C40: =IF(C39="","",(C39/C32)) -> #DIV/0! | D40: =IF(D39="","",(D39/D32)) -> #DIV/0! | E40: =IF(E39="","",(E39/E32)) -> #DIV/0! | F40: =IF(F39="","",(F39/F32)) -> #DIV/0! | G40: =IF(G39="","",(G39/G32)) -> #DIV/0! | H40: =IF(H39="","",(H39/H32)) -> #DIV/0! | I40: =IF(I39="","",(I39/I32)) -> #DIV/0! | ... N40: =IF(N39="","",(N39/N32)) -> #DIV/0!
B42: Jan | C42: Feb | D42: Mar | E42: Apr | F42: May | G42: Jun | H42: Jul | I42: Aug | J42: Sep | K42: Oct | L42: Nov | M42: Dec | N42: Total
A43: Rm Nights | N43: =SUM(B43:M43) -> 0
A44: Av.R.R. | N44: =N49/N43 -> #DIV/0!
A45: # Of Guests | N45: =SUM(B45:M45) -> 0
A46: DBL Occ. | B46: =IF(B43=0,0,(B45/B43)) -> 0 | C46: =IF(C43=0,0,(C45/C43)) -> 0 | D46: =IF(D43=0,0,(D45/D43)) -> 0 | E46: =IF(E43=0,0,(E45/E43)) -> 0 | F46: =IF(F43=0,0,(F45/F43)) -> 0 | G46: =IF(G43=0,0,(G45/G43)) -> 0 | H46: =IF(H43=0,0,(H45/H43)) -> 0 | I46: =IF(I43=0,0,(I45/I43)) -> 0 | ... N46: =IF(N43=0,0,(N45/N43)) -> 0
A47: Arrivals | N47: =SUM(B47:M47) -> 0
A48: Length of stay | B48: =IF(B47="","",(B43/B47)) | C48: =IF(C47="","",(C43/C47)) | D48: =IF(D47="","",(D43/D47)) | E48: =IF(E47="","",(E43/E47)) | F48: =IF(F47="","",(F43/F47)) | G48: =IF(G47="","",(G43/G47)) | H48: =IF(H47="","",(H43/H47)) | I48: =IF(I47="","",(I43/I47)) | ... N48: =IF(N47="","",(N43/N47)) -> #DIV/0!
A49: Room Rev | B49: =B43*B44 -> 0 | C49: =C43*C44 -> 0 | D49: =D43*D44 -> 0 | E49: =E43*E44 -> 0 | F49: =F43*F44 -> 0 | G49: =G43*G44 -> 0 | H49: =H43*H44 -> 0 | I49: =I43*I44 -> 0 | ... M49: =M43*M44 -> 0 | N49: =SUM(B49:M49) -> 0
A50: F&B Rev | N50: =SUM(B50:M50) -> 0
A51: Extra Rev | N51: =SUM(B51:M51) -> 0
A52: TOTAL Rev | B52: =SUM(B49:B51) -> 0 | C52: =SUM(C49:C51) -> 0 | D52: =SUM(D49:D51) -> 0 | E52: =SUM(E49:E51) -> 0 | F52: =SUM(F49:F51) -> 0 | G52: =SUM(G49:G51) -> 0 | H52: =SUM(H49:H51) -> 0 | I52: =SUM(I49:I51) -> 0 | ... M52: =SUM(M49:M51) -> 0 | N52: =SUM(B52:M52) -> 0
A53: Av. S. P Gst. | B53: =IF(B52="","",(B52/B45)) -> #DIV/0! | C53: =IF(C52="","",(C52/C45)) -> #DIV/0! | D53: =IF(D52="","",(D52/D45)) -> #DIV/0! | E53: =IF(E52="","",(E52/E45)) -> #DIV/0! | F53: =IF(F52="","",(F52/F45)) -> #DIV/0! | G53: =IF(G52="","",(G52/G45)) -> #DIV/0! | H53: =IF(H52="","",(H52/H45)) -> #DIV/0! | I53: =IF(I52="","",(I52/I45)) -> #DIV/0! | ... N53: =IF(N52="","",(N52/N45)) -> #DIV/0!
B55: Jan | C55: Feb | D55: Mar | E55: Apr | F55: May | G55: Jun | H55: Jul | I55: Aug | J55: Sep | K55: Oct | L55: Nov | M55: Dec | N55: Total
A56: Rm Nights | N56: =SUM(B56:M56) -> 0
A57: Av.R.R. | N57: =N62/N56 -> #DIV/0!
A58: # Of Guests | N58: =SUM(B58:M58) -> 0
A59: DBL Occ. | B59: =IF(B56=0,0,(B58/B56)) -> 0 | C59: =IF(C56=0,0,(C58/C56)) -> 0 | D59: =IF(D56=0,0,(D58/D56)) -> 0 | E59: =IF(E56=0,0,(E58/E56)) -> 0 | F59: =IF(F56=0,0,(F58/F56)) -> 0 | G59: =IF(G56=0,0,(G58/G56)) -> 0 | H59: =IF(H56=0,0,(H58/H56)) -> 0 | I59: =IF(I56=0,0,(I58/I56)) -> 0 | ... N59: =IF(N56=0,0,(N58/N56)) -> 0
A60: Arrivals | N60: =SUM(B60:M60) -> 0
A61: Length of stay | B61: =IF(B60="","",(B56/B60)) | C61: =IF(C60="","",(C56/C60)) | D61: =IF(D60="","",(D56/D60)) | E61: =IF(E60="","",(E56/E60)) | F61: =IF(F60="","",(F56/F60)) | G61: =IF(G60="","",(G56/G60)) | H61: =IF(H60="","",(H56/H60)) | I61: =IF(I60="","",(I56/I60)) | ... N61: =IF(N60="","",(N56/N60)) -> #DIV/0!
A62: Room Rev | B62: =B56*B57 -> 0 | C62: =C56*C57 -> 0 | D62: =D56*D57 -> 0 | E62: =E56*E57 -> 0 | F62: =F56*F57 -> 0 | G62: =G56*G57 -> 0 | H62: =H56*H57 -> 0 | I62: =I56*I57 -> 0 | ... M62: =M56*M57 -> 0 | N62: =SUM(B62:M62) -> 0
A63: F&B Rev | N63: =SUM(B63:M63) -> 0
A64: Extra Rev | N64: =SUM(B64:M64) -> 0
A65: TOTAL Rev | B65: =SUM(B62:B64) -> 0 | C65: =SUM(C62:C64) -> 0 | D65: =SUM(D62:D64) -> 0 | E65: =SUM(E62:E64) -> 0 | F65: =SUM(F62:F64) -> 0 | G65: =SUM(G62:G64) -> 0 | H65: =SUM(H62:H64) -> 0 | I65: =SUM(I62:I64) -> 0 | ... M65: =SUM(M62:M64) -> 0 | N65: =SUM(B65:M65) -> 0
A66: Av. S. P Gst. | B66: =IF(B65="","",(B65/B58)) -> #DIV/0! | C66: =IF(C65="","",(C65/C58)) -> #DIV/0! | D66: =IF(D65="","",(D65/D58)) -> #DIV/0! | E66: =IF(E65="","",(E65/E58)) -> #DIV/0! | F66: =IF(F65="","",(F65/F58)) -> #DIV/0! | G66: =IF(G65="","",(G65/G58)) -> #DIV/0! | H66: =IF(H65="","",(H65/H58)) -> #DIV/0! | I66: =IF(I65="","",(I65/I58)) -> #DIV/0! | ... N66: =IF(N65="","",(N65/N58)) -> #DIV/0!
B68: Jan | C68: Feb | D68: Mar | E68: Apr | F68: May | G68: Jun | H68: Jul | I68: Aug | J68: Sep | K68: Oct | L68: Nov | M68: Dec | N68: Total
A69: Rm Nights | N69: =SUM(B69:M69) -> 0
A70: Av.R.R. | N70: =N75/N69 -> #DIV/0!
A71: # Of Guests | N71: =SUM(B71:M71) -> 0
A72: DBL Occ. | B72: =IF(B69=0,0,(B71/B69)) -> 0 | C72: =IF(C69=0,0,(C71/C69)) -> 0 | D72: =IF(D69=0,0,(D71/D69)) -> 0 | E72: =IF(E69=0,0,(E71/E69)) -> 0 | F72: =IF(F69=0,0,(F71/F69)) -> 0 | G72: =IF(G69=0,0,(G71/G69)) -> 0 | H72: =IF(H69=0,0,(H71/H69)) -> 0 | I72: =IF(I69=0,0,(I71/I69)) -> 0 | ... N72: =IF(N69=0,0,(N71/N69)) -> 0
A73: Arrivals | N73: =SUM(B73:M73) -> 0
A74: Length of stay | B74: =IF(B73="","",(B69/B73)) | C74: =IF(C73="","",(C69/C73)) | D74: =IF(D73="","",(D69/D73)) | E74: =IF(E73="","",(E69/E73)) | F74: =IF(F73="","",(F69/F73)) | G74: =IF(G73="","",(G69/G73)) | H74: =IF(H73="","",(H69/H73)) | I74: =IF(I73="","",(I69/I73)) | ... N74: =IF(N73="","",(N69/N73)) -> #DIV/0!
A75: Room Rev | B75: =B69*B70 -> 0 | C75: =C69*C70 -> 0 | D75: =D69*D70 -> 0 | E75: =E69*E70 -> 0 | F75: =F69*F70 -> 0 | G75: =G69*G70 -> 0 | H75: =H69*H70 -> 0 | I75: =I69*I70 -> 0 | ... M75: =M69*M70 -> 0 | N75: =SUM(B75:M75) -> 0
A76: F&B Rev | N76: =SUM(B76:M76) -> 0
A77: Extra Rev | N77: =SUM(B77:M77) -> 0
A78: TOTAL Rev | B78: =SUM(B75:B77) -> 0 | C78: =SUM(C75:C77) -> 0 | D78: =SUM(D75:D77) -> 0 | E78: =SUM(E75:E77) -> 0 | F78: =SUM(F75:F77) -> 0 | G78: =SUM(G75:G77) -> 0 | H78: =SUM(H75:H77) -> 0 | I78: =SUM(I75:I77) -> 0 | ... M78: =SUM(M75:M77) -> 0 | N78: =SUM(B78:M78) -> 0
A79: Av. S. P Gst. | B79: =IF(B78="","",(B78/B71)) -> #DIV/0! | C79: =IF(C78="","",(C78/C71)) -> #DIV/0! | D79: =IF(D78="","",(D78/D71)) -> #DIV/0! | E79: =IF(E78="","",(E78/E71)) -> #DIV/0! | F79: =IF(F78="","",(F78/F71)) -> #DIV/0! | G79: =IF(G78="","",(G78/G71)) -> #DIV/0! | H79: =IF(H78="","",(H78/H71)) -> #DIV/0! | I79: =IF(I78="","",(I78/I71)) -> #DIV/0! | ... N79: =IF(N78="","",(N78/N71)) -> #DIV/0!
B81: Jan | C81: Feb | D81: Mar | E81: Apr | F81: May | G81: Jun | H81: Jul | I81: Aug | J81: Sep | K81: Oct | L81: Nov | M81: Dec | N81: Total
A82: Rm Nights | N82: =SUM(B82:M82) -> 0
A83: Av.R.R. | N83: =N88/N82 -> #DIV/0!
A84: # Of Guests | N84: =SUM(B84:M84) -> 0
A85: DBL Occ. | B85: =IF(B82=0,0,(B84/B82)) -> 0 | C85: =IF(C82=0,0,(C84/C82)) -> 0 | D85: =IF(D82=0,0,(D84/D82)) -> 0 | E85: =IF(E82=0,0,(E84/E82)) -> 0 | F85: =IF(F82=0,0,(F84/F82)) -> 0 | G85: =IF(G82=0,0,(G84/G82)) -> 0 | H85: =IF(H82=0,0,(H84/H82)) -> 0 | I85: =IF(I82=0,0,(I84/I82)) -> 0 | ... N85: =IF(N82=0,0,(N84/N82)) -> 0
A86: Arrivals | N86: =SUM(B86:M86) -> 0
A87: Length of stay | B87: =IF(B86="","",(B82/B86)) | C87: =IF(C86="","",(C82/C86)) | D87: =IF(D86="","",(D82/D86)) | E87: =IF(E86="","",(E82/E86)) | F87: =IF(F86="","",(F82/F86)) | G87: =IF(G86="","",(G82/G86)) | H87: =IF(H86="","",(H82/H86)) | I87: =IF(I86="","",(I82/I86)) | ... N87: =IF(N86="","",(N82/N86)) -> #DIV/0!
A88: Room Rev | B88: =B82*B83 -> 0 | C88: =C82*C83 -> 0 | D88: =D82*D83 -> 0 | E88: =E82*E83 -> 0 | F88: =F82*F83 -> 0 | G88: =G82*G83 -> 0 | H88: =H82*H83 -> 0 | I88: =I82*I83 -> 0 | ... M88: =M82*M83 -> 0 | N88: =SUM(B88:M88) -> 0
A89: F&B Rev | N89: =SUM(B89:M89) -> 0
A90: Extra Rev | N90: =SUM(B90:M90) -> 0
A91: TOTAL Rev | B91: =SUM(B88:B90) -> 0 | C91: =SUM(C88:C90) -> 0 | D91: =SUM(D88:D90) -> 0 | E91: =SUM(E88:E90) -> 0 | F91: =SUM(F88:F90) -> 0 | G91: =SUM(G88:G90) -> 0 | H91: =SUM(H88:H90) -> 0 | I91: =SUM(I88:I90) -> 0 | ... M91: =SUM(M88:M90) -> 0 | N91: =SUM(B91:M91) -> 0
A92: Av. S. P Gst. | B92: =IF(B91="","",(B91/B84)) -> #DIV/0! | C92: =IF(C91="","",(C91/C84)) -> #DIV/0! | D92: =IF(D91="","",(D91/D84)) -> #DIV/0! | E92: =IF(E91="","",(E91/E84)) -> #DIV/0! | F92: =IF(F91="","",(F91/F84)) -> #DIV/0! | G92: =IF(G91="","",(G91/G84)) -> #DIV/0! | H92: =IF(H91="","",(H91/H84)) -> #DIV/0! | I92: =IF(I91="","",(I91/I84)) -> #DIV/0! | ... N92: =IF(N91="","",(N91/N84)) -> #DIV/0!
B94: Jan | C94: Feb | D94: Mar | E94: Apr | F94: May | G94: Jun | H94: Jul | I94: Aug | J94: Sep | K94: Oct | L94: Nov | M94: Dec | N94: Total
A95: Rm Nights | N95: =SUM(B95:M95) -> 0
A96: Av.R.R. | N96: =N101/N95 -> #DIV/0!
A97: # Of Guests | N97: =SUM(B97:M97) -> 0
A98: DBL Occ. | B98: =IF(B95=0,0,(B97/B95)) -> 0 | C98: =IF(C95=0,0,(C97/C95)) -> 0 | D98: =IF(D95=0,0,(D97/D95)) -> 0 | E98: =IF(E95=0,0,(E97/E95)) -> 0 | F98: =IF(F95=0,0,(F97/F95)) -> 0 | G98: =IF(G95=0,0,(G97/G95)) -> 0 | H98: =IF(H95=0,0,(H97/H95)) -> 0 | I98: =IF(I95=0,0,(I97/I95)) -> 0 | ... N98: =IF(N95=0,0,(N97/N95)) -> 0
A99: Arrivals | N99: =SUM(B99:M99) -> 0
A100: Length of stay | B100: =IF(B99="","",(B95/B99)) | C100: =IF(C99="","",(C95/C99)) | D100: =IF(D99="","",(D95/D99)) | E100: =IF(E99="","",(E95/E99)) | F100: =IF(F99="","",(F95/F99)) | G100: =IF(G99="","",(G95/G99)) | H100: =IF(H99="","",(H95/H99)) | I100: =IF(I99="","",(I95/I99)) | ... N100: =IF(N99="","",(N95/N99)) -> #DIV/0!
A101: Room Rev | B101: =B95*B96 -> 0 | C101: =C95*C96 -> 0 | D101: =D95*D96 -> 0 | E101: =E95*E96 -> 0 | F101: =F95*F96 -> 0 | G101: =G95*G96 -> 0 | H101: =H95*H96 -> 0 | I101: =I95*I96 -> 0 | ... M101: =M95*M96 -> 0 | N101: =SUM(B101:M101) -> 0
A102: F&B Rev | N102: =SUM(B102:M102) -> 0
A103: Extra Rev | N103: =SUM(B103:M103) -> 0
A104: TOTAL Rev | B104: =SUM(B101:B103) -> 0 | C104: =SUM(C101:C103) -> 0 | D104: =SUM(D101:D103) -> 0 | E104: =SUM(E101:E103) -> 0 | F104: =SUM(F101:F103) -> 0 | G104: =SUM(G101:G103) -> 0 | H104: =SUM(H101:H103) -> 0 | I104: =SUM(I101:I103) -> 0 | ... M104: =SUM(M101:M103) -> 0 | N104: =SUM(B104:M104) -> 0
A105: Av. S. P Gst. | B105: =IF(B104="","",(B104/B97)) -> #DIV/0! | C105: =IF(C104="","",(C104/C97)) -> #DIV/0! | D105: =IF(D104="","",(D104/D97)) -> #DIV/0! | E105: =IF(E104="","",(E104/E97)) -> #DIV/0! | F105: =IF(F104="","",(F104/F97)) -> #DIV/0! | G105: =IF(G104="","",(G104/G97)) -> #DIV/0! | H105: =IF(H104="","",(H104/H97)) -> #DIV/0! | I105: =IF(I104="","",(I104/I97)) -> #DIV/0! | ... N105: =IF(N104="","",(N104/N97)) -> #DIV/0!
B107: Jan | C107: Feb | D107: Mar | E107: Apr | F107: May | G107: Jun | H107: Jul | I107: Aug | J107: Sep | K107: Oct | L107: Nov | M107: Dec | N107: Total
A108: Rm Nights | E108: 187 | N108: =SUM(B108:M108) -> 187
A109: Av.R.R. | E109: 325.72 | N109: =N114/N108 -> 325.72
...

Sheet May
A1: =Jan!A1 -> TOP 20 Producers
B3: Jan | C3: Feb | D3: Mar | E3: Apr | F3: May | G3: Jun | H3: Jul | I3: Aug | J3: Sep | K3: Oct | L3: Nov | M3: Dec | N3: Total
A4: Rm Nights | N4: =SUM(B4:M4) -> 0
A5: Av.R.R. | N5: =N10/N4 -> #DIV/0!
A6: # Of Guests | N6: =SUM(B6:M6) -> 0
A7: DBL Occ. | B7: =IF(B4=0,0,(B6/B4)) -> 0 | C7: =IF(C4=0,0,(C6/C4)) -> 0 | D7: =IF(D4=0,0,(D6/D4)) -> 0 | E7: =IF(E4=0,0,(E6/E4)) -> 0 | F7: =IF(F4=0,0,(F6/F4)) -> 0 | G7: =IF(G4=0,0,(G6/G4)) -> 0 | H7: =IF(H4=0,0,(H6/H4)) -> 0 | I7: =IF(I4=0,0,(I6/I4)) -> 0 | ... N7: =IF(N4=0,0,(N6/N4)) -> 0
A8: Arrivals | N8: =SUM(B8:M8) -> 0
A9: Length of stay | B9: =IF(B8="","",(B4/B8)) | C9: =IF(C8="","",(C4/C8)) | D9: =IF(D8="","",(D4/D8)) | E9: =IF(E8="","",(E4/E8)) | F9: =IF(F8="","",(F4/F8)) | G9: =IF(G8="","",(G4/G8)) | H9: =IF(H8="","",(H4/H8)) | I9: =IF(I8="","",(I4/I8)) | ... N9: =IF(N8="","",(N4/N8)) -> #DIV/0!
A10: Room Rev | B10: =B4*B5 -> 0 | C10: =C4*C5 -> 0 | D10: =D4*D5 -> 0 | E10: =E4*E5 -> 0 | F10: =F4*F5 -> 0 | G10: =G4*G5 -> 0 | H10: =H4*H5 -> 0 | I10: =I4*I5 -> 0 | ... M10: =M4*M5 -> 0 | N10: =SUM(B10:M10) -> 0
A11: F&B Rev | N11: =SUM(B11:M11) -> 0
A12: Extra Rev | N12: =SUM(B12:M12) -> 0
A13: TOTAL Rev | B13: =SUM(B10:B12) -> 0 | C13: =SUM(C10:C12) -> 0 | D13: =SUM(D10:D12) -> 0 | E13: =SUM(E10:E12) -> 0 | F13: =SUM(F10:F12) -> 0 | G13: =SUM(G10:G12) -> 0 | H13: =SUM(H10:H12) -> 0 | I13: =SUM(I10:I12) -> 0 | ... M13: =SUM(M10:M12) -> 0 | N13: =SUM(B13:M13) -> 0
A14: Av. S. P Gst. | B14: =IF(B13="","",(B13/B6)) -> #DIV/0! | C14: =IF(C13="","",(C13/C6)) -> #DIV/0! | D14: =IF(D13="","",(D13/D6)) -> #DIV/0! | E14: =IF(E13="","",(E13/E6)) -> #DIV/0! | F14: =IF(F13="","",(F13/F6)) -> #DIV/0! | G14: =IF(G13="","",(G13/G6)) -> #DIV/0! | H14: =IF(H13="","",(H13/H6)) -> #DIV/0! | I14: =IF(I13="","",(I13/I6)) -> #DIV/0! | ... N14: =IF(N13="","",(N13/N6)) -> #DIV/0!
B16: Jan | C16: Feb | D16: Mar | E16: Apr | F16: May | G16: Jun | H16: Jul | I16: Aug | J16: Sep | K16: Oct | L16: Nov | M16: Dec | N16: Total
A17: Rm Nights | N17: =SUM(B17:M17) -> 0
A18: Av.R.R. | N18: =N23/N17 -> #DIV/0!
A19: # Of Guests | N19: =SUM(B19:M19) -> 0
A20: DBL Occ. | B20: =IF(B17=0,0,(B19/B17)) -> 0 | C20: =IF(C17=0,0,(C19/C17)) -> 0 | D20: =IF(D17=0,0,(D19/D17)) -> 0 | E20: =IF(E17=0,0,(E19/E17)) -> 0 | F20: =IF(F17=0,0,(F19/F17)) -> 0 | G20: =IF(G17=0,0,(G19/G17)) -> 0 | H20: =IF(H17=0,0,(H19/H17)) -> 0 | I20: =IF(I17=0,0,(I19/I17)) -> 0 | ... N20: =IF(N17=0,0,(N19/N17)) -> 0
A21: Arrivals | N21: =SUM(B21:M21) -> 0
A22: Length of stay | B22: =IF(B21="","",(B17/B21)) | C22: =IF(C21="","",(C17/C21)) | D22: =IF(D21="","",(D17/D21)) | E22: =IF(E21="","",(E17/E21)) | F22: =IF(F21="","",(F17/F21)) | G22: =IF(G21="","",(G17/G21)) | H22: =IF(H21="","",(H17/H21)) | I22: =IF(I21="","",(I17/I21)) | ... N22: =IF(N21="","",(N17/N21)) -> #DIV/0!
A23: Room Rev | B23: =B17*B18 -> 0 | C23: =C17*C18 -> 0 | D23: =D17*D18 -> 0 | E23: =E17*E18 -> 0 | F23: =F17*F18 -> 0 | G23: =G17*G18 -> 0 | H23: =H17*H18 -> 0 | I23: =I17*I18 -> 0 | ... M23: =M17*M18 -> 0 | N23: =SUM(B23:M23) -> 0
A24: F&B Rev | N24: =SUM(B24:M24) -> 0
A25: Extra Rev | N25: =SUM(B25:M25) -> 0
A26: TOTAL Rev | B26: =SUM(B23:B25) -> 0 | C26: =SUM(C23:C25) -> 0 | D26: =SUM(D23:D25) -> 0 | E26: =SUM(E23:E25) -> 0 | F26: =SUM(F23:F25) -> 0 | G26: =SUM(G23:G25) -> 0 | H26: =SUM(H23:H25) -> 0 | I26: =SUM(I23:I25) -> 0 | ... M26: =SUM(M23:M25) -> 0 | N26: =SUM(B26:M26) -> 0
A27: Av. S. P Gst. | B27: =IF(B26="","",(B26/B19)) -> #DIV/0! | C27: =IF(C26="","",(C26/C19)) -> #DIV/0! | D27: =IF(D26="","",(D26/D19)) -> #DIV/0! | E27: =IF(E26="","",(E26/E19)) -> #DIV/0! | F27: =IF(F26="","",(F26/F19)) -> #DIV/0! | G27: =IF(G26="","",(G26/G19)) -> #DIV/0! | H27: =IF(H26="","",(H26/H19)) -> #DIV/0! | I27: =IF(I26="","",(I26/I19)) -> #DIV/0! | ... N27: =IF(N26="","",(N26/N19)) -> #DIV/0!
B29: Jan | C29: Feb | D29: Mar | E29: Apr | F29: May | G29: Jun | H29: Jul | I29: Aug | J29: Sep | K29: Oct | L29: Nov | M29: Dec | N29: Total
A30: Rm Nights | N30: =SUM(B30:M30) -> 0
A31: Av.R.R. | N31: =N36/N30 -> #DIV/0!
A32: # Of Guests | N32: =SUM(B32:M32) -> 0
A33: DBL Occ. | B33: =IF(B30=0,0,(B32/B30)) -> 0 | C33: =IF(C30=0,0,(C32/C30)) -> 0 | D33: =IF(D30=0,0,(D32/D30)) -> 0 | E33: =IF(E30=0,0,(E32/E30)) -> 0 | F33: =IF(F30=0,0,(F32/F30)) -> 0 | G33: =IF(G30=0,0,(G32/G30)) -> 0 | H33: =IF(H30=0,0,(H32/H30)) -> 0 | I33: =IF(I30=0,0,(I32/I30)) -> 0 | ... N33: =IF(N30=0,0,(N32/N30)) -> 0
A34: Arrivals | N34: =SUM(B34:M34) -> 0
A35: Length of stay | B35: =IF(B34="","",(B30/B34)) | C35: =IF(C34="","",(C30/C34)) | D35: =IF(D34="","",(D30/D34)) | E35: =IF(E34="","",(E30/E34)) | F35: =IF(F34="","",(F30/F34)) | G35: =IF(G34="","",(G30/G34)) | H35: =IF(H34="","",(H30/H34)) | I35: =IF(I34="","",(I30/I34)) | ... N35: =IF(N34="","",(N30/N34)) -> #DIV/0!
A36: Room Rev | B36: =B30*B31 -> 0 | C36: =C30*C31 -> 0 | D36: =D30*D31 -> 0 | E36: =E30*E31 -> 0 | F36: =F30*F31 -> 0 | G36: =G30*G31 -> 0 | H36: =H30*H31 -> 0 | I36: =I30*I31 -> 0 | ... M36: =M30*M31 -> 0 | N36: =SUM(B36:M36) -> 0
A37: F&B Rev | N37: =SUM(B37:M37) -> 0
A38: Extra Rev | N38: =SUM(B38:M38) -> 0
A39: TOTAL Rev | B39: =SUM(B36:B38) -> 0 | C39: =SUM(C36:C38) -> 0 | D39: =SUM(D36:D38) -> 0 | E39: =SUM(E36:E38) -> 0 | F39: =SUM(F36:F38) -> 0 | G39: =SUM(G36:G38) -> 0 | H39: =SUM(H36:H38) -> 0 | I39: =SUM(I36:I38) -> 0 | ... M39: =SUM(M36:M38) -> 0 | N39: =SUM(B39:M39) -> 0
A40: Av. S. P Gst. | B40: =IF(B39="","",(B39/B32)) -> #DIV/0! | C40: =IF(C39="","",(C39/C32)) -> #DIV/0! | D40: =IF(D39="","",(D39/D32)) -> #DIV/0! | E40: =IF(E39="","",(E39/E32)) -> #DIV/0! | F40: =IF(F39="","",(F39/F32)) -> #DIV/0! | G40: =IF(G39="","",(G39/G32)) -> #DIV/0! | H40: =IF(H39="","",(H39/H32)) -> #DIV/0! | I40: =IF(I39="","",(I39/I32)) -> #DIV/0! | ... N40: =IF(N39="","",(N39/N32)) -> #DIV/0!
B42: Jan | C42: Feb | D42: Mar | E42: Apr | F42: May | G42: Jun | H42: Jul | I42: Aug | J42: Sep | K42: Oct | L42: Nov | M42: Dec | N42: Total
A43: Rm Nights | N43: =SUM(B43:M43) -> 0
A44: Av.R.R. | N44: =N49/N43 -> #DIV/0!
A45: # Of Guests | N45: =SUM(B45:M45) -> 0
A46: DBL Occ. | B46: =IF(B43=0,0,(B45/B43)) -> 0 | C46: =IF(C43=0,0,(C45/C43)) -> 0 | D46: =IF(D43=0,0,(D45/D43)) -> 0 | E46: =IF(E43=0,0,(E45/E43)) -> 0 | F46: =IF(F43=0,0,(F45/F43)) -> 0 | G46: =IF(G43=0,0,(G45/G43)) -> 0 | H46: =IF(H43=0,0,(H45/H43)) -> 0 | I46: =IF(I43=0,0,(I45/I43)) -> 0 | ... N46: =IF(N43=0,0,(N45/N43)) -> 0
A47: Arrivals | N47: =SUM(B47:M47) -> 0
A48: Length of stay | B48: =IF(B47="","",(B43/B47)) | C48: =IF(C47="","",(C43/C47)) | D48: =IF(D47="","",(D43/D47)) | E48: =IF(E47="","",(E43/E47)) | F48: =IF(F47="","",(F43/F47)) | G48: =IF(G47="","",(G43/G47)) | H48: =IF(H47="","",(H43/H47)) | I48: =IF(I47="","",(I43/I47)) | ... N48: =IF(N47="","",(N43/N47)) -> #DIV/0!
A49: Room Rev | B49: =B43*B44 -> 0 | C49: =C43*C44 -> 0 | D49: =D43*D44 -> 0 | E49: =E43*E44 -> 0 | F49: =F43*F44 -> 0 | G49: =G43*G44 -> 0 | H49: =H43*H44 -> 0 | I49: =I43*I44 -> 0 | ... M49: =M43*M44 -> 0 | N49: =SUM(B49:M49) -> 0
A50: F&B Rev | N50: =SUM(B50:M50) -> 0
A51: Extra Rev | N51: =SUM(B51:M51) -> 0
A52: TOTAL Rev | B52: =SUM(B49:B51) -> 0 | C52: =SUM(C49:C51) -> 0 | D52: =SUM(D49:D51) -> 0 | E52: =SUM(E49:E51) -> 0 | F52: =SUM(F49:F51) -> 0 | G52: =SUM(G49:G51) -> 0 | H52: =SUM(H49:H51) -> 0 | I52: =SUM(I49:I51) -> 0 | ... M52: =SUM(M49:M51) -> 0 | N52: =SUM(B52:M52) -> 0
A53: Av. S. P Gst. | B53: =IF(B52="","",(B52/B45)) -> #DIV/0! | C53: =IF(C52="","",(C52/C45)) -> #DIV/0! | D53: =IF(D52="","",(D52/D45)) -> #DIV/0! | E53: =IF(E52="","",(E52/E45)) -> #DIV/0! | F53: =IF(F52="","",(F52/F45)) -> #DIV/0! | G53: =IF(G52="","",(G52/G45)) -> #DIV/0! | H53: =IF(H52="","",(H52/H45)) -> #DIV/0! | I53: =IF(I52="","",(I52/I45)) -> #DIV/0! | ... N53: =IF(N52="","",(N52/N45)) -> #DIV/0!
B55: Jan | C55: Feb | D55: Mar | E55: Apr | F55: May | G55: Jun | H55: Jul | I55: Aug | J55: Sep | K55: Oct | L55: Nov | M55: Dec | N55: Total
A56: Rm Nights | N56: =SUM(B56:M56) -> 0
A57: Av.R.R. | N57: =N62/N56 -> #DIV/0!
A58: # Of Guests | N58: =SUM(B58:M58) -> 0
A59: DBL Occ. | B59: =IF(B56=0,0,(B58/B56)) -> 0 | C59: =IF(C56=0,0,(C58/C56)) -> 0 | D59: =IF(D56=0,0,(D58/D56)) -> 0 | E59: =IF(E56=0,0,(E58/E56)) -> 0 | F59: =IF(F56=0,0,(F58/F56)) -> 0 | G59: =IF(G56=0,0,(G58/G56)) -> 0 | H59: =IF(H56=0,0,(H58/H56)) -> 0 | I59: =IF(I56=0,0,(I58/I56)) -> 0 | ... N59: =IF(N56=0,0,(N58/N56)) -> 0
A60: Arrivals | N60: =SUM(B60:M60) -> 0
A61: Length of stay | B61: =IF(B60="","",(B56/B60)) | C61: =IF(C60="","",(C56/C60)) | D61: =IF(D60="","",(D56/D60)) | E61: =IF(E60="","",(E56/E60)) | F61: =IF(F60="","",(F56/F60)) | G61: =IF(G60="","",(G56/G60)) | H61: =IF(H60="","",(H56/H60)) | I61: =IF(I60="","",(I56/I60)) | ... N61: =IF(N60="","",(N56/N60)) -> #DIV/0!
A62: Room Rev | B62: =B56*B57 -> 0 | C62: =C56*C57 -> 0 | D62: =D56*D57 -> 0 | E62: =E56*E57 -> 0 | F62: =F56*F57 -> 0 | G62: =G56*G57 -> 0 | H62: =H56*H57 -> 0 | I62: =I56*I57 -> 0 | ... M62: =M56*M57 -> 0 | N62: =SUM(B62:M62) -> 0
A63: F&B Rev | N63: =SUM(B63:M63) -> 0
A64: Extra Rev | N64: =SUM(B64:M64) -> 0
A65: TOTAL Rev | B65: =SUM(B62:B64) -> 0 | C65: =SUM(C62:C64) -> 0 | D65: =SUM(D62:D64) -> 0 | E65: =SUM(E62:E64) -> 0 | F65: =SUM(F62:F64) -> 0 | G65: =SUM(G62:G64) -> 0 | H65: =SUM(H62:H64) -> 0 | I65: =SUM(I62:I64) -> 0 | ... M65: =SUM(M62:M64) -> 0 | N65: =SUM(B65:M65) -> 0
A66: Av. S. P Gst. | B66: =IF(B65="","",(B65/B58)) -> #DIV/0! | C66: =IF(C65="","",(C65/C58)) -> #DIV/0! | D66: =IF(D65="","",(D65/D58)) -> #DIV/0! | E66: =IF(E65="","",(E65/E58)) -> #DIV/0! | F66: =IF(F65="","",(F65/F58)) -> #DIV/0! | G66: =IF(G65="","",(G65/G58)) -> #DIV/0! | H66: =IF(H65="","",(H65/H58)) -> #DIV/0! | I66: =IF(I65="","",(I65/I58)) -> #DIV/0! | ... N66: =IF(N65="","",(N65/N58)) -> #DIV/0!
B68: Jan | C68: Feb | D68: Mar | E68: Apr | F68: May | G68: Jun | H68: Jul | I68: Aug | J68: Sep | K68: Oct | L68: Nov | M68: Dec | N68: Total
A69: Rm Nights | N69: =SUM(B69:M69) -> 0
A70: Av.R.R. | N70: =N75/N69 -> #DIV/0!
A71: # Of Guests | N71: =SUM(B71:M71) -> 0
A72: DBL Occ. | B72: =IF(B69=0,0,(B71/B69)) -> 0 | C72: =IF(C69=0,0,(C71/C69)) -> 0 | D72: =IF(D69=0,0,(D71/D69)) -> 0 | E72: =IF(E69=0,0,(E71/E69)) -> 0 | F72: =IF(F69=0,0,(F71/F69)) -> 0 | G72: =IF(G69=0,0,(G71/G69)) -> 0 | H72: =IF(H69=0,0,(H71/H69)) -> 0 | I72: =IF(I69=0,0,(I71/I69)) -> 0 | ... N72: =IF(N69=0,0,(N71/N69)) -> 0
A73: Arrivals | N73: =SUM(B73:M73) -> 0
A74: Length of stay | B74: =IF(B73="","",(B69/B73)) | C74: =IF(C73="","",(C69/C73)) | D74: =IF(D73="","",(D69/D73)) | E74: =IF(E73="","",(E69/E73)) | F74: =IF(F73="","",(F69/F73)) | G74: =IF(G73="","",(G69/G73)) | H74: =IF(H73="","",(H69/H73)) | I74: =IF(I73="","",(I69/I73)) | ... N74: =IF(N73="","",(N69/N73)) -> #DIV/0!
A75: Room Rev | B75: =B69*B70 -> 0 | C75: =C69*C70 -> 0 | D75: =D69*D70 -> 0 | E75: =E69*E70 -> 0 | F75: =F69*F70 -> 0 | G75: =G69*G70 -> 0 | H75: =H69*H70 -> 0 | I75: =I69*I70 -> 0 | ... M75: =M69*M70 -> 0 | N75: =SUM(B75:M75) -> 0
A76: F&B Rev | N76: =SUM(B76:M76) -> 0
A77: Extra Rev | N77: =SUM(B77:M77) -> 0
A78: TOTAL Rev | B78: =SUM(B75:B77) -> 0 | C78: =SUM(C75:C77) -> 0 | D78: =SUM(D75:D77) -> 0 | E78: =SUM(E75:E77) -> 0 | F78: =SUM(F75:F77) -> 0 | G78: =SUM(G75:G77) -> 0 | H78: =SUM(H75:H77) -> 0 | I78: =SUM(I75:I77) -> 0 | ... M78: =SUM(M75:M77) -> 0 | N78: =SUM(B78:M78) -> 0
A79: Av. S. P Gst. | B79: =IF(B78="","",(B78/B71)) -> #DIV/0! | C79: =IF(C78="","",(C78/C71)) -> #DIV/0! | D79: =IF(D78="","",(D78/D71)) -> #DIV/0! | E79: =IF(E78="","",(E78/E71)) -> #DIV/0! | F79: =IF(F78="","",(F78/F71)) -> #DIV/0! | G79: =IF(G78="","",(G78/G71)) -> #DIV/0! | H79: =IF(H78="","",(H78/H71)) -> #DIV/0! | I79: =IF(I78="","",(I78/I71)) -> #DIV/0! | ... N79: =IF(N78="","",(N78/N71)) -> #DIV/0!
B81: Jan | C81: Feb | D81: Mar | E81: Apr | F81: May | G81: Jun | H81: Jul | I81: Aug | J81: Sep | K81: Oct | L81: Nov | M81: Dec | N81: Total
A82: Rm Nights | N82: =SUM(B82:M82) -> 0
A83: Av.R.R. | N83: =N88/N82 -> #DIV/0!
A84: # Of Guests | N84: =SUM(B84:M84) -> 0
A85: DBL Occ. | B85: =IF(B82=0,0,(B84/B82)) -> 0 | C85: =IF(C82=0,0,(C84/C82)) -> 0 | D85: =IF(D82=0,0,(D84/D82)) -> 0 | E85: =IF(E82=0,0,(E84/E82)) -> 0 | F85: =IF(F82=0,0,(F84/F82)) -> 0 | G85: =IF(G82=0,0,(G84/G82)) -> 0 | H85: =IF(H82=0,0,(H84/H82)) -> 0 | I85: =IF(I82=0,0,(I84/I82)) -> 0 | ... N85: =IF(N82=0,0,(N84/N82)) -> 0
A86: Arrivals | N86: =SUM(B86:M86) -> 0
A87: Length of stay | B87: =IF(B86="","",(B82/B86)) | C87: =IF(C86="","",(C82/C86)) | D87: =IF(D86="","",(D82/D86)) | E87: =IF(E86="","",(E82/E86)) | F87: =IF(F86="","",(F82/F86)) | G87: =IF(G86="","",(G82/G86)) | H87: =IF(H86="","",(H82/H86)) | I87: =IF(I86="","",(I82/I86)) | ... N87: =IF(N86="","",(N82/N86)) -> #DIV/0!
A88: Room Rev | B88: =B82*B83 -> 0 | C88: =C82*C83 -> 0 | D88: =D82*D83 -> 0 | E88: =E82*E83 -> 0 | F88: =F82*F83 -> 0 | G88: =G82*G83 -> 0 | H88: =H82*H83 -> 0 | I88: =I82*I83 -> 0 | ... M88: =M82*M83 -> 0 | N88: =SUM(B88:M88) -> 0
A89: F&B Rev | N89: =SUM(B89:M89) -> 0
A90: Extra Rev | N90: =SUM(B90:M90) -> 0
A91: TOTAL Rev | B91: =SUM(B88:B90) -> 0 | C91: =SUM(C88:C90) -> 0 | D91: =SUM(D88:D90) -> 0 | E91: =SUM(E88:E90) -> 0 | F91: =SUM(F88:F90) -> 0 | G91: =SUM(G88:G90) -> 0 | H91: =SUM(H88:H90) -> 0 | I91: =SUM(I88:I90) -> 0 | ... M91: =SUM(M88:M90) -> 0 | N91: =SUM(B91:M91) -> 0
A92: Av. S. P Gst. | B92: =IF(B91="","",(B91/B84)) -> #DIV/0! | C92: =IF(C91="","",(C91/C84)) -> #DIV/0! | D92: =IF(D91="","",(D91/D84)) -> #DIV/0! | E92: =IF(E91="","",(E91/E84)) -> #DIV/0! | F92: =IF(F91="","",(F91/F84)) -> #DIV/0! | G92: =IF(G91="","",(G91/G84)) -> #DIV/0! | H92: =IF(H91="","",(H91/H84)) -> #DIV/0! | I92: =IF(I91="","",(I91/I84)) -> #DIV/0! | ... N92: =IF(N91="","",(N91/N84)) -> #DIV/0!
B94: Jan | C94: Feb | D94: Mar | E94: Apr | F94: May | G94: Jun | H94: Jul | I94: Aug | J94: Sep | K94: Oct | L94: Nov | M94: Dec | N94: Total
A95: Rm Nights | N95: =SUM(B95:M95) -> 0
A96: Av.R.R. | N96: =N101/N95 -> #DIV/0!
A97: # Of Guests | N97: =SUM(B97:M97) -> 0
A98: DBL Occ. | B98: =IF(B95=0,0,(B97/B95)) -> 0 | C98: =IF(C95=0,0,(C97/C95)) -> 0 | D98: =IF(D95=0,0,(D97/D95)) -> 0 | E98: =IF(E95=0,0,(E97/E95)) -> 0 | F98: =IF(F95=0,0,(F97/F95)) -> 0 | G98: 0 | H98: =IF(H95=0,0,(H97/H95)) -> 0 | I98: =IF(I95=0,0,(I97/I95)) -> 0 | J98: =IF(J95=0,0,(J97/J95)) -> 0 | K98: =IF(K95=0,0,(K97/K95)) -> 0 | L98: =IF(L95=0,0,(L97/L95)) -> 0 | M98: =IF(M95=0,0,(M97/M95)) -> 0 | N98: =IF(N95=0,0,(N97/N95)) -> 0
A99: Arrivals | N99: =SUM(B99:M99) -> 0
A100: Length of stay | B100: =IF(B99="","",(B95/B99)) | C100: =IF(C99="","",(C95/C99)) | D100: =IF(D99="","",(D95/D99)) | E100: =IF(E99="","",(E95/E99)) | F100: =IF(F99="","",(F95/F99)) | G100: 0 | H100: =IF(H99="","",(H95/H99)) | I100: =IF(I99="","",(I95/I99)) | J100: =IF(J99="","",(J95/J99)) | K100: =IF(K99="","",(K95/K99)) | L100: =IF(L99="","",(L95/L99)) | M100: =IF(M99="","",(M95/M99)) | N100: =IF(N99="","",(N95/N99)) -> #DIV/0!
A101: Room Rev | B101: =B95*B96 -> 0 | C101: =C95*C96 -> 0 | D101: =D95*D96 -> 0 | E101: =E95*E96 -> 0 | F101: =F95*F96 -> 0 | G101: 0 | H101: =H95*H96 -> 0 | I101: =I95*I96 -> 0 | J101: =J95*J96 -> 0 | K101: =K95*K96 -> 0 | L101: =L95*L96 -> 0 | M101: =M95*M96 -> 0 | N101: =SUM(B101:M101) -> 0
A102: F&B Rev | G102: 0 | N102: =SUM(B102:M102) -> 0
A103: Extra Rev | G103: 0 | N103: =SUM(B103:M103) -> 0
A104: TOTAL Rev | B104: =SUM(B101:B103) -> 0 | C104: =SUM(C101:C103) -> 0 | D104: =SUM(D101:D103) -> 0 | E104: =SUM(E101:E103) -> 0 | F104: =SUM(F101:F103) -> 0 | G104: 0 | H104: =SUM(H101:H103) -> 0 | I104: =SUM(I101:I103) -> 0 | J104: =SUM(J101:J103) -> 0 | K104: =SUM(K101:K103) -> 0 | L104: =SUM(L101:L103) -> 0 | M104: =SUM(M101:M103) -> 0 | N104: =SUM(B104:M104) -> 0
A105: Av. S. P Gst. | B105: =IF(B104="","",(B104/B97)) -> #DIV/0! | C105: =IF(C104="","",(C104/C97)) -> #DIV/0! | D105: =IF(D104="","",(D104/D97)) -> #DIV/0! | E105: =IF(E104="","",(E104/E97)) -> #DIV/0! | F105: =IF(F104="","",(F104/F97)) -> #DIV/0! | G105: 0 | H105: =IF(H104="","",(H104/H97)) -> #DIV/0! | I105: =IF(I104="","",(I104/I97)) -> #DIV/0! | J105: =IF(J104="","",(J104/J97)) -> #DIV/0! | K105: =IF(K104="","",(K104/K97)) -> #DIV/0! | L105: =IF(L104="","",(L104/L97)) -> #DIV/0! | M105: =IF(M104="","",(M104/M97)) -> #DIV/0! | N105: =IF(N104="","",(N104/N97)) -> #DIV/0!
B107: Jan | C107: Feb | D107: Mar | E107: Apr | F107: May | G107: Jun | H107: Jul | I107: Aug | J107: Sep | K107: Oct | L107: Nov | M107: Dec | N107: Total
A108: Rm Nights | N108: =SUM(B108:M108) -> 0
A109: Av.R.R. | N109: =N114/N108 -> #DIV/0!
...

Sheet Jun
A1: =Jan!A1 -> TOP 20 Producers
B3: Jan | C3: Feb | D3: Mar | E3: Apr | F3: May | G3: Jun | H3: Jul | I3: Aug | J3: Sep | K3: Oct | L3: Nov | M3: Dec | N3: Total
A4: Rm Nights | N4: =SUM(B4:M4) -> 0
A5: Av.R.R. | N5: =N10/N4 -> #DIV/0!
A6: # Of Guests | N6: =SUM(B6:M6) -> 0
A7: DBL Occ. | B7: =IF(B4=0,0,(B6/B4)) -> 0 | C7: =IF(C4=0,0,(C6/C4)) -> 0 | D7: =IF(D4=0,0,(D6/D4)) -> 0 | E7: =IF(E4=0,0,(E6/E4)) -> 0 | F7: =IF(F4=0,0,(F6/F4)) -> 0 | G7: =IF(G4=0,0,(G6/G4)) -> 0 | H7: =IF(H4=0,0,(H6/H4)) -> 0 | I7: =IF(I4=0,0,(I6/I4)) -> 0 | ... N7: =IF(N4=0,0,(N6/N4)) -> 0
A8: Arrivals | N8: =SUM(B8:M8) -> 0
A9: Length of stay | B9: =IF(B8="","",(B4/B8)) | C9: =IF(C8="","",(C4/C8)) | D9: =IF(D8="","",(D4/D8)) | E9: =IF(E8="","",(E4/E8)) | F9: =IF(F8="","",(F4/F8)) | G9: =IF(G8="","",(G4/G8)) | H9: =IF(H8="","",(H4/H8)) | I9: =IF(I8="","",(I4/I8)) | ... N9: =IF(N8="","",(N4/N8)) -> #DIV/0!
A10: Room Rev | B10: =B4*B5 -> 0 | C10: =C4*C5 -> 0 | D10: =D4*D5 -> 0 | E10: =E4*E5 -> 0 | F10: =F4*F5 -> 0 | G10: =G4*G5 -> 0 | H10: =H4*H5 -> 0 | I10: =I4*I5 -> 0 | ... M10: =M4*M5 -> 0 | N10: =SUM(B10:M10) -> 0
A11: F&B Rev | N11: =SUM(B11:M11) -> 0
A12: Extra Rev | N12: =SUM(B12:M12) -> 0
A13: TOTAL Rev | B13: =SUM(B10:B12) -> 0 | C13: =SUM(C10:C12) -> 0 | D13: =SUM(D10:D12) -> 0 | E13: =SUM(E10:E12) -> 0 | F13: =SUM(F10:F12) -> 0 | G13: =SUM(G10:G12) -> 0 | H13: =SUM(H10:H12) -> 0 | I13: =SUM(I10:I12) -> 0 | ... M13: =SUM(M10:M12) -> 0 | N13: =SUM(B13:M13) -> 0
A14: Av. S. P Gst. | B14: =IF(B13="","",(B13/B6)) -> #DIV/0! | C14: =IF(C13="","",(C13/C6)) -> #DIV/0! | D14: =IF(D13="","",(D13/D6)) -> #DIV/0! | E14: =IF(E13="","",(E13/E6)) -> #DIV/0! | F14: =IF(F13="","",(F13/F6)) -> #DIV/0! | G14: =IF(G13="","",(G13/G6)) -> #DIV/0! | H14: =IF(H13="","",(H13/H6)) -> #DIV/0! | I14: =IF(I13="","",(I13/I6)) -> #DIV/0! | ... N14: =IF(N13="","",(N13/N6)) -> #DIV/0!
B16: Jan | C16: Feb | D16: Mar | E16: Apr | F16: May | G16: Jun | H16: Jul | I16: Aug | J16: Sep | K16: Oct | L16: Nov | M16: Dec | N16: Total
A17: Rm Nights | N17: =SUM(B17:M17) -> 0
A18: Av.R.R. | N18: =N23/N17 -> #DIV/0!
A19: # Of Guests | N19: =SUM(B19:M19) -> 0
A20: DBL Occ. | B20: =IF(B17=0,0,(B19/B17)) -> 0 | C20: =IF(C17=0,0,(C19/C17)) -> 0 | D20: =IF(D17=0,0,(D19/D17)) -> 0 | E20: =IF(E17=0,0,(E19/E17)) -> 0 | F20: =IF(F17=0,0,(F19/F17)) -> 0 | G20: =IF(G17=0,0,(G19/G17)) -> 0 | H20: =IF(H17=0,0,(H19/H17)) -> 0 | I20: =IF(I17=0,0,(I19/I17)) -> 0 | ... N20: =IF(N17=0,0,(N19/N17)) -> 0
A21: Arrivals | N21: =SUM(B21:M21) -> 0
A22: Length of stay | B22: =IF(B21="","",(B17/B21)) | C22: =IF(C21="","",(C17/C21)) | D22: =IF(D21="","",(D17/D21)) | E22: =IF(E21="","",(E17/E21)) | F22: =IF(F21="","",(F17/F21)) | G22: =IF(G21="","",(G17/G21)) | H22: =IF(H21="","",(H17/H21)) | I22: =IF(I21="","",(I17/I21)) | ... N22: =IF(N21="","",(N17/N21)) -> #DIV/0!
A23: Room Rev | B23: =B17*B18 -> 0 | C23: =C17*C18 -> 0 | D23: =D17*D18 -> 0 | E23: =E17*E18 -> 0 | F23: =F17*F18 -> 0 | G23: =G17*G18 -> 0 | H23: =H17*H18 -> 0 | I23: =I17*I18 -> 0 | ... M23: =M17*M18 -> 0 | N23: =SUM(B23:M23) -> 0
A24: F&B Rev | N24: =SUM(B24:M24) -> 0
A25: Extra Rev | N25: =SUM(B25:M25) -> 0
A26: TOTAL Rev | B26: =SUM(B23:B25) -> 0 | C26: =SUM(C23:C25) -> 0 | D26: =SUM(D23:D25) -> 0 | E26: =SUM(E23:E25) -> 0 | F26: =SUM(F23:F25) -> 0 | G26: =SUM(G23:G25) -> 0 | H26: =SUM(H23:H25) -> 0 | I26: =SUM(I23:I25) -> 0 | ... M26: =SUM(M23:M25) -> 0 | N26: =SUM(B26:M26) -> 0
A27: Av. S. P Gst. | B27: =IF(B26="","",(B26/B19)) -> #DIV/0! | C27: =IF(C26="","",(C26/C19)) -> #DIV/0! | D27: =IF(D26="","",(D26/D19)) -> #DIV/0! | E27: =IF(E26="","",(E26/E19)) -> #DIV/0! | F27: =IF(F26="","",(F26/F19)) -> #DIV/0! | G27: =IF(G26="","",(G26/G19)) -> #DIV/0! | H27: =IF(H26="","",(H26/H19)) -> #DIV/0! | I27: =IF(I26="","",(I26/I19)) -> #DIV/0! | ... N27: =IF(N26="","",(N26/N19)) -> #DIV/0!
B29: Jan | C29: Feb | D29: Mar | E29: Apr | F29: May | G29: Jun | H29: Jul | I29: Aug | J29: Sep | K29: Oct | L29: Nov | M29: Dec | N29: Total
A30: Rm Nights | N30: =SUM(B30:M30) -> 0
A31: Av.R.R. | N31: =N36/N30 -> #DIV/0!
A32: # Of Guests | N32: =SUM(B32:M32) -> 0
A33: DBL Occ. | B33: =IF(B30=0,0,(B32/B30)) -> 0 | C33: =IF(C30=0,0,(C32/C30)) -> 0 | D33: =IF(D30=0,0,(D32/D30)) -> 0 | E33: =IF(E30=0,0,(E32/E30)) -> 0 | F33: =IF(F30=0,0,(F32/F30)) -> 0 | G33: =IF(G30=0,0,(G32/G30)) -> 0 | H33: =IF(H30=0,0,(H32/H30)) -> 0 | I33: =IF(I30=0,0,(I32/I30)) -> 0 | ... N33: =IF(N30=0,0,(N32/N30)) -> 0
A34: Arrivals | N34: =SUM(B34:M34) -> 0
A35: Length of stay | B35: =IF(B34="","",(B30/B34)) | C35: =IF(C34="","",(C30/C34)) | D35: =IF(D34="","",(D30/D34)) | E35: =IF(E34="","",(E30/E34)) | F35: =IF(F34="","",(F30/F34)) | G35: =IF(G34="","",(G30/G34)) | H35: =IF(H34="","",(H30/H34)) | I35: =IF(I34="","",(I30/I34)) | ... N35: =IF(N34="","",(N30/N34)) -> #DIV/0!
A36: Room Rev | B36: =B30*B31 -> 0 | C36: =C30*C31 -> 0 | D36: =D30*D31 -> 0 | E36: =E30*E31 -> 0 | F36: =F30*F31 -> 0 | G36: =G30*G31 -> 0 | H36: =H30*H31 -> 0 | I36: =I30*I31 -> 0 | ... M36: =M30*M31 -> 0 | N36: =SUM(B36:M36) -> 0
A37: F&B Rev | N37: =SUM(B37:M37) -> 0
A38: Extra Rev | N38: =SUM(B38:M38) -> 0
A39: TOTAL Rev | B39: =SUM(B36:B38) -> 0 | C39: =SUM(C36:C38) -> 0 | D39: =SUM(D36:D38) -> 0 | E39: =SUM(E36:E38) -> 0 | F39: =SUM(F36:F38) -> 0 | G39: =SUM(G36:G38) -> 0 | H39: =SUM(H36:H38) -> 0 | I39: =SUM(I36:I38) -> 0 | ... M39: =SUM(M36:M38) -> 0 | N39: =SUM(B39:M39) -> 0
A40: Av. S. P Gst. | B40: =IF(B39="","",(B39/B32)) -> #DIV/0! | C40: =IF(C39="","",(C39/C32)) -> #DIV/0! | D40: =IF(D39="","",(D39/D32)) -> #DIV/0! | E40: =IF(E39="","",(E39/E32)) -> #DIV/0! | F40: =IF(F39="","",(F39/F32)) -> #DIV/0! | G40: =IF(G39="","",(G39/G32)) -> #DIV/0! | H40: =IF(H39="","",(H39/H32)) -> #DIV/0! | I40: =IF(I39="","",(I39/I32)) -> #DIV/0! | ... N40: =IF(N39="","",(N39/N32)) -> #DIV/0!
B42: Jan | C42: Feb | D42: Mar | E42: Apr | F42: May | G42: Jun | H42: Jul | I42: Aug | J42: Sep | K42: Oct | L42: Nov | M42: Dec | N42: Total
A43: Rm Nights | N43: =SUM(B43:M43) -> 0
A44: Av.R.R. | N44: =N49/N43 -> #DIV/0!
A45: # Of Guests | N45: =SUM(B45:M45) -> 0
A46: DBL Occ. | B46: =IF(B43=0,0,(B45/B43)) -> 0 | C46: =IF(C43=0,0,(C45/C43)) -> 0 | D46: =IF(D43=0,0,(D45/D43)) -> 0 | E46: =IF(E43=0,0,(E45/E43)) -> 0 | F46: =IF(F43=0,0,(F45/F43)) -> 0 | G46: =IF(G43=0,0,(G45/G43)) -> 0 | H46: =IF(H43=0,0,(H45/H43)) -> 0 | I46: =IF(I43=0,0,(I45/I43)) -> 0 | ... N46: =IF(N43=0,0,(N45/N43)) -> 0
A47: Arrivals | N47: =SUM(B47:M47) -> 0
A48: Length of stay | B48: =IF(B47="","",(B43/B47)) | C48: =IF(C47="","",(C43/C47)) | D48: =IF(D47="","",(D43/D47)) | E48: =IF(E47="","",(E43/E47)) | F48: =IF(F47="","",(F43/F47)) | G48: =IF(G47="","",(G43/G47)) | H48: =IF(H47="","",(H43/H47)) | I48: =IF(I47="","",(I43/I47)) | ... N48: =IF(N47="","",(N43/N47)) -> #DIV/0!
A49: Room Rev | B49: =B43*B44 -> 0 | C49: =C43*C44 -> 0 | D49: =D43*D44 -> 0 | E49: =E43*E44 -> 0 | F49: =F43*F44 -> 0 | G49: =G43*G44 -> 0 | H49: =H43*H44 -> 0 | I49: =I43*I44 -> 0 | ... M49: =M43*M44 -> 0 | N49: =SUM(B49:M49) -> 0
A50: F&B Rev | N50: =SUM(B50:M50) -> 0
A51: Extra Rev | N51: =SUM(B51:M51) -> 0
A52: TOTAL Rev | B52: =SUM(B49:B51) -> 0 | C52: =SUM(C49:C51) -> 0 | D52: =SUM(D49:D51) -> 0 | E52: =SUM(E49:E51) -> 0 | F52: =SUM(F49:F51) -> 0 | G52: =SUM(G49:G51) -> 0 | H52: =SUM(H49:H51) -> 0 | I52: =SUM(I49:I51) -> 0 | ... M52: =SUM(M49:M51) -> 0 | N52: =SUM(B52:M52) -> 0
A53: Av. S. P Gst. | B53: =IF(B52="","",(B52/B45)) -> #DIV/0! | C53: =IF(C52="","",(C52/C45)) -> #DIV/0! | D53: =IF(D52="","",(D52/D45)) -> #DIV/0! | E53: =IF(E52="","",(E52/E45)) -> #DIV/0! | F53: =IF(F52="","",(F52/F45)) -> #DIV/0! | G53: =IF(G52="","",(G52/G45)) -> #DIV/0! | H53: =IF(H52="","",(H52/H45)) -> #DIV/0! | I53: =IF(I52="","",(I52/I45)) -> #DIV/0! | ... N53: =IF(N52="","",(N52/N45)) -> #DIV/0!
B55: Jan | C55: Feb | D55: Mar | E55: Apr | F55: May | G55: Jun | H55: Jul | I55: Aug | J55: Sep | K55: Oct | L55: Nov | M55: Dec | N55: Total
A56: Rm Nights | N56: =SUM(B56:M56) -> 0
A57: Av.R.R. | N57: =N62/N56 -> #DIV/0!
A58: # Of Guests | N58: =SUM(B58:M58) -> 0
A59: DBL Occ. | B59: =IF(B56=0,0,(B58/B56)) -> 0 | C59: =IF(C56=0,0,(C58/C56)) -> 0 | D59: =IF(D56=0,0,(D58/D56)) -> 0 | E59: =IF(E56=0,0,(E58/E56)) -> 0 | F59: =IF(F56=0,0,(F58/F56)) -> 0 | G59: =IF(G56=0,0,(G58/G56)) -> 0 | H59: =IF(H56=0,0,(H58/H56)) -> 0 | I59: =IF(I56=0,0,(I58/I56)) -> 0 | ... N59: =IF(N56=0,0,(N58/N56)) -> 0
A60: Arrivals | N60: =SUM(B60:M60) -> 0
A61: Length of stay | B61: =IF(B60="","",(B56/B60)) | C61: =IF(C60="","",(C56/C60)) | D61: =IF(D60="","",(D56/D60)) | E61: =IF(E60="","",(E56/E60)) | F61: =IF(F60="","",(F56/F60)) | G61: =IF(G60="","",(G56/G60)) | H61: =IF(H60="","",(H56/H60)) | I61: =IF(I60="","",(I56/I60)) | ... N61: =IF(N60="","",(N56/N60)) -> #DIV/0!
A62: Room Rev | B62: =B56*B57 -> 0 | C62: =C56*C57 -> 0 | D62: =D56*D57 -> 0 | E62: =E56*E57 -> 0 | F62: =F56*F57 -> 0 | G62: =G56*G57 -> 0 | H62: =H56*H57 -> 0 | I62: =I56*I57 -> 0 | ... M62: =M56*M57 -> 0 | N62: =SUM(B62:M62) -> 0
A63: F&B Rev | N63: =SUM(B63:M63) -> 0
A64: Extra Rev | N64: =SUM(B64:M64) -> 0
A65: TOTAL Rev | B65: =SUM(B62:B64) -> 0 | C65: =SUM(C62:C64) -> 0 | D65: =SUM(D62:D64) -> 0 | E65: =SUM(E62:E64) -> 0 | F65: =SUM(F62:F64) -> 0 | G65: =SUM(G62:G64) -> 0 | H65: =SUM(H62:H64) -> 0 | I65: =SUM(I62:I64) -> 0 | ... M65: =SUM(M62:M64) -> 0 | N65: =SUM(B65:M65) -> 0
A66: Av. S. P Gst. | B66: =IF(B65="","",(B65/B58)) -> #DIV/0! | C66: =IF(C65="","",(C65/C58)) -> #DIV/0! | D66: =IF(D65="","",(D65/D58)) -> #DIV/0! | E66: =IF(E65="","",(E65/E58)) -> #DIV/0! | F66: =IF(F65="","",(F65/F58)) -> #DIV/0! | G66: =IF(G65="","",(G65/G58)) -> #DIV/0! | H66: =IF(H65="","",(H65/H58)) -> #DIV/0! | I66: =IF(I65="","",(I65/I58)) -> #DIV/0! | ... N66: =IF(N65="","",(N65/N58)) -> #DIV/0!
B68: Jan | C68: Feb | D68: Mar | E68: Apr | F68: May | G68: Jun | H68: Jul | I68: Aug | J68: Sep | K68: Oct | L68: Nov | M68: Dec | N68: Total
A69: Rm Nights | N69: =SUM(B69:M69) -> 0
A70: Av.R.R. | N70: =N75/N69 -> #DIV/0!
A71: # Of Guests | N71: =SUM(B71:M71) -> 0
A72: DBL Occ. | B72: =IF(B69=0,0,(B71/B69)) -> 0 | C72: =IF(C69=0,0,(C71/C69)) -> 0 | D72: =IF(D69=0,0,(D71/D69)) -> 0 | E72: =IF(E69=0,0,(E71/E69)) -> 0 | F72: =IF(F69=0,0,(F71/F69)) -> 0 | G72: =IF(G69=0,0,(G71/G69)) -> 0 | H72: =IF(H69=0,0,(H71/H69)) -> 0 | I72: =IF(I69=0,0,(I71/I69)) -> 0 | ... N72: =IF(N69=0,0,(N71/N69)) -> 0
A73: Arrivals | N73: =SUM(B73:M73) -> 0
A74: Length of stay | B74: =IF(B73="","",(B69/B73)) | C74: =IF(C73="","",(C69/C73)) | D74: =IF(D73="","",(D69/D73)) | E74: =IF(E73="","",(E69/E73)) | F74: =IF(F73="","",(F69/F73)) | G74: =IF(G73="","",(G69/G73)) | H74: =IF(H73="","",(H69/H73)) | I74: =IF(I73="","",(I69/I73)) | ... N74: =IF(N73="","",(N69/N73)) -> #DIV/0!
A75: Room Rev | B75: =B69*B70 -> 0 | C75: =C69*C70 -> 0 | D75: =D69*D70 -> 0 | E75: =E69*E70 -> 0 | F75: =F69*F70 -> 0 | G75: =G69*G70 -> 0 | H75: =H69*H70 -> 0 | I75: =I69*I70 -> 0 | ... M75: =M69*M70 -> 0 | N75: =SUM(B75:M75) -> 0
A76: F&B Rev | N76: =SUM(B76:M76) -> 0
A77: Extra Rev | N77: =SUM(B77:M77) -> 0
A78: TOTAL Rev | B78: =SUM(B75:B77) -> 0 | C78: =SUM(C75:C77) -> 0 | D78: =SUM(D75:D77) -> 0 | E78: =SUM(E75:E77) -> 0 | F78: =SUM(F75:F77) -> 0 | G78: =SUM(G75:G77) -> 0 | H78: =SUM(H75:H77) -> 0 | I78: =SUM(I75:I77) -> 0 | ... M78: =SUM(M75:M77) -> 0 | N78: =SUM(B78:M78) -> 0
A79: Av. S. P Gst. | B79: =IF(B78="","",(B78/B71)) -> #DIV/0! | C79: =IF(C78="","",(C78/C71)) -> #DIV/0! | D79: =IF(D78="","",(D78/D71)) -> #DIV/0! | E79: =IF(E78="","",(E78/E71)) -> #DIV/0! | F79: =IF(F78="","",(F78/F71)) -> #DIV/0! | G79: =IF(G78="","",(G78/G71)) -> #DIV/0! | H79: =IF(H78="","",(H78/H71)) -> #DIV/0! | I79: =IF(I78="","",(I78/I71)) -> #DIV/0! | ... N79: =IF(N78="","",(N78/N71)) -> #DIV/0!
B81: Jan | C81: Feb | D81: Mar | E81: Apr | F81: May | G81: Jun | H81: Jul | I81: Aug | J81: Sep | K81: Oct | L81: Nov | M81: Dec | N81: Total
A82: Rm Nights | N82: =SUM(B82:M82) -> 0
A83: Av.R.R. | N83: =N88/N82 -> #DIV/0!
A84: # Of Guests | N84: =SUM(B84:M84) -> 0
A85: DBL Occ. | B85: =IF(B82=0,0,(B84/B82)) -> 0 | C85: =IF(C82=0,0,(C84/C82)) -> 0 | D85: =IF(D82=0,0,(D84/D82)) -> 0 | E85: =IF(E82=0,0,(E84/E82)) -> 0 | F85: =IF(F82=0,0,(F84/F82)) -> 0 | G85: =IF(G82=0,0,(G84/G82)) -> 0 | H85: =IF(H82=0,0,(H84/H82)) -> 0 | I85: =IF(I82=0,0,(I84/I82)) -> 0 | ... N85: =IF(N82=0,0,(N84/N82)) -> 0
A86: Arrivals | N86: =SUM(B86:M86) -> 0
A87: Length of stay | B87: =IF(B86="","",(B82/B86)) | C87: =IF(C86="","",(C82/C86)) | D87: =IF(D86="","",(D82/D86)) | E87: =IF(E86="","",(E82/E86)) | F87: =IF(F86="","",(F82/F86)) | G87: =IF(G86="","",(G82/G86)) | H87: =IF(H86="","",(H82/H86)) | I87: =IF(I86="","",(I82/I86)) | ... N87: =IF(N86="","",(N82/N86)) -> #DIV/0!
A88: Room Rev | B88: =B82*B83 -> 0 | C88: =C82*C83 -> 0 | D88: =D82*D83 -> 0 | E88: =E82*E83 -> 0 | F88: =F82*F83 -> 0 | G88: =G82*G83 -> 0 | H88: =H82*H83 -> 0 | I88: =I82*I83 -> 0 | ... M88: =M82*M83 -> 0 | N88: =SUM(B88:M88) -> 0
A89: F&B Rev | N89: =SUM(B89:M89) -> 0
A90: Extra Rev | N90: =SUM(B90:M90) -> 0
A91: TOTAL Rev | B91: =SUM(B88:B90) -> 0 | C91: =SUM(C88:C90) -> 0 | D91: =SUM(D88:D90) -> 0 | E91: =SUM(E88:E90) -> 0 | F91: =SUM(F88:F90) -> 0 | G91: =SUM(G88:G90) -> 0 | H91: =SUM(H88:H90) -> 0 | I91: =SUM(I88:I90) -> 0 | ... M91: =SUM(M88:M90) -> 0 | N91: =SUM(B91:M91) -> 0
A92: Av. S. P Gst. | B92: =IF(B91="","",(B91/B84)) -> #DIV/0! | C92: =IF(C91="","",(C91/C84)) -> #DIV/0! | D92: =IF(D91="","",(D91/D84)) -> #DIV/0! | E92: =IF(E91="","",(E91/E84)) -> #DIV/0! | F92: =IF(F91="","",(F91/F84)) -> #DIV/0! | G92: =IF(G91="","",(G91/G84)) -> #DIV/0! | H92: =IF(H91="","",(H91/H84)) -> #DIV/0! | I92: =IF(I91="","",(I91/I84)) -> #DIV/0! | ... N92: =IF(N91="","",(N91/N84)) -> #DIV/0!
B94: Jan | C94: Feb | D94: Mar | E94: Apr | F94: May | G94: Jun | H94: Jul | I94: Aug | J94: Sep | K94: Oct | L94: Nov | M94: Dec | N94: Total
A95: Rm Nights | N95: =SUM(B95:M95) -> 0
A96: Av.R.R. | N96: =N101/N95 -> #DIV/0!
A97: # Of Guests | N97: =SUM(B97:M97) -> 0
A98: DBL Occ. | B98: =IF(B95=0,0,(B97/B95)) -> 0 | C98: =IF(C95=0,0,(C97/C95)) -> 0 | D98: =IF(D95=0,0,(D97/D95)) -> 0 | E98: =IF(E95=0,0,(E97/E95)) -> 0 | F98: =IF(F95=0,0,(F97/F95)) -> 0 | G98: =IF(G95=0,0,(G97/G95)) -> 0 | H98: =IF(H95=0,0,(H97/H95)) -> 0 | I98: =IF(I95=0,0,(I97/I95)) -> 0 | ... N98: =IF(N95=0,0,(N97/N95)) -> 0
A99: Arrivals | N99: =SUM(B99:M99) -> 0
A100: Length of stay | B100: =IF(B99="","",(B95/B99)) | C100: =IF(C99="","",(C95/C99)) | D100: =IF(D99="","",(D95/D99)) | E100: =IF(E99="","",(E95/E99)) | F100: =IF(F99="","",(F95/F99)) | G100: =IF(G99="","",(G95/G99)) | H100: =IF(H99="","",(H95/H99)) | I100: =IF(I99="","",(I95/I99)) | ... N100: =IF(N99="","",(N95/N99)) -> #DIV/0!
A101: Room Rev | B101: =B95*B96 -> 0 | C101: =C95*C96 -> 0 | D101: =D95*D96 -> 0 | E101: =E95*E96 -> 0 | F101: =F95*F96 -> 0 | G101: =G95*G96 -> 0 | H101: =H95*H96 -> 0 | I101: =I95*I96 -> 0 | ... M101: =M95*M96 -> 0 | N101: =SUM(B101:M101) -> 0
A102: F&B Rev | N102: =SUM(B102:M102) -> 0
A103: Extra Rev | N103: =SUM(B103:M103) -> 0
A104: TOTAL Rev | B104: =SUM(B101:B103) -> 0 | C104: =SUM(C101:C103) -> 0 | D104: =SUM(D101:D103) -> 0 | E104: =SUM(E101:E103) -> 0 | F104: =SUM(F101:F103) -> 0 | G104: =SUM(G101:G103) -> 0 | H104: =SUM(H101:H103) -> 0 | I104: =SUM(I101:I103) -> 0 | ... M104: =SUM(M101:M103) -> 0 | N104: =SUM(B104:M104) -> 0
A105: Av. S. P Gst. | B105: =IF(B104="","",(B104/B97)) -> #DIV/0! | C105: =IF(C104="","",(C104/C97)) -> #DIV/0! | D105: =IF(D104="","",(D104/D97)) -> #DIV/0! | E105: =IF(E104="","",(E104/E97)) -> #DIV/0! | F105: =IF(F104="","",(F104/F97)) -> #DIV/0! | G105: =IF(G104="","",(G104/G97)) -> #DIV/0! | H105: =IF(H104="","",(H104/H97)) -> #DIV/0! | I105: =IF(I104="","",(I104/I97)) -> #DIV/0! | ... N105: =IF(N104="","",(N104/N97)) -> #DIV/0!
B107: Jan | C107: Feb | D107: Mar | E107: Apr | F107: May | G107: Jun | H107: Jul | I107: Aug | J107: Sep | K107: Oct | L107: Nov | M107: Dec | N107: Total
A108: Rm Nights | N108: =SUM(B108:M108) -> 0
A109: Av.R.R. | N109: =N114/N108 -> #DIV/0!
...

Sheet July
A1: =Jan!A1 -> TOP 20 Producers
B3: Jan | C3: Feb | D3: Mar | E3: Apr | F3: May | G3: Jun | H3: Jul | I3: Aug | J3: Sep | K3: Oct | L3: Nov | M3: Dec | N3: Total
A4: Rm Nights | N4: =SUM(B4:M4) -> 0
A5: Av.R.R. | N5: =N10/N4 -> #DIV/0!
A6: # Of Guests | N6: =SUM(B6:M6) -> 0
A7: DBL Occ. | B7: =IF(B4=0,0,(B6/B4)) -> 0 | C7: =IF(C4=0,0,(C6/C4)) -> 0 | D7: =IF(D4=0,0,(D6/D4)) -> 0 | E7: =IF(E4=0,0,(E6/E4)) -> 0 | F7: =IF(F4=0,0,(F6/F4)) -> 0 | G7: =IF(G4=0,0,(G6/G4)) -> 0 | H7: =IF(H4=0,0,(H6/H4)) -> 0 | I7: =IF(I4=0,0,(I6/I4)) -> 0 | ... N7: =IF(N4=0,0,(N6/N4)) -> 0
A8: Arrivals | N8: =SUM(B8:M8) -> 0
A9: Length of stay | B9: =IF(B8="","",(B4/B8)) | C9: =IF(C8="","",(C4/C8)) | D9: =IF(D8="","",(D4/D8)) | E9: =IF(E8="","",(E4/E8)) | F9: =IF(F8="","",(F4/F8)) | G9: =IF(G8="","",(G4/G8)) | H9: =IF(H8="","",(H4/H8)) | I9: =IF(I8="","",(I4/I8)) | ... N9: =IF(N8="","",(N4/N8)) -> #DIV/0!
A10: Room Rev | B10: =B4*B5 -> 0 | C10: =C4*C5 -> 0 | D10: =D4*D5 -> 0 | E10: =E4*E5 -> 0 | F10: =F4*F5 -> 0 | G10: =G4*G5 -> 0 | H10: =H4*H5 -> 0 | I10: =I4*I5 -> 0 | ... M10: =M4*M5 -> 0 | N10: =SUM(B10:M10) -> 0
A11: F&B Rev | N11: =SUM(B11:M11) -> 0
A12: Extra Rev | N12: =SUM(B12:M12) -> 0
A13: TOTAL Rev | B13: =SUM(B10:B12) -> 0 | C13: =SUM(C10:C12) -> 0 | D13: =SUM(D10:D12) -> 0 | E13: =SUM(E10:E12) -> 0 | F13: =SUM(F10:F12) -> 0 | G13: =SUM(G10:G12) -> 0 | H13: =SUM(H10:H12) -> 0 | I13: =SUM(I10:I12) -> 0 | ... M13: =SUM(M10:M12) -> 0 | N13: =SUM(B13:M13) -> 0
A14: Av. S. P Gst. | B14: =IF(B13="","",(B13/B6)) -> #DIV/0! | C14: =IF(C13="","",(C13/C6)) -> #DIV/0! | D14: =IF(D13="","",(D13/D6)) -> #DIV/0! | E14: =IF(E13="","",(E13/E6)) -> #DIV/0! | F14: =IF(F13="","",(F13/F6)) -> #DIV/0! | G14: =IF(G13="","",(G13/G6)) -> #DIV/0! | H14: =IF(H13="","",(H13/H6)) -> #DIV/0! | I14: =IF(I13="","",(I13/I6)) -> #DIV/0! | ... N14: =IF(N13="","",(N13/N6)) -> #DIV/0!
B16: Jan | C16: Feb | D16: Mar | E16: Apr | F16: May | G16: Jun | H16: Jul | I16: Aug | J16: Sep | K16: Oct | L16: Nov | M16: Dec | N16: Total
A17: Rm Nights | N17: =SUM(B17:M17) -> 0
A18: Av.R.R. | N18: =N23/N17 -> #DIV/0!
A19: # Of Guests | N19: =SUM(B19:M19) -> 0
A20: DBL Occ. | B20: =IF(B17=0,0,(B19/B17)) -> 0 | C20: =IF(C17=0,0,(C19/C17)) -> 0 | D20: =IF(D17=0,0,(D19/D17)) -> 0 | E20: =IF(E17=0,0,(E19/E17)) -> 0 | F20: =IF(F17=0,0,(F19/F17)) -> 0 | G20: =IF(G17=0,0,(G19/G17)) -> 0 | H20: =IF(H17=0,0,(H19/H17)) -> 0 | I20: =IF(I17=0,0,(I19/I17)) -> 0 | ... N20: =IF(N17=0,0,(N19/N17)) -> 0
A21: Arrivals | N21: =SUM(B21:M21) -> 0
A22: Length of stay | B22: =IF(B21="","",(B17/B21)) | C22: =IF(C21="","",(C17/C21)) | D22: =IF(D21="","",(D17/D21)) | E22: =IF(E21="","",(E17/E21)) | F22: =IF(F21="","",(F17/F21)) | G22: =IF(G21="","",(G17/G21)) | H22: =IF(H21="","",(H17/H21)) | I22: =IF(I21="","",(I17/I21)) | ... N22: =IF(N21="","",(N17/N21)) -> #DIV/0!
A23: Room Rev | B23: =B17*B18 -> 0 | C23: =C17*C18 -> 0 | D23: =D17*D18 -> 0 | E23: =E17*E18 -> 0 | F23: =F17*F18 -> 0 | G23: =G17*G18 -> 0 | H23: =H17*H18 -> 0 | I23: =I17*I18 -> 0 | ... M23: =M17*M18 -> 0 | N23: =SUM(B23:M23) -> 0
A24: F&B Rev | N24: =SUM(B24:M24) -> 0
A25: Extra Rev | N25: =SUM(B25:M25) -> 0
A26: TOTAL Rev | B26: =SUM(B23:B25) -> 0 | C26: =SUM(C23:C25) -> 0 | D26: =SUM(D23:D25) -> 0 | E26: =SUM(E23:E25) -> 0 | F26: =SUM(F23:F25) -> 0 | G26: =SUM(G23:G25) -> 0 | H26: =SUM(H23:H25) -> 0 | I26: =SUM(I23:I25) -> 0 | ... M26: =SUM(M23:M25) -> 0 | N26: =SUM(B26:M26) -> 0
A27: Av. S. P Gst. | B27: =IF(B26="","",(B26/B19)) -> #DIV/0! | C27: =IF(C26="","",(C26/C19)) -> #DIV/0! | D27: =IF(D26="","",(D26/D19)) -> #DIV/0! | E27: =IF(E26="","",(E26/E19)) -> #DIV/0! | F27: =IF(F26="","",(F26/F19)) -> #DIV/0! | G27: =IF(G26="","",(G26/G19)) -> #DIV/0! | H27: =IF(H26="","",(H26/H19)) -> #DIV/0! | I27: =IF(I26="","",(I26/I19)) -> #DIV/0! | ... N27: =IF(N26="","",(N26/N19)) -> #DIV/0!
B29: Jan | C29: Feb | D29: Mar | E29: Apr | F29: May | G29: Jun | H29: Jul | I29: Aug | J29: Sep | K29: Oct | L29: Nov | M29: Dec | N29: Total
A30: Rm Nights | N30: =SUM(B30:M30) -> 0
A31: Av.R.R. | N31: =N36/N30 -> #DIV/0!
A32: # Of Guests | N32: =SUM(B32:M32) -> 0
A33: DBL Occ. | B33: =IF(B30=0,0,(B32/B30)) -> 0 | C33: =IF(C30=0,0,(C32/C30)) -> 0 | D33: =IF(D30=0,0,(D32/D30)) -> 0 | E33: =IF(E30=0,0,(E32/E30)) -> 0 | F33: =IF(F30=0,0,(F32/F30)) -> 0 | G33: =IF(G30=0,0,(G32/G30)) -> 0 | H33: =IF(H30=0,0,(H32/H30)) -> 0 | I33: =IF(I30=0,0,(I32/I30)) -> 0 | ... N33: =IF(N30=0,0,(N32/N30)) -> 0
A34: Arrivals | N34: =SUM(B34:M34) -> 0
A35: Length of stay | B35: =IF(B34="","",(B30/B34)) | C35: =IF(C34="","",(C30/C34)) | D35: =IF(D34="","",(D30/D34)) | E35: =IF(E34="","",(E30/E34)) | F35: =IF(F34="","",(F30/F34)) | G35: =IF(G34="","",(G30/G34)) | H35: =IF(H34="","",(H30/H34)) | I35: =IF(I34="","",(I30/I34)) | ... N35: =IF(N34="","",(N30/N34)) -> #DIV/0!
A36: Room Rev | B36: =B30*B31 -> 0 | C36: =C30*C31 -> 0 | D36: =D30*D31 -> 0 | E36: =E30*E31 -> 0 | F36: =F30*F31 -> 0 | G36: =G30*G31 -> 0 | H36: =H30*H31 -> 0 | I36: =I30*I31 -> 0 | ... M36: =M30*M31 -> 0 | N36: =SUM(B36:M36) -> 0
A37: F&B Rev | N37: =SUM(B37:M37) -> 0
A38: Extra Rev | N38: =SUM(B38:M38) -> 0
A39: TOTAL Rev | B39: =SUM(B36:B38) -> 0 | C39: =SUM(C36:C38) -> 0 | D39: =SUM(D36:D38) -> 0 | E39: =SUM(E36:E38) -> 0 | F39: =SUM(F36:F38) -> 0 | G39: =SUM(G36:G38) -> 0 | H39: =SUM(H36:H38) -> 0 | I39: =SUM(I36:I38) -> 0 | ... M39: =SUM(M36:M38) -> 0 | N39: =SUM(B39:M39) -> 0
A40: Av. S. P Gst. | B40: =IF(B39="","",(B39/B32)) -> #DIV/0! | C40: =IF(C39="","",(C39/C32)) -> #DIV/0! | D40: =IF(D39="","",(D39/D32)) -> #DIV/0! | E40: =IF(E39="","",(E39/E32)) -> #DIV/0! | F40: =IF(F39="","",(F39/F32)) -> #DIV/0! | G40: =IF(G39="","",(G39/G32)) -> #DIV/0! | H40: =IF(H39="","",(H39/H32)) -> #DIV/0! | I40: =IF(I39="","",(I39/I32)) -> #DIV/0! | ... N40: =IF(N39="","",(N39/N32)) -> #DIV/0!
B42: Jan | C42: Feb | D42: Mar | E42: Apr | F42: May | G42: Jun | H42: Jul | I42: Aug | J42: Sep | K42: Oct | L42: Nov | M42: Dec | N42: Total
A43: Rm Nights | N43: =SUM(B43:M43) -> 0
A44: Av.R.R. | N44: =N49/N43 -> #DIV/0!
A45: # Of Guests | N45: =SUM(B45:M45) -> 0
A46: DBL Occ. | B46: =IF(B43=0,0,(B45/B43)) -> 0 | C46: =IF(C43=0,0,(C45/C43)) -> 0 | D46: =IF(D43=0,0,(D45/D43)) -> 0 | E46: =IF(E43=0,0,(E45/E43)) -> 0 | F46: =IF(F43=0,0,(F45/F43)) -> 0 | G46: =IF(G43=0,0,(G45/G43)) -> 0 | H46: =IF(H43=0,0,(H45/H43)) -> 0 | I46: =IF(I43=0,0,(I45/I43)) -> 0 | ... N46: =IF(N43=0,0,(N45/N43)) -> 0
A47: Arrivals | N47: =SUM(B47:M47) -> 0
A48: Length of stay | B48: =IF(B47="","",(B43/B47)) | C48: =IF(C47="","",(C43/C47)) | D48: =IF(D47="","",(D43/D47)) | E48: =IF(E47="","",(E43/E47)) | F48: =IF(F47="","",(F43/F47)) | G48: =IF(G47="","",(G43/G47)) | H48: =IF(H47="","",(H43/H47)) | I48: =IF(I47="","",(I43/I47)) | ... N48: =IF(N47="","",(N43/N47)) -> #DIV/0!
A49: Room Rev | B49: =B43*B44 -> 0 | C49: =C43*C44 -> 0 | D49: =D43*D44 -> 0 | E49: =E43*E44 -> 0 | F49: =F43*F44 -> 0 | G49: =G43*G44 -> 0 | H49: =H43*H44 -> 0 | I49: =I43*I44 -> 0 | ... M49: =M43*M44 -> 0 | N49: =SUM(B49:M49) -> 0
A50: F&B Rev | N50: =SUM(B50:M50) -> 0
A51: Extra Rev | N51: =SUM(B51:M51) -> 0
A52: TOTAL Rev | B52: =SUM(B49:B51) -> 0 | C52: =SUM(C49:C51) -> 0 | D52: =SUM(D49:D51) -> 0 | E52: =SUM(E49:E51) -> 0 | F52: =SUM(F49:F51) -> 0 | G52: =SUM(G49:G51) -> 0 | H52: =SUM(H49:H51) -> 0 | I52: =SUM(I49:I51) -> 0 | ... M52: =SUM(M49:M51) -> 0 | N52: =SUM(B52:M52) -> 0
A53: Av. S. P Gst. | B53: =IF(B52="","",(B52/B45)) -> #DIV/0! | C53: =IF(C52="","",(C52/C45)) -> #DIV/0! | D53: =IF(D52="","",(D52/D45)) -> #DIV/0! | E53: =IF(E52="","",(E52/E45)) -> #DIV/0! | F53: =IF(F52="","",(F52/F45)) -> #DIV/0! | G53: =IF(G52="","",(G52/G45)) -> #DIV/0! | H53: =IF(H52="","",(H52/H45)) -> #DIV/0! | I53: =IF(I52="","",(I52/I45)) -> #DIV/0! | ... N53: =IF(N52="","",(N52/N45)) -> #DIV/0!
B55: Jan | C55: Feb | D55: Mar | E55: Apr | F55: May | G55: Jun | H55: Jul | I55: Aug | J55: Sep | K55: Oct | L55: Nov | M55: Dec | N55: Total
A56: Rm Nights | N56: =SUM(B56:M56) -> 0
A57: Av.R.R. | N57: =N62/N56 -> #DIV/0!
A58: # Of Guests | N58: =SUM(B58:M58) -> 0
A59: DBL Occ. | B59: =IF(B56=0,0,(B58/B56)) -> 0 | C59: =IF(C56=0,0,(C58/C56)) -> 0 | D59: =IF(D56=0,0,(D58/D56)) -> 0 | E59: =IF(E56=0,0,(E58/E56)) -> 0 | F59: =IF(F56=0,0,(F58/F56)) -> 0 | G59: =IF(G56=0,0,(G58/G56)) -> 0 | H59: =IF(H56=0,0,(H58/H56)) -> 0 | I59: =IF(I56=0,0,(I58/I56)) -> 0 | ... N59: =IF(N56=0,0,(N58/N56)) -> 0
A60: Arrivals | N60: =SUM(B60:M60) -> 0
A61: Length of stay | B61: =IF(B60="","",(B56/B60)) | C61: =IF(C60="","",(C56/C60)) | D61: =IF(D60="","",(D56/D60)) | E61: =IF(E60="","",(E56/E60)) | F61: =IF(F60="","",(F56/F60)) | G61: =IF(G60="","",(G56/G60)) | H61: =IF(H60="","",(H56/H60)) | I61: =IF(I60="","",(I56/I60)) | ... N61: =IF(N60="","",(N56/N60)) -> #DIV/0!
A62: Room Rev | B62: =B56*B57 -> 0 | C62: =C56*C57 -> 0 | D62: =D56*D57 -> 0 | E62: =E56*E57 -> 0 | F62: =F56*F57 -> 0 | G62: =G56*G57 -> 0 | H62: =H56*H57 -> 0 | I62: =I56*I57 -> 0 | ... M62: =M56*M57 -> 0 | N62: =SUM(B62:M62) -> 0
A63: F&B Rev | N63: =SUM(B63:M63) -> 0
A64: Extra Rev | N64: =SUM(B64:M64) -> 0
A65: TOTAL Rev | B65: =SUM(B62:B64) -> 0 | C65: =SUM(C62:C64) -> 0 | D65: =SUM(D62:D64) -> 0 | E65: =SUM(E62:E64) -> 0 | F65: =SUM(F62:F64) -> 0 | G65: =SUM(G62:G64) -> 0 | H65: =SUM(H62:H64) -> 0 | I65: =SUM(I62:I64) -> 0 | ... M65: =SUM(M62:M64) -> 0 | N65: =SUM(B65:M65) -> 0
A66: Av. S. P Gst. | B66: =IF(B65="","",(B65/B58)) -> #DIV/0! | C66: =IF(C65="","",(C65/C58)) -> #DIV/0! | D66: =IF(D65="","",(D65/D58)) -> #DIV/0! | E66: =IF(E65="","",(E65/E58)) -> #DIV/0! | F66: =IF(F65="","",(F65/F58)) -> #DIV/0! | G66: =IF(G65="","",(G65/G58)) -> #DIV/0! | H66: =IF(H65="","",(H65/H58)) -> #DIV/0! | I66: =IF(I65="","",(I65/I58)) -> #DIV/0! | ... N66: =IF(N65="","",(N65/N58)) -> #DIV/0!
B68: Jan | C68: Feb | D68: Mar | E68: Apr | F68: May | G68: Jun | H68: Jul | I68: Aug | J68: Sep | K68: Oct | L68: Nov | M68: Dec | N68: Total
A69: Rm Nights | N69: =SUM(B69:M69) -> 0
A70: Av.R.R. | N70: =N75/N69 -> #DIV/0!
A71: # Of Guests | N71: =SUM(B71:M71) -> 0
A72: DBL Occ. | B72: =IF(B69=0,0,(B71/B69)) -> 0 | C72: =IF(C69=0,0,(C71/C69)) -> 0 | D72: =IF(D69=0,0,(D71/D69)) -> 0 | E72: =IF(E69=0,0,(E71/E69)) -> 0 | F72: =IF(F69=0,0,(F71/F69)) -> 0 | G72: =IF(G69=0,0,(G71/G69)) -> 0 | H72: =IF(H69=0,0,(H71/H69)) -> 0 | I72: =IF(I69=0,0,(I71/I69)) -> 0 | ... N72: =IF(N69=0,0,(N71/N69)) -> 0
A73: Arrivals | N73: =SUM(B73:M73) -> 0
A74: Length of stay | B74: =IF(B73="","",(B69/B73)) | C74: =IF(C73="","",(C69/C73)) | D74: =IF(D73="","",(D69/D73)) | E74: =IF(E73="","",(E69/E73)) | F74: =IF(F73="","",(F69/F73)) | G74: =IF(G73="","",(G69/G73)) | H74: =IF(H73="","",(H69/H73)) | I74: =IF(I73="","",(I69/I73)) | ... N74: =IF(N73="","",(N69/N73)) -> #DIV/0!
A75: Room Rev | B75: =B69*B70 -> 0 | C75: =C69*C70 -> 0 | D75: =D69*D70 -> 0 | E75: =E69*E70 -> 0 | F75: =F69*F70 -> 0 | G75: =G69*G70 -> 0 | H75: =H69*H70 -> 0 | I75: =I69*I70 -> 0 | ... M75: =M69*M70 -> 0 | N75: =SUM(B75:M75) -> 0
A76: F&B Rev | N76: =SUM(B76:M76) -> 0
A77: Extra Rev | N77: =SUM(B77:M77) -> 0
A78: TOTAL Rev | B78: =SUM(B75:B77) -> 0 | C78: =SUM(C75:C77) -> 0 | D78: =SUM(D75:D77) -> 0 | E78: =SUM(E75:E77) -> 0 | F78: =SUM(F75:F77) -> 0 | G78: =SUM(G75:G77) -> 0 | H78: =SUM(H75:H77) -> 0 | I78: =SUM(I75:I77) -> 0 | ... M78: =SUM(M75:M77) -> 0 | N78: =SUM(B78:M78) -> 0
A79: Av. S. P Gst. | B79: =IF(B78="","",(B78/B71)) -> #DIV/0! | C79: =IF(C78="","",(C78/C71)) -> #DIV/0! | D79: =IF(D78="","",(D78/D71)) -> #DIV/0! | E79: =IF(E78="","",(E78/E71)) -> #DIV/0! | F79: =IF(F78="","",(F78/F71)) -> #DIV/0! | G79: =IF(G78="","",(G78/G71)) -> #DIV/0! | H79: =IF(H78="","",(H78/H71)) -> #DIV/0! | I79: =IF(I78="","",(I78/I71)) -> #DIV/0! | ... N79: =IF(N78="","",(N78/N71)) -> #DIV/0!
B81: Jan | C81: Feb | D81: Mar | E81: Apr | F81: May | G81: Jun | H81: Jul | I81: Aug | J81: Sep | K81: Oct | L81: Nov | M81: Dec | N81: Total
A82: Rm Nights | N82: =SUM(B82:M82) -> 0
A83: Av.R.R. | N83: =N88/N82 -> #DIV/0!
A84: # Of Guests | N84: =SUM(B84:M84) -> 0
A85: DBL Occ. | B85: =IF(B82=0,0,(B84/B82)) -> 0 | C85: =IF(C82=0,0,(C84/C82)) -> 0 | D85: =IF(D82=0,0,(D84/D82)) -> 0 | E85: =IF(E82=0,0,(E84/E82)) -> 0 | F85: =IF(F82=0,0,(F84/F82)) -> 0 | G85: =IF(G82=0,0,(G84/G82)) -> 0 | H85: =IF(H82=0,0,(H84/H82)) -> 0 | I85: =IF(I82=0,0,(I84/I82)) -> 0 | ... N85: =IF(N82=0,0,(N84/N82)) -> 0
A86: Arrivals | N86: =SUM(B86:M86) -> 0
A87: Length of stay | B87: =IF(B86="","",(B82/B86)) | C87: =IF(C86="","",(C82/C86)) | D87: =IF(D86="","",(D82/D86)) | E87: =IF(E86="","",(E82/E86)) | F87: =IF(F86="","",(F82/F86)) | G87: =IF(G86="","",(G82/G86)) | H87: =IF(H86="","",(H82/H86)) | I87: =IF(I86="","",(I82/I86)) | ... N87: =IF(N86="","",(N82/N86)) -> #DIV/0!
A88: Room Rev | B88: =B82*B83 -> 0 | C88: =C82*C83 -> 0 | D88: =D82*D83 -> 0 | E88: =E82*E83 -> 0 | F88: =F82*F83 -> 0 | G88: =G82*G83 -> 0 | H88: =H82*H83 -> 0 | I88: =I82*I83 -> 0 | ... M88: =M82*M83 -> 0 | N88: =SUM(B88:M88) -> 0
A89: F&B Rev | N89: =SUM(B89:M89) -> 0
A90: Extra Rev | N90: =SUM(B90:M90) -> 0
A91: TOTAL Rev | B91: =SUM(B88:B90) -> 0 | C91: =SUM(C88:C90) -> 0 | D91: =SUM(D88:D90) -> 0 | E91: =SUM(E88:E90) -> 0 | F91: =SUM(F88:F90) -> 0 | G91: =SUM(G88:G90) -> 0 | H91: =SUM(H88:H90) -> 0 | I91: =SUM(I88:I90) -> 0 | ... M91: =SUM(M88:M90) -> 0 | N91: =SUM(B91:M91) -> 0
A92: Av. S. P Gst. | B92: =IF(B91="","",(B91/B84)) -> #DIV/0! | C92: =IF(C91="","",(C91/C84)) -> #DIV/0! | D92: =IF(D91="","",(D91/D84)) -> #DIV/0! | E92: =IF(E91="","",(E91/E84)) -> #DIV/0! | F92: =IF(F91="","",(F91/F84)) -> #DIV/0! | G92: =IF(G91="","",(G91/G84)) -> #DIV/0! | H92: =IF(H91="","",(H91/H84)) -> #DIV/0! | I92: =IF(I91="","",(I91/I84)) -> #DIV/0! | ... N92: =IF(N91="","",(N91/N84)) -> #DIV/0!
B94: Jan | C94: Feb | D94: Mar | E94: Apr | F94: May | G94: Jun | H94: Jul | I94: Aug | J94: Sep | K94: Oct | L94: Nov | M94: Dec | N94: Total
A95: Rm Nights | N95: =SUM(B95:M95) -> 0
A96: Av.R.R. | N96: =N101/N95 -> #DIV/0!
A97: # Of Guests | N97: =SUM(B97:M97) -> 0
A98: DBL Occ. | B98: =IF(B95=0,0,(B97/B95)) -> 0 | C98: =IF(C95=0,0,(C97/C95)) -> 0 | D98: =IF(D95=0,0,(D97/D95)) -> 0 | E98: =IF(E95=0,0,(E97/E95)) -> 0 | F98: =IF(F95=0,0,(F97/F95)) -> 0 | G98: =IF(G95=0,0,(G97/G95)) -> 0 | H98: =IF(H95=0,0,(H97/H95)) -> 0 | I98: =IF(I95=0,0,(I97/I95)) -> 0 | ... N98: =IF(N95=0,0,(N97/N95)) -> 0
A99: Arrivals | N99: =SUM(B99:M99) -> 0
A100: Length of stay | B100: =IF(B99="","",(B95/B99)) | C100: =IF(C99="","",(C95/C99)) | D100: =IF(D99="","",(D95/D99)) | E100: =IF(E99="","",(E95/E99)) | F100: =IF(F99="","",(F95/F99)) | G100: =IF(G99="","",(G95/G99)) | H100: =IF(H99="","",(H95/H99)) | I100: =IF(I99="","",(I95/I99)) | ... N100: =IF(N99="","",(N95/N99)) -> #DIV/0!
A101: Room Rev | B101: =B95*B96 -> 0 | C101: =C95*C96 -> 0 | D101: =D95*D96 -> 0 | E101: =E95*E96 -> 0 | F101: =F95*F96 -> 0 | G101: =G95*G96 -> 0 | H101: =H95*H96 -> 0 | I101: =I95*I96 -> 0 | ... M101: =M95*M96 -> 0 | N101: =SUM(B101:M101) -> 0
A102: F&B Rev | N102: =SUM(B102:M102) -> 0
A103: Extra Rev | N103: =SUM(B103:M103) -> 0
A104: TOTAL Rev | B104: =SUM(B101:B103) -> 0 | C104: =SUM(C101:C103) -> 0 | D104: =SUM(D101:D103) -> 0 | E104: =SUM(E101:E103) -> 0 | F104: =SUM(F101:F103) -> 0 | G104: =SUM(G101:G103) -> 0 | H104: =SUM(H101:H103) -> 0 | I104: =SUM(I101:I103) -> 0 | ... M104: =SUM(M101:M103) -> 0 | N104: =SUM(B104:M104) -> 0
A105: Av. S. P Gst. | B105: =IF(B104="","",(B104/B97)) -> #DIV/0! | C105: =IF(C104="","",(C104/C97)) -> #DIV/0! | D105: =IF(D104="","",(D104/D97)) -> #DIV/0! | E105: =IF(E104="","",(E104/E97)) -> #DIV/0! | F105: =IF(F104="","",(F104/F97)) -> #DIV/0! | G105: =IF(G104="","",(G104/G97)) -> #DIV/0! | H105: =IF(H104="","",(H104/H97)) -> #DIV/0! | I105: =IF(I104="","",(I104/I97)) -> #DIV/0! | ... N105: =IF(N104="","",(N104/N97)) -> #DIV/0!
B107: Jan | C107: Feb | D107: Mar | E107: Apr | F107: May | G107: Jun | H107: Jul | I107: Aug | J107: Sep | K107: Oct | L107: Nov | M107: Dec | N107: Total
A108: Rm Nights | N108: =SUM(B108:M108) -> 0
A109: Av.R.R. | N109: =N114/N108 -> #DIV/0!
...

Sheet Aug
A1: =Jan!A1 -> TOP 20 Producers
A3: 2008 | B3: Jan | C3: Feb | D3: Mar | E3: Apr | F3: May | G3: Jun | H3: Jul | I3: Aug | J3: Sep | K3: Oct | L3: Nov | M3: Dec | N3: Total
A4: Rm Nights | N4: =SUM(B4:M4) -> 0
A5: Av.R.R. | N5: =N10/N4 -> #DIV/0!
A6: # Of Guests | N6: =SUM(B6:M6) -> 0
A7: DBL Occ. | B7: =IF(B4=0,0,(B6/B4)) -> 0 | C7: =IF(C4=0,0,(C6/C4)) -> 0 | D7: =IF(D4=0,0,(D6/D4)) -> 0 | E7: =IF(E4=0,0,(E6/E4)) -> 0 | F7: =IF(F4=0,0,(F6/F4)) -> 0 | G7: =IF(G4=0,0,(G6/G4)) -> 0 | H7: =IF(H4=0,0,(H6/H4)) -> 0 | I7: =IF(I4=0,0,(I6/I4)) -> 0 | ... N7: =IF(N4=0,0,(N6/N4)) -> 0
A8: Arrivals | N8: =SUM(B8:M8) -> 0
A9: Length of stay | B9: =IF(B8="","",(B4/B8)) | C9: =IF(C8="","",(C4/C8)) | D9: =IF(D8="","",(D4/D8)) | E9: =IF(E8="","",(E4/E8)) | F9: =IF(F8="","",(F4/F8)) | G9: =IF(G8="","",(G4/G8)) | H9: =IF(H8="","",(H4/H8)) | I9: =IF(I8="","",(I4/I8)) | ... N9: =IF(N8="","",(N4/N8)) -> #DIV/0!
A10: Room Rev | B10: =B4*B5 -> 0 | C10: =C4*C5 -> 0 | D10: =D4*D5 -> 0 | E10: =E4*E5 -> 0 | F10: =F4*F5 -> 0 | G10: =G4*G5 -> 0 | H10: =H4*H5 -> 0 | I10: =I4*I5 -> 0 | ... M10: =M4*M5 -> 0 | N10: =SUM(B10:M10) -> 0
A11: F&B Rev | N11: =SUM(B11:M11) -> 0
A12: Extra Rev | N12: =SUM(B12:M12) -> 0
A13: TOTAL Rev | B13: =SUM(B10:B12) -> 0 | C13: =SUM(C10:C12) -> 0 | D13: =SUM(D10:D12) -> 0 | E13: =SUM(E10:E12) -> 0 | F13: =SUM(F10:F12) -> 0 | G13: =SUM(G10:G12) -> 0 | H13: =SUM(H10:H12) -> 0 | I13: =SUM(I10:I12) -> 0 | ... M13: =SUM(M10:M12) -> 0 | N13: =SUM(B13:M13) -> 0
A14: Av. S. P Gst. | B14: =IF(B13="","",(B13/B6)) -> #DIV/0! | C14: =IF(C13="","",(C13/C6)) -> #DIV/0! | D14: =IF(D13="","",(D13/D6)) -> #DIV/0! | E14: =IF(E13="","",(E13/E6)) -> #DIV/0! | F14: =IF(F13="","",(F13/F6)) -> #DIV/0! | G14: =IF(G13="","",(G13/G6)) -> #DIV/0! | H14: =IF(H13="","",(H13/H6)) -> #DIV/0! | I14: =IF(I13="","",(I13/I6)) -> #DIV/0! | ... N14: =IF(N13="","",(N13/N6)) -> #DIV/0!
A16: 2008 | B16: Jan | C16: Feb | D16: Mar | E16: Apr | F16: May | G16: Jun | H16: Jul | I16: Aug | J16: Sep | K16: Oct | L16: Nov | M16: Dec | N16: Total
A17: Rm Nights | N17: =SUM(B17:M17) -> 0
A18: Av.R.R. | N18: =N23/N17 -> #DIV/0!
A19: # Of Guests | N19: =SUM(B19:M19) -> 0
A20: DBL Occ. | B20: =IF(B17=0,0,(B19/B17)) -> 0 | C20: =IF(C17=0,0,(C19/C17)) -> 0 | D20: =IF(D17=0,0,(D19/D17)) -> 0 | E20: =IF(E17=0,0,(E19/E17)) -> 0 | F20: =IF(F17=0,0,(F19/F17)) -> 0 | G20: =IF(G17=0,0,(G19/G17)) -> 0 | H20: =IF(H17=0,0,(H19/H17)) -> 0 | I20: =IF(I17=0,0,(I19/I17)) -> 0 | ... N20: =IF(N17=0,0,(N19/N17)) -> 0
A21: Arrivals | N21: =SUM(B21:M21) -> 0
A22: Length of stay | B22: =IF(B21="","",(B17/B21)) | C22: =IF(C21="","",(C17/C21)) | D22: =IF(D21="","",(D17/D21)) | E22: =IF(E21="","",(E17/E21)) | F22: =IF(F21="","",(F17/F21)) | G22: =IF(G21="","",(G17/G21)) | H22: =IF(H21="","",(H17/H21)) | I22: =IF(I21="","",(I17/I21)) | ... N22: =IF(N21="","",(N17/N21)) -> #DIV/0!
A23: Room Rev | B23: =B17*B18 -> 0 | C23: =C17*C18 -> 0 | D23: =D17*D18 -> 0 | E23: =E17*E18 -> 0 | F23: =F17*F18 -> 0 | G23: =G17*G18 -> 0 | H23: =H17*H18 -> 0 | I23: =I17*I18 -> 0 | ... M23: =M17*M18 -> 0 | N23: =SUM(B23:M23) -> 0
A24: F&B Rev | N24: =SUM(B24:M24) -> 0
A25: Extra Rev | N25: =SUM(B25:M25) -> 0
A26: TOTAL Rev | B26: =SUM(B23:B25) -> 0 | C26: =SUM(C23:C25) -> 0 | D26: =SUM(D23:D25) -> 0 | E26: =SUM(E23:E25) -> 0 | F26: =SUM(F23:F25) -> 0 | G26: =SUM(G23:G25) -> 0 | H26: =SUM(H23:H25) -> 0 | I26: =SUM(I23:I25) -> 0 | ... M26: =SUM(M23:M25) -> 0 | N26: =SUM(B26:M26) -> 0
A27: Av. S. P Gst. | B27: =IF(B26="","",(B26/B19)) -> #DIV/0! | C27: =IF(C26="","",(C26/C19)) -> #DIV/0! | D27: =IF(D26="","",(D26/D19)) -> #DIV/0! | E27: =IF(E26="","",(E26/E19)) -> #DIV/0! | F27: =IF(F26="","",(F26/F19)) -> #DIV/0! | G27: =IF(G26="","",(G26/G19)) -> #DIV/0! | H27: =IF(H26="","",(H26/H19)) -> #DIV/0! | I27: =IF(I26="","",(I26/I19)) -> #DIV/0! | ... N27: =IF(N26="","",(N26/N19)) -> #DIV/0!
A29: 2008 | B29: Jan | C29: Feb | D29: Mar | E29: Apr | F29: May | G29: Jun | H29: Jul | I29: Aug | J29: Sep | K29: Oct | L29: Nov | M29: Dec | N29: Total
A30: Rm Nights | N30: =SUM(B30:M30) -> 0
A31: Av.R.R. | N31: =N36/N30 -> #DIV/0!
A32: # Of Guests | N32: =SUM(B32:M32) -> 0
A33: DBL Occ. | B33: =IF(B30=0,0,(B32/B30)) -> 0 | C33: =IF(C30=0,0,(C32/C30)) -> 0 | D33: =IF(D30=0,0,(D32/D30)) -> 0 | E33: =IF(E30=0,0,(E32/E30)) -> 0 | F33: =IF(F30=0,0,(F32/F30)) -> 0 | G33: =IF(G30=0,0,(G32/G30)) -> 0 | H33: =IF(H30=0,0,(H32/H30)) -> 0 | I33: =IF(I30=0,0,(I32/I30)) -> 0 | ... N33: =IF(N30=0,0,(N32/N30)) -> 0
A34: Arrivals | N34: =SUM(B34:M34) -> 0
A35: Length of stay | B35: =IF(B34="","",(B30/B34)) | C35: =IF(C34="","",(C30/C34)) | D35: =IF(D34="","",(D30/D34)) | E35: =IF(E34="","",(E30/E34)) | F35: =IF(F34="","",(F30/F34)) | G35: =IF(G34="","",(G30/G34)) | H35: =IF(H34="","",(H30/H34)) | I35: =IF(I34="","",(I30/I34)) | ... N35: =IF(N34="","",(N30/N34)) -> #DIV/0!
A36: Room Rev | B36: =B30*B31 -> 0 | C36: =C30*C31 -> 0 | D36: =D30*D31 -> 0 | E36: =E30*E31 -> 0 | F36: =F30*F31 -> 0 | G36: =G30*G31 -> 0 | H36: =H30*H31 -> 0 | I36: =I30*I31 -> 0 | ... M36: =M30*M31 -> 0 | N36: =SUM(B36:M36) -> 0
A37: F&B Rev | N37: =SUM(B37:M37) -> 0
A38: Extra Rev | N38: =SUM(B38:M38) -> 0
A39: TOTAL Rev | B39: =SUM(B36:B38) -> 0 | C39: =SUM(C36:C38) -> 0 | D39: =SUM(D36:D38) -> 0 | E39: =SUM(E36:E38) -> 0 | F39: =SUM(F36:F38) -> 0 | G39: =SUM(G36:G38) -> 0 | H39: =SUM(H36:H38) -> 0 | I39: =SUM(I36:I38) -> 0 | ... M39: =SUM(M36:M38) -> 0 | N39: =SUM(B39:M39) -> 0
A40: Av. S. P Gst. | B40: =IF(B39="","",(B39/B32)) -> #DIV/0! | C40: =IF(C39="","",(C39/C32)) -> #DIV/0! | D40: =IF(D39="","",(D39/D32)) -> #DIV/0! | E40: =IF(E39="","",(E39/E32)) -> #DIV/0! | F40: =IF(F39="","",(F39/F32)) -> #DIV/0! | G40: =IF(G39="","",(G39/G32)) -> #DIV/0! | H40: =IF(H39="","",(H39/H32)) -> #DIV/0! | I40: =IF(I39="","",(I39/I32)) -> #DIV/0! | ... N40: =IF(N39="","",(N39/N32)) -> #DIV/0!
A42: 2008 | B42: Jan | C42: Feb | D42: Mar | E42: Apr | F42: May | G42: Jun | H42: Jul | I42: Aug | J42: Sep | K42: Oct | L42: Nov | M42: Dec | N42: Total
A43: Rm Nights | N43: =SUM(B43:M43) -> 0
A44: Av.R.R. | N44: =N49/N43 -> #DIV/0!
A45: # Of Guests | N45: =SUM(B45:M45) -> 0
A46: DBL Occ. | B46: =IF(B43=0,0,(B45/B43)) -> 0 | C46: =IF(C43=0,0,(C45/C43)) -> 0 | D46: =IF(D43=0,0,(D45/D43)) -> 0 | E46: =IF(E43=0,0,(E45/E43)) -> 0 | F46: =IF(F43=0,0,(F45/F43)) -> 0 | G46: =IF(G43=0,0,(G45/G43)) -> 0 | H46: =IF(H43=0,0,(H45/H43)) -> 0 | I46: =IF(I43=0,0,(I45/I43)) -> 0 | ... N46: =IF(N43=0,0,(N45/N43)) -> 0
A47: Arrivals | N47: =SUM(B47:M47) -> 0
A48: Length of stay | B48: =IF(B47="","",(B43/B47)) | C48: =IF(C47="","",(C43/C47)) | D48: =IF(D47="","",(D43/D47)) | E48: =IF(E47="","",(E43/E47)) | F48: =IF(F47="","",(F43/F47)) | G48: =IF(G47="","",(G43/G47)) | H48: =IF(H47="","",(H43/H47)) | I48: =IF(I47="","",(I43/I47)) | ... N48: =IF(N47="","",(N43/N47)) -> #DIV/0!
A49: Room Rev | B49: =B43*B44 -> 0 | C49: =C43*C44 -> 0 | D49: =D43*D44 -> 0 | E49: =E43*E44 -> 0 | F49: =F43*F44 -> 0 | G49: =G43*G44 -> 0 | H49: =H43*H44 -> 0 | I49: =I43*I44 -> 0 | ... M49: =M43*M44 -> 0 | N49: =SUM(B49:M49) -> 0
A50: F&B Rev | N50: =SUM(B50:M50) -> 0
A51: Extra Rev | N51: =SUM(B51:M51) -> 0
A52: TOTAL Rev | B52: =SUM(B49:B51) -> 0 | C52: =SUM(C49:C51) -> 0 | D52: =SUM(D49:D51) -> 0 | E52: =SUM(E49:E51) -> 0 | F52: =SUM(F49:F51) -> 0 | G52: =SUM(G49:G51) -> 0 | H52: =SUM(H49:H51) -> 0 | I52: =SUM(I49:I51) -> 0 | ... M52: =SUM(M49:M51) -> 0 | N52: =SUM(B52:M52) -> 0
A53: Av. S. P Gst. | B53: =IF(B52="","",(B52/B45)) -> #DIV/0! | C53: =IF(C52="","",(C52/C45)) -> #DIV/0! | D53: =IF(D52="","",(D52/D45)) -> #DIV/0! | E53: =IF(E52="","",(E52/E45)) -> #DIV/0! | F53: =IF(F52="","",(F52/F45)) -> #DIV/0! | G53: =IF(G52="","",(G52/G45)) -> #DIV/0! | H53: =IF(H52="","",(H52/H45)) -> #DIV/0! | I53: =IF(I52="","",(I52/I45)) -> #DIV/0! | ... N53: =IF(N52="","",(N52/N45)) -> #DIV/0!
A55: 2008 | B55: Jan | C55: Feb | D55: Mar | E55: Apr | F55: May | G55: Jun | H55: Jul | I55: Aug | J55: Sep | K55: Oct | L55: Nov | M55: Dec | N55: Total
A56: Rm Nights | N56: =SUM(B56:M56) -> 0
A57: Av.R.R. | N57: =N62/N56 -> #DIV/0!
A58: # Of Guests | N58: =SUM(B58:M58) -> 0
A59: DBL Occ. | B59: =IF(B56=0,0,(B58/B56)) -> 0 | C59: =IF(C56=0,0,(C58/C56)) -> 0 | D59: =IF(D56=0,0,(D58/D56)) -> 0 | E59: =IF(E56=0,0,(E58/E56)) -> 0 | F59: =IF(F56=0,0,(F58/F56)) -> 0 | G59: =IF(G56=0,0,(G58/G56)) -> 0 | H59: =IF(H56=0,0,(H58/H56)) -> 0 | I59: =IF(I56=0,0,(I58/I56)) -> 0 | ... N59: =IF(N56=0,0,(N58/N56)) -> 0
A60: Arrivals | N60: =SUM(B60:M60) -> 0
A61: Length of stay | B61: =IF(B60="","",(B56/B60)) | C61: =IF(C60="","",(C56/C60)) | D61: =IF(D60="","",(D56/D60)) | E61: =IF(E60="","",(E56/E60)) | F61: =IF(F60="","",(F56/F60)) | G61: =IF(G60="","",(G56/G60)) | H61: =IF(H60="","",(H56/H60)) | I61: =IF(I60="","",(I56/I60)) | ... N61: =IF(N60="","",(N56/N60)) -> #DIV/0!
A62: Room Rev | B62: =B56*B57 -> 0 | C62: =C56*C57 -> 0 | D62: =D56*D57 -> 0 | E62: =E56*E57 -> 0 | F62: =F56*F57 -> 0 | G62: =G56*G57 -> 0 | H62: =H56*H57 -> 0 | I62: =I56*I57 -> 0 | ... M62: =M56*M57 -> 0 | N62: =SUM(B62:M62) -> 0
A63: F&B Rev | N63: =SUM(B63:M63) -> 0
A64: Extra Rev | N64: =SUM(B64:M64) -> 0
A65: TOTAL Rev | B65: =SUM(B62:B64) -> 0 | C65: =SUM(C62:C64) -> 0 | D65: =SUM(D62:D64) -> 0 | E65: =SUM(E62:E64) -> 0 | F65: =SUM(F62:F64) -> 0 | G65: =SUM(G62:G64) -> 0 | H65: =SUM(H62:H64) -> 0 | I65: =SUM(I62:I64) -> 0 | ... M65: =SUM(M62:M64) -> 0 | N65: =SUM(B65:M65) -> 0
A66: Av. S. P Gst. | B66: =IF(B65="","",(B65/B58)) -> #DIV/0! | C66: =IF(C65="","",(C65/C58)) -> #DIV/0! | D66: =IF(D65="","",(D65/D58)) -> #DIV/0! | E66: =IF(E65="","",(E65/E58)) -> #DIV/0! | F66: =IF(F65="","",(F65/F58)) -> #DIV/0! | G66: =IF(G65="","",(G65/G58)) -> #DIV/0! | H66: =IF(H65="","",(H65/H58)) -> #DIV/0! | I66: =IF(I65="","",(I65/I58)) -> #DIV/0! | ... N66: =IF(N65="","",(N65/N58)) -> #DIV/0!
A68: 2008 | B68: Jan | C68: Feb | D68: Mar | E68: Apr | F68: May | G68: Jun | H68: Jul | I68: Aug | J68: Sep | K68: Oct | L68: Nov | M68: Dec | N68: Total
A69: Rm Nights | N69: =SUM(B69:M69) -> 0
A70: Av.R.R. | N70: =N75/N69 -> #DIV/0!
A71: # Of Guests | N71: =SUM(B71:M71) -> 0
A72: DBL Occ. | B72: =IF(B69=0,0,(B71/B69)) -> 0 | C72: =IF(C69=0,0,(C71/C69)) -> 0 | D72: =IF(D69=0,0,(D71/D69)) -> 0 | E72: =IF(E69=0,0,(E71/E69)) -> 0 | F72: =IF(F69=0,0,(F71/F69)) -> 0 | G72: =IF(G69=0,0,(G71/G69)) -> 0 | H72: =IF(H69=0,0,(H71/H69)) -> 0 | I72: =IF(I69=0,0,(I71/I69)) -> 0 | ... N72: =IF(N69=0,0,(N71/N69)) -> 0
A73: Arrivals | N73: =SUM(B73:M73) -> 0
A74: Length of stay | B74: =IF(B73="","",(B69/B73)) | C74: =IF(C73="","",(C69/C73)) | D74: =IF(D73="","",(D69/D73)) | E74: =IF(E73="","",(E69/E73)) | F74: =IF(F73="","",(F69/F73)) | G74: =IF(G73="","",(G69/G73)) | H74: =IF(H73="","",(H69/H73)) | I74: =IF(I73="","",(I69/I73)) | ... N74: =IF(N73="","",(N69/N73)) -> #DIV/0!
A75: Room Rev | B75: =B69*B70 -> 0 | C75: =C69*C70 -> 0 | D75: =D69*D70 -> 0 | E75: =E69*E70 -> 0 | F75: =F69*F70 -> 0 | G75: =G69*G70 -> 0 | H75: =H69*H70 -> 0 | I75: =I69*I70 -> 0 | ... M75: =M69*M70 -> 0 | N75: =SUM(B75:M75) -> 0
A76: F&B Rev | N76: =SUM(B76:M76) -> 0
A77: Extra Rev | N77: =SUM(B77:M77) -> 0
A78: TOTAL Rev | B78: =SUM(B75:B77) -> 0 | C78: =SUM(C75:C77) -> 0 | D78: =SUM(D75:D77) -> 0 | E78: =SUM(E75:E77) -> 0 | F78: =SUM(F75:F77) -> 0 | G78: =SUM(G75:G77) -> 0 | H78: =SUM(H75:H77) -> 0 | I78: =SUM(I75:I77) -> 0 | ... M78: =SUM(M75:M77) -> 0 | N78: =SUM(B78:M78) -> 0
A79: Av. S. P Gst. | B79: =IF(B78="","",(B78/B71)) -> #DIV/0! | C79: =IF(C78="","",(C78/C71)) -> #DIV/0! | D79: =IF(D78="","",(D78/D71)) -> #DIV/0! | E79: =IF(E78="","",(E78/E71)) -> #DIV/0! | F79: =IF(F78="","",(F78/F71)) -> #DIV/0! | G79: =IF(G78="","",(G78/G71)) -> #DIV/0! | H79: =IF(H78="","",(H78/H71)) -> #DIV/0! | I79: =IF(I78="","",(I78/I71)) -> #DIV/0! | ... N79: =IF(N78="","",(N78/N71)) -> #DIV/0!
A81: 2008 | B81: Jan | C81: Feb | D81: Mar | E81: Apr | F81: May | G81: Jun | H81: Jul | I81: Aug | J81: Sep | K81: Oct | L81: Nov | M81: Dec | N81: Total
A82: Rm Nights | N82: =SUM(B82:M82) -> 0
A83: Av.R.R. | N83: =N88/N82 -> #DIV/0!
A84: # Of Guests | N84: =SUM(B84:M84) -> 0
A85: DBL Occ. | B85: =IF(B82=0,0,(B84/B82)) -> 0 | C85: =IF(C82=0,0,(C84/C82)) -> 0 | D85: =IF(D82=0,0,(D84/D82)) -> 0 | E85: =IF(E82=0,0,(E84/E82)) -> 0 | F85: =IF(F82=0,0,(F84/F82)) -> 0 | G85: =IF(G82=0,0,(G84/G82)) -> 0 | H85: =IF(H82=0,0,(H84/H82)) -> 0 | I85: =IF(I82=0,0,(I84/I82)) -> 0 | ... N85: =IF(N82=0,0,(N84/N82)) -> 0
A86: Arrivals | N86: =SUM(B86:M86) -> 0
A87: Length of stay | B87: =IF(B86="","",(B82/B86)) | C87: =IF(C86="","",(C82/C86)) | D87: =IF(D86="","",(D82/D86)) | E87: =IF(E86="","",(E82/E86)) | F87: =IF(F86="","",(F82/F86)) | G87: =IF(G86="","",(G82/G86)) | H87: =IF(H86="","",(H82/H86)) | I87: =IF(I86="","",(I82/I86)) | ... N87: =IF(N86="","",(N82/N86)) -> #DIV/0!
A88: Room Rev | B88: =B82*B83 -> 0 | C88: =C82*C83 -> 0 | D88: =D82*D83 -> 0 | E88: =E82*E83 -> 0 | F88: =F82*F83 -> 0 | G88: =G82*G83 -> 0 | H88: =H82*H83 -> 0 | I88: =I82*I83 -> 0 | ... M88: =M82*M83 -> 0 | N88: =SUM(B88:M88) -> 0
A89: F&B Rev | N89: =SUM(B89:M89) -> 0
A90: Extra Rev | N90: =SUM(B90:M90) -> 0
A91: TOTAL Rev | B91: =SUM(B88:B90) -> 0 | C91: =SUM(C88:C90) -> 0 | D91: =SUM(D88:D90) -> 0 | E91: =SUM(E88:E90) -> 0 | F91: =SUM(F88:F90) -> 0 | G91: =SUM(G88:G90) -> 0 | H91: =SUM(H88:H90) -> 0 | I91: =SUM(I88:I90) -> 0 | ... M91: =SUM(M88:M90) -> 0 | N91: =SUM(B91:M91) -> 0
A92: Av. S. P Gst. | B92: =IF(B91="","",(B91/B84)) -> #DIV/0! | C92: =IF(C91="","",(C91/C84)) -> #DIV/0! | D92: =IF(D91="","",(D91/D84)) -> #DIV/0! | E92: =IF(E91="","",(E91/E84)) -> #DIV/0! | F92: =IF(F91="","",(F91/F84)) -> #DIV/0! | G92: =IF(G91="","",(G91/G84)) -> #DIV/0! | H92: =IF(H91="","",(H91/H84)) -> #DIV/0! | I92: =IF(I91="","",(I91/I84)) -> #DIV/0! | ... N92: =IF(N91="","",(N91/N84)) -> #DIV/0!
A94: 2008 | B94: Jan | C94: Feb | D94: Mar | E94: Apr | F94: May | G94: Jun | H94: Jul | I94: Aug | J94: Sep | K94: Oct | L94: Nov | M94: Dec | N94: Total
A95: Rm Nights | N95: =SUM(B95:M95) -> 0
A96: Av.R.R. | N96: =N101/N95 -> #DIV/0!
A97: # Of Guests | N97: =SUM(B97:M97) -> 0
A98: DBL Occ. | B98: =IF(B95=0,0,(B97/B95)) -> 0 | C98: =IF(C95=0,0,(C97/C95)) -> 0 | D98: =IF(D95=0,0,(D97/D95)) -> 0 | E98: =IF(E95=0,0,(E97/E95)) -> 0 | F98: =IF(F95=0,0,(F97/F95)) -> 0 | G98: =IF(G95=0,0,(G97/G95)) -> 0 | H98: =IF(H95=0,0,(H97/H95)) -> 0 | I98: =IF(I95=0,0,(I97/I95)) -> 0 | ... N98: =IF(N95=0,0,(N97/N95)) -> 0
A99: Arrivals | N99: =SUM(B99:M99) -> 0
A100: Length of stay | B100: =IF(B99="","",(B95/B99)) | C100: =IF(C99="","",(C95/C99)) | D100: =IF(D99="","",(D95/D99)) | E100: =IF(E99="","",(E95/E99)) | F100: =IF(F99="","",(F95/F99)) | G100: =IF(G99="","",(G95/G99)) | H100: =IF(H99="","",(H95/H99)) | I100: =IF(I99="","",(I95/I99)) | ... N100: =IF(N99="","",(N95/N99)) -> #DIV/0!
A101: Room Rev | B101: =B95*B96 -> 0 | C101: =C95*C96 -> 0 | D101: =D95*D96 -> 0 | E101: =E95*E96 -> 0 | F101: =F95*F96 -> 0 | G101: =G95*G96 -> 0 | H101: =H95*H96 -> 0 | I101: =I95*I96 -> 0 | ... M101: =M95*M96 -> 0 | N101: =SUM(B101:M101) -> 0
A102: F&B Rev | N102: =SUM(B102:M102) -> 0
A103: Extra Rev | N103: =SUM(B103:M103) -> 0
A104: TOTAL Rev | B104: =SUM(B101:B103) -> 0 | C104: =SUM(C101:C103) -> 0 | D104: =SUM(D101:D103) -> 0 | E104: =SUM(E101:E103) -> 0 | F104: =SUM(F101:F103) -> 0 | G104: =SUM(G101:G103) -> 0 | H104: =SUM(H101:H103) -> 0 | I104: =SUM(I101:I103) -> 0 | ... M104: =SUM(M101:M103) -> 0 | N104: =SUM(B104:M104) -> 0
A105: Av. S. P Gst. | B105: =IF(B104="","",(B104/B97)) -> #DIV/0! | C105: =IF(C104="","",(C104/C97)) -> #DIV/0! | D105: =IF(D104="","",(D104/D97)) -> #DIV/0! | E105: =IF(E104="","",(E104/E97)) -> #DIV/0! | F105: =IF(F104="","",(F104/F97)) -> #DIV/0! | G105: =IF(G104="","",(G104/G97)) -> #DIV/0! | H105: =IF(H104="","",(H104/H97)) -> #DIV/0! | I105: =IF(I104="","",(I104/I97)) -> #DIV/0! | ... N105: =IF(N104="","",(N104/N97)) -> #DIV/0!
A107: 2008 | B107: Jan | C107: Feb | D107: Mar | E107: Apr | F107: May | G107: Jun | H107: Jul | I107: Aug | J107: Sep | K107: Oct | L107: Nov | M107: Dec | N107: Total
A108: Rm Nights | N108: =SUM(B108:M108) -> 0
A109: Av.R.R. | N109: =N114/N108 -> #DIV/0!
...

Sheet Sep
A1: =Jan!A1 -> TOP 20 Producers
A2: Pegas
A3: 2008 | B3: Jan | C3: Feb | D3: Mar | E3: Apr | F3: May | G3: Jun | H3: Jul | I3: Aug | J3: Sep | K3: Oct | L3: Nov | M3: Dec | N3: Total
A4: Rm Nights | J4: 2057 | N4: =SUM(B4:M4) -> 2057
A5: Av.R.R. | J5: 315.19 | N5: =N10/N4 -> 315.19
A6: # Of Guests | J6: 4416 | N6: =SUM(B6:M6) -> 4416
A7: DBL Occ. | B7: =IF(B4=0,0,(B6/B4)) -> 0 | C7: =IF(C4=0,0,(C6/C4)) -> 0 | D7: =IF(D4=0,0,(D6/D4)) -> 0 | E7: =IF(E4=0,0,(E6/E4)) -> 0 | F7: =IF(F4=0,0,(F6/F4)) -> 0 | G7: =IF(G4=0,0,(G6/G4)) -> 0 | H7: =IF(H4=0,0,(H6/H4)) -> 0 | I7: =IF(I4=0,0,(I6/I4)) -> 0 | ... N7: =IF(N4=0,0,(N6/N4)) -> 2.1468158
A8: Arrivals | J8: 238 | N8: =SUM(B8:M8) -> 238
A9: Length of stay | B9: =IF(B8="","",(B4/B8)) | C9: =IF(C8="","",(C4/C8)) | D9: =IF(D8="","",(D4/D8)) | E9: =IF(E8="","",(E4/E8)) | F9: =IF(F8="","",(F4/F8)) | G9: =IF(G8="","",(G4/G8)) | H9: =IF(H8="","",(H4/H8)) | I9: =IF(I8="","",(I4/I8)) | ... N9: =IF(N8="","",(N4/N8)) -> 8.6428571
A10: Room Rev | B10: =B4*B5 -> 0 | C10: =C4*C5 -> 0 | D10: =D4*D5 -> 0 | E10: =E4*E5 -> 0 | F10: =F4*F5 -> 0 | G10: =G4*G5 -> 0 | H10: =H4*H5 -> 0 | I10: =I4*I5 -> 0 | ... M10: =M4*M5 -> 0 | N10: =SUM(B10:M10) -> 648345.83
A11: F&B Rev | J11: 271007.13 | N11: =SUM(B11:M11) -> 271007.13
A12: Extra Rev | J12: 118510.51 | N12: =SUM(B12:M12) -> 118510.51
A13: TOTAL Rev | B13: =SUM(B10:B12) -> 0 | C13: =SUM(C10:C12) -> 0 | D13: =SUM(D10:D12) -> 0 | E13: =SUM(E10:E12) -> 0 | F13: =SUM(F10:F12) -> 0 | G13: =SUM(G10:G12) -> 0 | H13: =SUM(H10:H12) -> 0 | I13: =SUM(I10:I12) -> 0 | ... M13: =SUM(M10:M12) -> 0 | N13: =SUM(B13:M13) -> 1037863.5
A14: Av. S. P Gst. | B14: =IF(B13="","",(B13/B6)) -> #DIV/0! | C14: =IF(C13="","",(C13/C6)) -> #DIV/0! | D14: =IF(D13="","",(D13/D6)) -> #DIV/0! | E14: =IF(E13="","",(E13/E6)) -> #DIV/0! | F14: =IF(F13="","",(F13/F6)) -> #DIV/0! | G14: =IF(G13="","",(G13/G6)) -> #DIV/0! | H14: =IF(H13="","",(H13/H6)) -> #DIV/0! | I14: =IF(I13="","",(I13/I6)) -> #DIV/0! | ... N14: =IF(N13="","",(N13/N6)) -> 235.02343
A15: Pianeta Terra
A16: 2008 | B16: Jan | C16: Feb | D16: Mar | E16: Apr | F16: May | G16: Jun | H16: Jul | I16: Aug | J16: Sep | K16: Oct | L16: Nov | M16: Dec | N16: Total
A17: Rm Nights | J17: 1504 | N17: =SUM(B17:M17) -> 1504
A18: Av.R.R. | J18: 323.42 | N18: =N23/N17 -> 323.42
A19: # Of Guests | J19: 3785 | N19: =SUM(B19:M19) -> 3785
A20: DBL Occ. | B20: =IF(B17=0,0,(B19/B17)) -> 0 | C20: =IF(C17=0,0,(C19/C17)) -> 0 | D20: =IF(D17=0,0,(D19/D17)) -> 0 | E20: =IF(E17=0,0,(E19/E17)) -> 0 | F20: =IF(F17=0,0,(F19/F17)) -> 0 | G20: =IF(G17=0,0,(G19/G17)) -> 0 | H20: =IF(H17=0,0,(H19/H17)) -> 0 | I20: =IF(I17=0,0,(I19/I17)) -> 0 | ... N20: =IF(N17=0,0,(N19/N17)) -> 2.5166223
A21: Arrivals | J21: 139 | N21: =SUM(B21:M21) -> 139
A22: Length of stay | B22: =IF(B21="","",(B17/B21)) | C22: =IF(C21="","",(C17/C21)) | D22: =IF(D21="","",(D17/D21)) | E22: =IF(E21="","",(E17/E21)) | F22: =IF(F21="","",(F17/F21)) | G22: =IF(G21="","",(G17/G21)) | H22: =IF(H21="","",(H17/H21)) | I22: =IF(I21="","",(I17/I21)) | ... N22: =IF(N21="","",(N17/N21)) -> 10.820144
A23: Room Rev | B23: =B17*B18 -> 0 | C23: =C17*C18 -> 0 | D23: =D17*D18 -> 0 | E23: =E17*E18 -> 0 | F23: =F17*F18 -> 0 | G23: =G17*G18 -> 0 | H23: =H17*H18 -> 0 | I23: =I17*I18 -> 0 | ... M23: =M17*M18 -> 0 | N23: =SUM(B23:M23) -> 486423.68
A24: F&B Rev | J24: 211568 | N24: =SUM(B24:M24) -> 211568
A25: Extra Rev | J25: 88264.61 | N25: =SUM(B25:M25) -> 88264.61
A26: TOTAL Rev | B26: =SUM(B23:B25) -> 0 | C26: =SUM(C23:C25) -> 0 | D26: =SUM(D23:D25) -> 0 | E26: =SUM(E23:E25) -> 0 | F26: =SUM(F23:F25) -> 0 | G26: =SUM(G23:G25) -> 0 | H26: =SUM(H23:H25) -> 0 | I26: =SUM(I23:I25) -> 0 | ... M26: =SUM(M23:M25) -> 0 | N26: =SUM(B26:M26) -> 786256.29
A27: Av. S. P Gst. | B27: =IF(B26="","",(B26/B19)) -> #DIV/0! | C27: =IF(C26="","",(C26/C19)) -> #DIV/0! | D27: =IF(D26="","",(D26/D19)) -> #DIV/0! | E27: =IF(E26="","",(E26/E19)) -> #DIV/0! | F27: =IF(F26="","",(F26/F19)) -> #DIV/0! | G27: =IF(G26="","",(G26/G19)) -> #DIV/0! | H27: =IF(H26="","",(H26/H19)) -> #DIV/0! | I27: =IF(I26="","",(I26/I19)) -> #DIV/0! | ... N27: =IF(N26="","",(N26/N19)) -> 207.72954
A28: Travel Ways
A29: 2008 | B29: Jan | C29: Feb | D29: Mar | E29: Apr | F29: May | G29: Jun | H29: Jul | I29: Aug | J29: Sep | K29: Oct | L29: Nov | M29: Dec | N29: Total
A30: Rm Nights | J30: 1305 | N30: =SUM(B30:M30) -> 1305
A31: Av.R.R. | J31: 225.53 | N31: =N36/N30 -> 225.53
A32: # Of Guests | J32: 2726 | N32: =SUM(B32:M32) -> 2726
A33: DBL Occ. | B33: =IF(B30=0,0,(B32/B30)) -> 0 | C33: =IF(C30=0,0,(C32/C30)) -> 0 | D33: =IF(D30=0,0,(D32/D30)) -> 0 | E33: =IF(E30=0,0,(E32/E30)) -> 0 | F33: =IF(F30=0,0,(F32/F30)) -> 0 | G33: =IF(G30=0,0,(G32/G30)) -> 0 | H33: =IF(H30=0,0,(H32/H30)) -> 0 | I33: =IF(I30=0,0,(I32/I30)) -> 0 | ... N33: =IF(N30=0,0,(N32/N30)) -> 2.0888889
A34: Arrivals | J34: 184 | N34: =SUM(B34:M34) -> 184
A35: Length of stay | B35: =IF(B34="","",(B30/B34)) | C35: =IF(C34="","",(C30/C34)) | D35: =IF(D34="","",(D30/D34)) | E35: =IF(E34="","",(E30/E34)) | F35: =IF(F34="","",(F30/F34)) | G35: =IF(G34="","",(G30/G34)) | H35: =IF(H34="","",(H30/H34)) | I35: =IF(I34="","",(I30/I34)) | ... N35: =IF(N34="","",(N30/N34)) -> 7.0923913
A36: Room Rev | B36: =B30*B31 -> 0 | C36: =C30*C31 -> 0 | D36: =D30*D31 -> 0 | E36: =E30*E31 -> 0 | F36: =F30*F31 -> 0 | G36: =G30*G31 -> 0 | H36: =H30*H31 -> 0 | I36: =I30*I31 -> 0 | ... M36: =M30*M31 -> 0 | N36: =SUM(B36:M36) -> 294316.65
A37: F&B Rev | J37: 203204.51 | N37: =SUM(B37:M37) -> 203204.51
A38: Extra Rev | J38: 70809.98 | N38: =SUM(B38:M38) -> 70809.98
A39: TOTAL Rev | B39: =SUM(B36:B38) -> 0 | C39: =SUM(C36:C38) -> 0 | D39: =SUM(D36:D38) -> 0 | E39: =SUM(E36:E38) -> 0 | F39: =SUM(F36:F38) -> 0 | G39: =SUM(G36:G38) -> 0 | H39: =SUM(H36:H38) -> 0 | I39: =SUM(I36:I38) -> 0 | ... M39: =SUM(M36:M38) -> 0 | N39: =SUM(B39:M39) -> 568331.14
A40: Av. S. P Gst. | B40: =IF(B39="","",(B39/B32)) -> #DIV/0! | C40: =IF(C39="","",(C39/C32)) -> #DIV/0! | D40: =IF(D39="","",(D39/D32)) -> #DIV/0! | E40: =IF(E39="","",(E39/E32)) -> #DIV/0! | F40: =IF(F39="","",(F39/F32)) -> #DIV/0! | G40: =IF(G39="","",(G39/G32)) -> #DIV/0! | H40: =IF(H39="","",(H39/H32)) -> #DIV/0! | I40: =IF(I39="","",(I39/I32)) -> #DIV/0! | ... N40: =IF(N39="","",(N39/N32)) -> 208.48538
A41: Thomas Cook | B41: My Travel
A42: 2008 | B42: Jan | C42: Feb | D42: Mar | E42: Apr | F42: May | G42: Jun | H42: Jul | I42: Aug | J42: Sep | K42: Oct | L42: Nov | M42: Dec | N42: Total
A43: Rm Nights | J43: 383 | N43: =SUM(B43:M43) -> 383
A44: Av.R.R. | J44: 312.97 | N44: =N49/N43 -> 312.97
A45: # Of Guests | J45: 799 | N45: =SUM(B45:M45) -> 799
A46: DBL Occ. | B46: =IF(B43=0,0,(B45/B43)) -> 0 | C46: =IF(C43=0,0,(C45/C43)) -> 0 | D46: =IF(D43=0,0,(D45/D43)) -> 0 | E46: =IF(E43=0,0,(E45/E43)) -> 0 | F46: =IF(F43=0,0,(F45/F43)) -> 0 | G46: =IF(G43=0,0,(G45/G43)) -> 0 | H46: =IF(H43=0,0,(H45/H43)) -> 0 | I46: =IF(I43=0,0,(I45/I43)) -> 0 | ... N46: =IF(N43=0,0,(N45/N43)) -> 2.0861619
A47: Arrivals | J47: 35 | N47: =SUM(B47:M47) -> 35
A48: Length of stay | B48: =IF(B47="","",(B43/B47)) | C48: =IF(C47="","",(C43/C47)) | D48: =IF(D47="","",(D43/D47)) | E48: =IF(E47="","",(E43/E47)) | F48: =IF(F47="","",(F43/F47)) | G48: =IF(G47="","",(G43/G47)) | H48: =IF(H47="","",(H43/H47)) | I48: =IF(I47="","",(I43/I47)) | ... N48: =IF(N47="","",(N43/N47)) -> 10.942857
A49: Room Rev | B49: =B43*B44 -> 0 | C49: =C43*C44 -> 0 | D49: =D43*D44 -> 0 | E49: =E43*E44 -> 0 | F49: =F43*F44 -> 0 | G49: =G43*G44 -> 0 | H49: =H43*H44 -> 0 | I49: =I43*I44 -> 0 | ... M49: =M43*M44 -> 0 | N49: =SUM(B49:M49) -> 119867.51
A50: F&B Rev | J50: 27617.94 | N50: =SUM(B50:M50) -> 27617.94
A51: Extra Rev | J51: 19668.19 | N51: =SUM(B51:M51) -> 19668.19
A52: TOTAL Rev | B52: =SUM(B49:B51) -> 0 | C52: =SUM(C49:C51) -> 0 | D52: =SUM(D49:D51) -> 0 | E52: =SUM(E49:E51) -> 0 | F52: =SUM(F49:F51) -> 0 | G52: =SUM(G49:G51) -> 0 | H52: =SUM(H49:H51) -> 0 | I52: =SUM(I49:I51) -> 0 | ... M52: =SUM(M49:M51) -> 0 | N52: =SUM(B52:M52) -> 167153.64
A53: Av. S. P Gst. | B53: =IF(B52="","",(B52/B45)) -> #DIV/0! | C53: =IF(C52="","",(C52/C45)) -> #DIV/0! | D53: =IF(D52="","",(D52/D45)) -> #DIV/0! | E53: =IF(E52="","",(E52/E45)) -> #DIV/0! | F53: =IF(F52="","",(F52/F45)) -> #DIV/0! | G53: =IF(G52="","",(G52/G45)) -> #DIV/0! | H53: =IF(H52="","",(H52/H45)) -> #DIV/0! | I53: =IF(I52="","",(I52/I45)) -> #DIV/0! | ... N53: =IF(N52="","",(N52/N45)) -> 209.20355
A54: Tez Tour
A55: 2008 | B55: Jan | C55: Feb | D55: Mar | E55: Apr | F55: May | G55: Jun | H55: Jul | I55: Aug | J55: Sep | K55: Oct | L55: Nov | M55: Dec | N55: Total
A56: Rm Nights | J56: 384 | N56: =SUM(B56:M56) -> 384
A57: Av.R.R. | J57: 332.7 | N57: =N62/N56 -> 332.7
A58: # Of Guests | J58: 778 | N58: =SUM(B58:M58) -> 778
A59: DBL Occ. | B59: =IF(B56=0,0,(B58/B56)) -> 0 | C59: =IF(C56=0,0,(C58/C56)) -> 0 | D59: =IF(D56=0,0,(D58/D56)) -> 0 | E59: =IF(E56=0,0,(E58/E56)) -> 0 | F59: =IF(F56=0,0,(F58/F56)) -> 0 | G59: =IF(G56=0,0,(G58/G56)) -> 0 | H59: =IF(H56=0,0,(H58/H56)) -> 0 | I59: =IF(I56=0,0,(I58/I56)) -> 0 | ... N59: =IF(N56=0,0,(N58/N56)) -> 2.0260417
A60: Arrivals | J60: 39 | N60: =SUM(B60:M60) -> 39
A61: Length of stay | B61: =IF(B60="","",(B56/B60)) | C61: =IF(C60="","",(C56/C60)) | D61: =IF(D60="","",(D56/D60)) | E61: =IF(E60="","",(E56/E60)) | F61: =IF(F60="","",(F56/F60)) | G61: =IF(G60="","",(G56/G60)) | H61: =IF(H60="","",(H56/H60)) | I61: =IF(I60="","",(I56/I60)) | ... N61: =IF(N60="","",(N56/N60)) -> 9.8461538
A62: Room Rev | B62: =B56*B57 -> 0 | C62: =C56*C57 -> 0 | D62: =D56*D57 -> 0 | E62: =E56*E57 -> 0 | F62: =F56*F57 -> 0 | G62: =G56*G57 -> 0 | H62: =H56*H57 -> 0 | I62: =I56*I57 -> 0 | ... M62: =M56*M57 -> 0 | N62: =SUM(B62:M62) -> 127756.8
A63: F&B Rev | J63: 25305.28 | N63: =SUM(B63:M63) -> 25305.28
A64: Extra Rev | J64: 21305.28 | N64: =SUM(B64:M64) -> 21305.28
A65: TOTAL Rev | B65: =SUM(B62:B64) -> 0 | C65: =SUM(C62:C64) -> 0 | D65: =SUM(D62:D64) -> 0 | E65: =SUM(E62:E64) -> 0 | F65: =SUM(F62:F64) -> 0 | G65: =SUM(G62:G64) -> 0 | H65: =SUM(H62:H64) -> 0 | I65: =SUM(I62:I64) -> 0 | ... M65: =SUM(M62:M64) -> 0 | N65: =SUM(B65:M65) -> 174367.36
A66: Av. S. P Gst. | B66: =IF(B65="","",(B65/B58)) -> #DIV/0! | C66: =IF(C65="","",(C65/C58)) -> #DIV/0! | D66: =IF(D65="","",(D65/D58)) -> #DIV/0! | E66: =IF(E65="","",(E65/E58)) -> #DIV/0! | F66: =IF(F65="","",(F65/F58)) -> #DIV/0! | G66: =IF(G65="","",(G65/G58)) -> #DIV/0! | H66: =IF(H65="","",(H65/H58)) -> #DIV/0! | I66: =IF(I65="","",(I65/I58)) -> #DIV/0! | ... N66: =IF(N65="","",(N65/N58)) -> 224.12257
B68: Jan | C68: Feb | D68: Mar | E68: Apr | F68: May | G68: Jun | H68: Jul | I68: Aug | J68: Sep | K68: Oct | L68: Nov | M68: Dec | N68: Total
A69: Rm Nights | N69: =SUM(B69:M69) -> 0
A70: Av.R.R. | N70: =N75/N69 -> #DIV/0!
A71: # Of Guests | N71: =SUM(B71:M71) -> 0
A72: DBL Occ. | B72: =IF(B69=0,0,(B71/B69)) -> 0 | C72: =IF(C69=0,0,(C71/C69)) -> 0 | D72: =IF(D69=0,0,(D71/D69)) -> 0 | E72: =IF(E69=0,0,(E71/E69)) -> 0 | F72: =IF(F69=0,0,(F71/F69)) -> 0 | G72: =IF(G69=0,0,(G71/G69)) -> 0 | H72: =IF(H69=0,0,(H71/H69)) -> 0 | I72: =IF(I69=0,0,(I71/I69)) -> 0 | ... N72: =IF(N69=0,0,(N71/N69)) -> 0
A73: Arrivals | N73: =SUM(B73:M73) -> 0
A74: Length of stay | B74: =IF(B73="","",(B69/B73)) | C74: =IF(C73="","",(C69/C73)) | D74: =IF(D73="","",(D69/D73)) | E74: =IF(E73="","",(E69/E73)) | F74: =IF(F73="","",(F69/F73)) | G74: =IF(G73="","",(G69/G73)) | H74: =IF(H73="","",(H69/H73)) | I74: =IF(I73="","",(I69/I73)) | ... N74: =IF(N73="","",(N69/N73)) -> #DIV/0!
A75: Room Rev | B75: =B69*B70 -> 0 | C75: =C69*C70 -> 0 | D75: =D69*D70 -> 0 | E75: =E69*E70 -> 0 | F75: =F69*F70 -> 0 | G75: =G69*G70 -> 0 | H75: =H69*H70 -> 0 | I75: =I69*I70 -> 0 | ... M75: =M69*M70 -> 0 | N75: =SUM(B75:M75) -> 0
A76: F&B Rev | N76: =SUM(B76:M76) -> 0
A77: Extra Rev | N77: =SUM(B77:M77) -> 0
A78: TOTAL Rev | B78: =SUM(B75:B77) -> 0 | C78: =SUM(C75:C77) -> 0 | D78: =SUM(D75:D77) -> 0 | E78: =SUM(E75:E77) -> 0 | F78: =SUM(F75:F77) -> 0 | G78: =SUM(G75:G77) -> 0 | H78: =SUM(H75:H77) -> 0 | I78: =SUM(I75:I77) -> 0 | ... M78: =SUM(M75:M77) -> 0 | N78: =SUM(B78:M78) -> 0
A79: Av. S. P Gst. | B79: =IF(B78="","",(B78/B71)) -> #DIV/0! | C79: =IF(C78="","",(C78/C71)) -> #DIV/0! | D79: =IF(D78="","",(D78/D71)) -> #DIV/0! | E79: =IF(E78="","",(E78/E71)) -> #DIV/0! | F79: =IF(F78="","",(F78/F71)) -> #DIV/0! | G79: =IF(G78="","",(G78/G71)) -> #DIV/0! | H79: =IF(H78="","",(H78/H71)) -> #DIV/0! | I79: =IF(I78="","",(I78/I71)) -> #DIV/0! | ... N79: =IF(N78="","",(N78/N71)) -> #DIV/0!
B81: Jan | C81: Feb | D81: Mar | E81: Apr | F81: May | G81: Jun | H81: Jul | I81: Aug | J81: Sep | K81: Oct | L81: Nov | M81: Dec | N81: Total
A82: Rm Nights | N82: =SUM(B82:M82) -> 0
A83: Av.R.R. | N83: =N88/N82 -> #DIV/0!
A84: # Of Guests | N84: =SUM(B84:M84) -> 0
A85: DBL Occ. | B85: =IF(B82=0,0,(B84/B82)) -> 0 | C85: =IF(C82=0,0,(C84/C82)) -> 0 | D85: =IF(D82=0,0,(D84/D82)) -> 0 | E85: =IF(E82=0,0,(E84/E82)) -> 0 | F85: =IF(F82=0,0,(F84/F82)) -> 0 | G85: =IF(G82=0,0,(G84/G82)) -> 0 | H85: =IF(H82=0,0,(H84/H82)) -> 0 | I85: =IF(I82=0,0,(I84/I82)) -> 0 | K85: =IF(K82=0,0,(K84/K82)) -> 0 | L85: =IF(L82=0,0,(L84/L82)) -> 0 | M85: =IF(M82=0,0,(M84/M82)) -> 0 | N85: =IF(N82=0,0,(N84/N82)) -> 0
A86: Arrivals | N86: =SUM(B86:M86) -> 0
A87: Length of stay | B87: =IF(B86="","",(B82/B86)) | C87: =IF(C86="","",(C82/C86)) | D87: =IF(D86="","",(D82/D86)) | E87: =IF(E86="","",(E82/E86)) | F87: =IF(F86="","",(F82/F86)) | G87: =IF(G86="","",(G82/G86)) | H87: =IF(H86="","",(H82/H86)) | I87: =IF(I86="","",(I82/I86)) | ... N87: =IF(N86="","",(N82/N86)) -> #DIV/0!
A88: Room Rev | B88: =B82*B83 -> 0 | C88: =C82*C83 -> 0 | D88: =D82*D83 -> 0 | E88: =E82*E83 -> 0 | F88: =F82*F83 -> 0 | G88: =G82*G83 -> 0 | H88: =H82*H83 -> 0 | I88: =I82*I83 -> 0 | ... M88: =M82*M83 -> 0 | N88: =SUM(B88:M88) -> 0
A89: F&B Rev | N89: =SUM(B89:M89) -> 0
A90: Extra Rev | N90: =SUM(B90:M90) -> 0
A91: TOTAL Rev | B91: =SUM(B88:B90) -> 0 | C91: =SUM(C88:C90) -> 0 | D91: =SUM(D88:D90) -> 0 | E91: =SUM(E88:E90) -> 0 | F91: =SUM(F88:F90) -> 0 | G91: =SUM(G88:G90) -> 0 | H91: =SUM(H88:H90) -> 0 | I91: =SUM(I88:I90) -> 0 | ... M91: =SUM(M88:M90) -> 0 | N91: =SUM(B91:M91) -> 0
A92: Av. S. P Gst. | B92: =IF(B91="","",(B91/B84)) -> #DIV/0! | C92: =IF(C91="","",(C91/C84)) -> #DIV/0! | D92: =IF(D91="","",(D91/D84)) -> #DIV/0! | E92: =IF(E91="","",(E91/E84)) -> #DIV/0! | F92: =IF(F91="","",(F91/F84)) -> #DIV/0! | G92: =IF(G91="","",(G91/G84)) -> #DIV/0! | H92: =IF(H91="","",(H91/H84)) -> #DIV/0! | I92: =IF(I91="","",(I91/I84)) -> #DIV/0! | ... N92: =IF(N91="","",(N91/N84)) -> #DIV/0!
A93: Spring/Apollo
A94: 2008 | B94: Jan | C94: Feb | D94: Mar | E94: Apr | F94: May | G94: Jun | H94: Jul | I94: Aug | J94: Sep | K94: Oct | L94: Nov | M94: Dec | N94: Total
A95: Rm Nights | N95: =SUM(B95:M95) -> 0
A96: Av.R.R. | N96: =N101/N95 -> #DIV/0!
A97: # Of Guests | N97: =SUM(B97:M97) -> 0
A98: DBL Occ. | B98: =IF(B95=0,0,(B97/B95)) -> 0 | C98: =IF(C95=0,0,(C97/C95)) -> 0 | D98: =IF(D95=0,0,(D97/D95)) -> 0 | E98: =IF(E95=0,0,(E97/E95)) -> 0 | F98: =IF(F95=0,0,(F97/F95)) -> 0 | G98: =IF(G95=0,0,(G97/G95)) -> 0 | H98: =IF(H95=0,0,(H97/H95)) -> 0 | I98: =IF(I95=0,0,(I97/I95)) -> 0 | ... N98: =IF(N95=0,0,(N97/N95)) -> 0
A99: Arrivals | N99: =SUM(B99:M99) -> 0
A100: Length of stay | B100: =IF(B99="","",(B95/B99)) | C100: =IF(C99="","",(C95/C99)) | D100: =IF(D99="","",(D95/D99)) | E100: =IF(E99="","",(E95/E99)) | F100: =IF(F99="","",(F95/F99)) | G100: =IF(G99="","",(G95/G99)) | H100: =IF(H99="","",(H95/H99)) | I100: =IF(I99="","",(I95/I99)) | ... N100: =IF(N99="","",(N95/N99)) -> #DIV/0!
A101: Room Rev | B101: =B95*B96 -> 0 | C101: =C95*C96 -> 0 | D101: =D95*D96 -> 0 | E101: =E95*E96 -> 0 | F101: =F95*F96 -> 0 | G101: =G95*G96 -> 0 | H101: =H95*H96 -> 0 | I101: =I95*I96 -> 0 | ... M101: =M95*M96 -> 0 | N101: =SUM(B101:M101) -> 0
A102: F&B Rev | N102: =SUM(B102:M102) -> 0
...

Sheet Oct
B3: Jan | C3: Feb | D3: Mar | E3: Apr | F3: May | G3: Jun | H3: Jul | I3: Aug | J3: Sep | L3: Nov | M3: Dec | N3: Total
A4: Rm Nights | N4: =SUM(B4:M4) -> 0
A5: Av.R.R. | N5: =N10/N4 -> #DIV/0!
A6: # Of Guests | N6: =SUM(B6:M6) -> 0
A7: DBL Occ. | B7: =IF(B4=0,0,(B6/B4)) -> 0 | C7: =IF(C4=0,0,(C6/C4)) -> 0 | D7: =IF(D4=0,0,(D6/D4)) -> 0 | E7: =IF(E4=0,0,(E6/E4)) -> 0 | F7: =IF(F4=0,0,(F6/F4)) -> 0 | G7: =IF(G4=0,0,(G6/G4)) -> 0 | H7: =IF(H4=0,0,(H6/H4)) -> 0 | I7: =IF(I4=0,0,(I6/I4)) -> 0 | ... N7: =IF(N4=0,0,(N6/N4)) -> 0
A8: Arrivals | N8: =SUM(B8:M8) -> 0
A9: Length of stay | B9: =IF(B8="","",(B4/B8)) | C9: =IF(C8="","",(C4/C8)) | D9: =IF(D8="","",(D4/D8)) | E9: =IF(E8="","",(E4/E8)) | F9: =IF(F8="","",(F4/F8)) | G9: =IF(G8="","",(G4/G8)) | H9: =IF(H8="","",(H4/H8)) | I9: =IF(I8="","",(I4/I8)) | ... N9: =IF(N8="","",(N4/N8)) -> #DIV/0!
A10: Room Rev | B10: =B4*B5 -> 0 | C10: =C4*C5 -> 0 | D10: =D4*D5 -> 0 | E10: =E4*E5 -> 0 | F10: =F4*F5 -> 0 | G10: =G4*G5 -> 0 | H10: =H4*H5 -> 0 | I10: =I4*I5 -> 0 | ... M10: =M4*M5 -> 0 | N10: =SUM(B10:M10) -> 0
A11: F&B Rev | N11: =SUM(B11:M11) -> 0
A12: Extra Rev | N12: =SUM(B12:M12) -> 0
A13: TOTAL Rev | B13: =SUM(B10:B12) -> 0 | C13: =SUM(C10:C12) -> 0 | D13: =SUM(D10:D12) -> 0 | E13: =SUM(E10:E12) -> 0 | F13: =SUM(F10:F12) -> 0 | G13: =SUM(G10:G12) -> 0 | H13: =SUM(H10:H12) -> 0 | I13: =SUM(I10:I12) -> 0 | ... M13: =SUM(M10:M12) -> 0 | N13: =SUM(B13:M13) -> 0
A14: Av. S. P Gst. | B14: =IF(B13="","",(B13/B6)) -> #DIV/0! | C14: =IF(C13="","",(C13/C6)) -> #DIV/0! | D14: =IF(D13="","",(D13/D6)) -> #DIV/0! | E14: =IF(E13="","",(E13/E6)) -> #DIV/0! | F14: =IF(F13="","",(F13/F6)) -> #DIV/0! | G14: =IF(G13="","",(G13/G6)) -> #DIV/0! | H14: =IF(H13="","",(H13/H6)) -> #DIV/0! | I14: =IF(I13="","",(I13/I6)) -> #DIV/0! | ... N14: =IF(N13="","",(N13/N6)) -> #DIV/0!
B16: Jan | C16: Feb | D16: Mar | E16: Apr | F16: May | G16: Jun | H16: Jul | I16: Aug | J16: Sep | K16: Oct | L16: Nov | M16: Dec | N16: Total
A17: Rm Nights | N17: =SUM(B17:M17) -> 0
A18: Av.R.R. | N18: =N23/N17 -> #DIV/0!
A19: # Of Guests | N19: =SUM(B19:M19) -> 0
A20: DBL Occ. | B20: =IF(B17=0,0,(B19/B17)) -> 0 | C20: =IF(C17=0,0,(C19/C17)) -> 0 | D20: =IF(D17=0,0,(D19/D17)) -> 0 | E20: =IF(E17=0,0,(E19/E17)) -> 0 | F20: =IF(F17=0,0,(F19/F17)) -> 0 | G20: =IF(G17=0,0,(G19/G17)) -> 0 | H20: =IF(H17=0,0,(H19/H17)) -> 0 | I20: =IF(I17=0,0,(I19/I17)) -> 0 | ... N20: =IF(N17=0,0,(N19/N17)) -> 0
A21: Arrivals | N21: =SUM(B21:M21) -> 0
A22: Length of stay | B22: =IF(B21="","",(B17/B21)) | C22: =IF(C21="","",(C17/C21)) | D22: =IF(D21="","",(D17/D21)) | E22: =IF(E21="","",(E17/E21)) | F22: =IF(F21="","",(F17/F21)) | G22: =IF(G21="","",(G17/G21)) | H22: =IF(H21="","",(H17/H21)) | I22: =IF(I21="","",(I17/I21)) | ... N22: =IF(N21="","",(N17/N21)) -> #DIV/0!
A23: Room Rev | B23: =B17*B18 -> 0 | C23: =C17*C18 -> 0 | D23: =D17*D18 -> 0 | E23: =E17*E18 -> 0 | F23: =F17*F18 -> 0 | G23: =G17*G18 -> 0 | H23: =H17*H18 -> 0 | I23: =I17*I18 -> 0 | ... M23: =M17*M18 -> 0 | N23: =SUM(B23:M23) -> 0
A24: F&B Rev | N24: =SUM(B24:M24) -> 0
A25: Extra Rev | N25: =SUM(B25:M25) -> 0
A26: TOTAL Rev | B26: =SUM(B23:B25) -> 0 | C26: =SUM(C23:C25) -> 0 | D26: =SUM(D23:D25) -> 0 | E26: =SUM(E23:E25) -> 0 | F26: =SUM(F23:F25) -> 0 | G26: =SUM(G23:G25) -> 0 | H26: =SUM(H23:H25) -> 0 | I26: =SUM(I23:I25) -> 0 | ... M26: =SUM(M23:M25) -> 0 | N26: =SUM(B26:M26) -> 0
A27: Av. S. P Gst. | B27: =IF(B26="","",(B26/B19)) -> #DIV/0! | C27: =IF(C26="","",(C26/C19)) -> #DIV/0! | D27: =IF(D26="","",(D26/D19)) -> #DIV/0! | E27: =IF(E26="","",(E26/E19)) -> #DIV/0! | F27: =IF(F26="","",(F26/F19)) -> #DIV/0! | G27: =IF(G26="","",(G26/G19)) -> #DIV/0! | H27: =IF(H26="","",(H26/H19)) -> #DIV/0! | I27: =IF(I26="","",(I26/I19)) -> #DIV/0! | ... N27: =IF(N26="","",(N26/N19)) -> #DIV/0!
B29: Jan | C29: Feb | D29: Mar | E29: Apr | F29: May | G29: Jun | H29: Jul | I29: Aug | J29: Sep | K29: Oct | L29: Nov | M29: Dec | N29: Total
A30: Rm Nights | N30: =SUM(B30:M30) -> 0
A31: Av.R.R. | N31: =N36/N30 -> #DIV/0!
A32: # Of Guests | N32: =SUM(B32:M32) -> 0
A33: DBL Occ. | B33: =IF(B30=0,0,(B32/B30)) -> 0 | C33: =IF(C30=0,0,(C32/C30)) -> 0 | D33: =IF(D30=0,0,(D32/D30)) -> 0 | E33: =IF(E30=0,0,(E32/E30)) -> 0 | F33: =IF(F30=0,0,(F32/F30)) -> 0 | G33: =IF(G30=0,0,(G32/G30)) -> 0 | H33: =IF(H30=0,0,(H32/H30)) -> 0 | I33: =IF(I30=0,0,(I32/I30)) -> 0 | ... N33: =IF(N30=0,0,(N32/N30)) -> 0
A34: Arrivals | N34: =SUM(B34:M34) -> 0
A35: Length of stay | B35: =IF(B34="","",(B30/B34)) | C35: =IF(C34="","",(C30/C34)) | D35: =IF(D34="","",(D30/D34)) | E35: =IF(E34="","",(E30/E34)) | F35: =IF(F34="","",(F30/F34)) | G35: =IF(G34="","",(G30/G34)) | H35: =IF(H34="","",(H30/H34)) | I35: =IF(I34="","",(I30/I34)) | ... N35: =IF(N34="","",(N30/N34)) -> #DIV/0!
A36: Room Rev | B36: =B30*B31 -> 0 | C36: =C30*C31 -> 0 | D36: =D30*D31 -> 0 | E36: =E30*E31 -> 0 | F36: =F30*F31 -> 0 | G36: =G30*G31 -> 0 | H36: =H30*H31 -> 0 | I36: =I30*I31 -> 0 | ... M36: =M30*M31 -> 0 | N36: =SUM(B36:M36) -> 0
A37: F&B Rev | N37: =SUM(B37:M37) -> 0
A38: Extra Rev | N38: =SUM(B38:M38) -> 0
A39: TOTAL Rev | B39: =SUM(B36:B38) -> 0 | C39: =SUM(C36:C38) -> 0 | D39: =SUM(D36:D38) -> 0 | E39: =SUM(E36:E38) -> 0 | F39: =SUM(F36:F38) -> 0 | G39: =SUM(G36:G38) -> 0 | H39: =SUM(H36:H38) -> 0 | I39: =SUM(I36:I38) -> 0 | ... M39: =SUM(M36:M38) -> 0 | N39: =SUM(B39:M39) -> 0
A40: Av. S. P Gst. | B40: =IF(B39="","",(B39/B32)) -> #DIV/0! | C40: =IF(C39="","",(C39/C32)) -> #DIV/0! | D40: =IF(D39="","",(D39/D32)) -> #DIV/0! | E40: =IF(E39="","",(E39/E32)) -> #DIV/0! | F40: =IF(F39="","",(F39/F32)) -> #DIV/0! | G40: =IF(G39="","",(G39/G32)) -> #DIV/0! | H40: =IF(H39="","",(H39/H32)) -> #DIV/0! | I40: =IF(I39="","",(I39/I32)) -> #DIV/0! | ... N40: =IF(N39="","",(N39/N32)) -> #DIV/0!
B42: Jan | C42: Feb | D42: Mar | E42: Apr | F42: May | G42: Jun | H42: Jul | I42: Aug | J42: Sep | K42: Oct | L42: Nov | M42: Dec | N42: Total
A43: Rm Nights | N43: =SUM(B43:M43) -> 0
A44: Av.R.R. | N44: =N49/N43 -> #DIV/0!
A45: # Of Guests | N45: =SUM(B45:M45) -> 0
A46: DBL Occ. | B46: =IF(B43=0,0,(B45/B43)) -> 0 | C46: =IF(C43=0,0,(C45/C43)) -> 0 | D46: =IF(D43=0,0,(D45/D43)) -> 0 | E46: =IF(E43=0,0,(E45/E43)) -> 0 | F46: =IF(F43=0,0,(F45/F43)) -> 0 | G46: =IF(G43=0,0,(G45/G43)) -> 0 | H46: =IF(H43=0,0,(H45/H43)) -> 0 | I46: =IF(I43=0,0,(I45/I43)) -> 0 | ... N46: =IF(N43=0,0,(N45/N43)) -> 0
A47: Arrivals | N47: =SUM(B47:M47) -> 0
A48: Length of stay | B48: =IF(B47="","",(B43/B47)) | C48: =IF(C47="","",(C43/C47)) | D48: =IF(D47="","",(D43/D47)) | E48: =IF(E47="","",(E43/E47)) | F48: =IF(F47="","",(F43/F47)) | G48: =IF(G47="","",(G43/G47)) | H48: =IF(H47="","",(H43/H47)) | I48: =IF(I47="","",(I43/I47)) | ... N48: =IF(N47="","",(N43/N47)) -> #DIV/0!
A49: Room Rev | B49: =B43*B44 -> 0 | C49: =C43*C44 -> 0 | D49: =D43*D44 -> 0 | E49: =E43*E44 -> 0 | F49: =F43*F44 -> 0 | G49: =G43*G44 -> 0 | H49: =H43*H44 -> 0 | I49: =I43*I44 -> 0 | ... M49: =M43*M44 -> 0 | N49: =SUM(B49:M49) -> 0
A50: F&B Rev | N50: =SUM(B50:M50) -> 0
A51: Extra Rev | N51: =SUM(B51:M51) -> 0
A52: TOTAL Rev | B52: =SUM(B49:B51) -> 0 | C52: =SUM(C49:C51) -> 0 | D52: =SUM(D49:D51) -> 0 | E52: =SUM(E49:E51) -> 0 | F52: =SUM(F49:F51) -> 0 | G52: =SUM(G49:G51) -> 0 | H52: =SUM(H49:H51) -> 0 | I52: =SUM(I49:I51) -> 0 | ... M52: =SUM(M49:M51) -> 0 | N52: =SUM(B52:M52) -> 0
A53: Av. S. P Gst. | B53: =IF(B52="","",(B52/B45)) -> #DIV/0! | C53: =IF(C52="","",(C52/C45)) -> #DIV/0! | D53: =IF(D52="","",(D52/D45)) -> #DIV/0! | E53: =IF(E52="","",(E52/E45)) -> #DIV/0! | F53: =IF(F52="","",(F52/F45)) -> #DIV/0! | G53: =IF(G52="","",(G52/G45)) -> #DIV/0! | H53: =IF(H52="","",(H52/H45)) -> #DIV/0! | I53: =IF(I52="","",(I52/I45)) -> #DIV/0! | ... N53: =IF(N52="","",(N52/N45)) -> #DIV/0!
B55: Jan | C55: Feb | D55: Mar | E55: Apr | F55: May | G55: Jun | H55: Jul | I55: Aug | J55: Sep | K55: Oct | L55: Nov | M55: Dec | N55: Total
A56: Rm Nights | N56: =SUM(B56:M56) -> 0
A57: Av.R.R. | N57: =N62/N56 -> #DIV/0!
A58: # Of Guests | N58: =SUM(B58:M58) -> 0
A59: DBL Occ. | B59: =IF(B56=0,0,(B58/B56)) -> 0 | C59: =IF(C56=0,0,(C58/C56)) -> 0 | D59: =IF(D56=0,0,(D58/D56)) -> 0 | E59: =IF(E56=0,0,(E58/E56)) -> 0 | F59: =IF(F56=0,0,(F58/F56)) -> 0 | G59: =IF(G56=0,0,(G58/G56)) -> 0 | H59: =IF(H56=0,0,(H58/H56)) -> 0 | I59: =IF(I56=0,0,(I58/I56)) -> 0 | ... N59: =IF(N56=0,0,(N58/N56)) -> 0
A60: Arrivals | N60: =SUM(B60:M60) -> 0
A61: Length of stay | B61: =IF(B60="","",(B56/B60)) | C61: =IF(C60="","",(C56/C60)) | D61: =IF(D60="","",(D56/D60)) | E61: =IF(E60="","",(E56/E60)) | F61: =IF(F60="","",(F56/F60)) | G61: =IF(G60="","",(G56/G60)) | H61: =IF(H60="","",(H56/H60)) | I61: =IF(I60="","",(I56/I60)) | ... N61: =IF(N60="","",(N56/N60)) -> #DIV/0!
A62: Room Rev | B62: =B56*B57 -> 0 | C62: =C56*C57 -> 0 | D62: =D56*D57 -> 0 | E62: =E56*E57 -> 0 | F62: =F56*F57 -> 0 | G62: =G56*G57 -> 0 | H62: =H56*H57 -> 0 | I62: =I56*I57 -> 0 | ... M62: =M56*M57 -> 0 | N62: =SUM(B62:M62) -> 0
A63: F&B Rev | N63: =SUM(B63:M63) -> 0
A64: Extra Rev | N64: =SUM(B64:M64) -> 0
A65: TOTAL Rev | B65: =SUM(B62:B64) -> 0 | C65: =SUM(C62:C64) -> 0 | D65: =SUM(D62:D64) -> 0 | E65: =SUM(E62:E64) -> 0 | F65: =SUM(F62:F64) -> 0 | G65: =SUM(G62:G64) -> 0 | H65: =SUM(H62:H64) -> 0 | I65: =SUM(I62:I64) -> 0 | ... M65: =SUM(M62:M64) -> 0 | N65: =SUM(B65:M65) -> 0
A66: Av. S. P Gst. | B66: =IF(B65="","",(B65/B58)) -> #DIV/0! | C66: =IF(C65="","",(C65/C58)) -> #DIV/0! | D66: =IF(D65="","",(D65/D58)) -> #DIV/0! | E66: =IF(E65="","",(E65/E58)) -> #DIV/0! | F66: =IF(F65="","",(F65/F58)) -> #DIV/0! | G66: =IF(G65="","",(G65/G58)) -> #DIV/0! | H66: =IF(H65="","",(H65/H58)) -> #DIV/0! | I66: =IF(I65="","",(I65/I58)) -> #DIV/0! | ... N66: =IF(N65="","",(N65/N58)) -> #DIV/0!
B68: Jan | C68: Feb | D68: Mar | E68: Apr | F68: May | G68: Jun | H68: Jul | I68: Aug | J68: Sep | K68: Oct | L68: Nov | M68: Dec | N68: Total
A69: Rm Nights | N69: =SUM(B69:M69) -> 0
A70: Av.R.R. | N70: =N75/N69 -> #DIV/0!
A71: # Of Guests | N71: =SUM(B71:M71) -> 0
A72: DBL Occ. | B72: =IF(B69=0,0,(B71/B69)) -> 0 | C72: =IF(C69=0,0,(C71/C69)) -> 0 | D72: =IF(D69=0,0,(D71/D69)) -> 0 | E72: =IF(E69=0,0,(E71/E69)) -> 0 | F72: =IF(F69=0,0,(F71/F69)) -> 0 | G72: =IF(G69=0,0,(G71/G69)) -> 0 | H72: =IF(H69=0,0,(H71/H69)) -> 0 | I72: =IF(I69=0,0,(I71/I69)) -> 0 | ... N72: =IF(N69=0,0,(N71/N69)) -> 0
A73: Arrivals | N73: =SUM(B73:M73) -> 0
A74: Length of stay | B74: =IF(B73="","",(B69/B73)) | C74: =IF(C73="","",(C69/C73)) | D74: =IF(D73="","",(D69/D73)) | E74: =IF(E73="","",(E69/E73)) | F74: =IF(F73="","",(F69/F73)) | G74: =IF(G73="","",(G69/G73)) | H74: =IF(H73="","",(H69/H73)) | I74: =IF(I73="","",(I69/I73)) | ... N74: =IF(N73="","",(N69/N73)) -> #DIV/0!
A75: Room Rev | B75: =B69*B70 -> 0 | C75: =C69*C70 -> 0 | D75: =D69*D70 -> 0 | E75: =E69*E70 -> 0 | F75: =F69*F70 -> 0 | G75: =G69*G70 -> 0 | H75: =H69*H70 -> 0 | I75: =I69*I70 -> 0 | ... M75: =M69*M70 -> 0 | N75: =SUM(B75:M75) -> 0
A76: F&B Rev | N76: =SUM(B76:M76) -> 0
A77: Extra Rev | N77: =SUM(B77:M77) -> 0
A78: TOTAL Rev | B78: =SUM(B75:B77) -> 0 | C78: =SUM(C75:C77) -> 0 | D78: =SUM(D75:D77) -> 0 | E78: =SUM(E75:E77) -> 0 | F78: =SUM(F75:F77) -> 0 | G78: =SUM(G75:G77) -> 0 | H78: =SUM(H75:H77) -> 0 | I78: =SUM(I75:I77) -> 0 | ... M78: =SUM(M75:M77) -> 0 | N78: =SUM(B78:M78) -> 0
A79: Av. S. P Gst. | B79: =IF(B78="","",(B78/B71)) -> #DIV/0! | C79: =IF(C78="","",(C78/C71)) -> #DIV/0! | D79: =IF(D78="","",(D78/D71)) -> #DIV/0! | E79: =IF(E78="","",(E78/E71)) -> #DIV/0! | F79: =IF(F78="","",(F78/F71)) -> #DIV/0! | G79: =IF(G78="","",(G78/G71)) -> #DIV/0! | H79: =IF(H78="","",(H78/H71)) -> #DIV/0! | I79: =IF(I78="","",(I78/I71)) -> #DIV/0! | ... N79: =IF(N78="","",(N78/N71)) -> #DIV/0!
B81: Jan | C81: Feb | D81: Mar | E81: Apr | F81: May | G81: Jun | H81: Jul | I81: Aug | J81: Sep | K81: Oct | L81: Nov | M81: Dec | N81: Total
A82: Rm Nights | N82: =SUM(B82:M82) -> 0
A83: Av.R.R. | N83: =N88/N82 -> #DIV/0!
A84: # Of Guests | N84: =SUM(B84:M84) -> 0
A85: DBL Occ. | B85: =IF(B82=0,0,(B84/B82)) -> 0 | C85: =IF(C82=0,0,(C84/C82)) -> 0 | D85: =IF(D82=0,0,(D84/D82)) -> 0 | E85: =IF(E82=0,0,(E84/E82)) -> 0 | F85: =IF(F82=0,0,(F84/F82)) -> 0 | G85: =IF(G82=0,0,(G84/G82)) -> 0 | H85: =IF(H82=0,0,(H84/H82)) -> 0 | I85: =IF(I82=0,0,(I84/I82)) -> 0 | ... N85: =IF(N82=0,0,(N84/N82)) -> 0
A86: Arrivals | N86: =SUM(B86:M86) -> 0
A87: Length of stay | B87: =IF(B86="","",(B82/B86)) | C87: =IF(C86="","",(C82/C86)) | D87: =IF(D86="","",(D82/D86)) | E87: =IF(E86="","",(E82/E86)) | F87: =IF(F86="","",(F82/F86)) | G87: =IF(G86="","",(G82/G86)) | H87: =IF(H86="","",(H82/H86)) | I87: =IF(I86="","",(I82/I86)) | ... N87: =IF(N86="","",(N82/N86)) -> #DIV/0!
A88: Room Rev | B88: =B82*B83 -> 0 | C88: =C82*C83 -> 0 | D88: =D82*D83 -> 0 | E88: =E82*E83 -> 0 | F88: =F82*F83 -> 0 | G88: =G82*G83 -> 0 | H88: =H82*H83 -> 0 | I88: =I82*I83 -> 0 | ... M88: =M82*M83 -> 0 | N88: =SUM(B88:M88) -> 0
A89: F&B Rev | N89: =SUM(B89:M89) -> 0
A90: Extra Rev | N90: =SUM(B90:M90) -> 0
A91: TOTAL Rev | B91: =SUM(B88:B90) -> 0 | C91: =SUM(C88:C90) -> 0 | D91: =SUM(D88:D90) -> 0 | E91: =SUM(E88:E90) -> 0 | F91: =SUM(F88:F90) -> 0 | G91: =SUM(G88:G90) -> 0 | H91: =SUM(H88:H90) -> 0 | I91: =SUM(I88:I90) -> 0 | ... M91: =SUM(M88:M90) -> 0 | N91: =SUM(B91:M91) -> 0
A92: Av. S. P Gst. | B92: =IF(B91="","",(B91/B84)) -> #DIV/0! | C92: =IF(C91="","",(C91/C84)) -> #DIV/0! | D92: =IF(D91="","",(D91/D84)) -> #DIV/0! | E92: =IF(E91="","",(E91/E84)) -> #DIV/0! | F92: =IF(F91="","",(F91/F84)) -> #DIV/0! | G92: =IF(G91="","",(G91/G84)) -> #DIV/0! | H92: =IF(H91="","",(H91/H84)) -> #DIV/0! | I92: =IF(I91="","",(I91/I84)) -> #DIV/0! | ... N92: =IF(N91="","",(N91/N84)) -> #DIV/0!
B94: Jan | C94: Feb | D94: Mar | E94: Apr | F94: May | G94: Jun | H94: Jul | I94: Aug | J94: Sep | K94: Oct | L94: Nov | M94: Dec | N94: Total
A95: Rm Nights | N95: =SUM(B95:M95) -> 0
A96: Av.R.R. | N96: =N101/N95 -> #DIV/0!
A97: # Of Guests | N97: =SUM(B97:M97) -> 0
A98: DBL Occ. | B98: =IF(B95=0,0,(B97/B95)) -> 0 | C98: =IF(C95=0,0,(C97/C95)) -> 0 | D98: =IF(D95=0,0,(D97/D95)) -> 0 | E98: =IF(E95=0,0,(E97/E95)) -> 0 | F98: =IF(F95=0,0,(F97/F95)) -> 0 | G98: =IF(G95=0,0,(G97/G95)) -> 0 | H98: =IF(H95=0,0,(H97/H95)) -> 0 | I98: =IF(I95=0,0,(I97/I95)) -> 0 | ... N98: =IF(N95=0,0,(N97/N95)) -> 0
A99: Arrivals | N99: =SUM(B99:M99) -> 0
A100: Length of stay | B100: =IF(B99="","",(B95/B99)) | C100: =IF(C99="","",(C95/C99)) | D100: =IF(D99="","",(D95/D99)) | E100: =IF(E99="","",(E95/E99)) | F100: =IF(F99="","",(F95/F99)) | G100: =IF(G99="","",(G95/G99)) | H100: =IF(H99="","",(H95/H99)) | I100: =IF(I99="","",(I95/I99)) | ... N100: =IF(N99="","",(N95/N99)) -> #DIV/0!
A101: Room Rev | B101: =B95*B96 -> 0 | C101: =C95*C96 -> 0 | D101: =D95*D96 -> 0 | E101: =E95*E96 -> 0 | F101: =F95*F96 -> 0 | G101: =G95*G96 -> 0 | H101: =H95*H96 -> 0 | I101: =I95*I96 -> 0 | ... M101: =M95*M96 -> 0 | N101: =SUM(B101:M101) -> 0
A102: F&B Rev | N102: =SUM(B102:M102) -> 0
A103: Extra Rev | N103: =SUM(B103:M103) -> 0
A104: TOTAL Rev | B104: =SUM(B101:B103) -> 0 | C104: =SUM(C101:C103) -> 0 | D104: =SUM(D101:D103) -> 0 | E104: =SUM(E101:E103) -> 0 | F104: =SUM(F101:F103) -> 0 | G104: =SUM(G101:G103) -> 0 | H104: =SUM(H101:H103) -> 0 | I104: =SUM(I101:I103) -> 0 | ... M104: =SUM(M101:M103) -> 0 | N104: =SUM(B104:M104) -> 0
A105: Av. S. P Gst. | B105: =IF(B104="","",(B104/B97)) -> #DIV/0! | C105: =IF(C104="","",(C104/C97)) -> #DIV/0! | D105: =IF(D104="","",(D104/D97)) -> #DIV/0! | E105: =IF(E104="","",(E104/E97)) -> #DIV/0! | F105: =IF(F104="","",(F104/F97)) -> #DIV/0! | G105: =IF(G104="","",(G104/G97)) -> #DIV/0! | H105: =IF(H104="","",(H104/H97)) -> #DIV/0! | I105: =IF(I104="","",(I104/I97)) -> #DIV/0! | ... N105: =IF(N104="","",(N104/N97)) -> #DIV/0!
B107: Jan | C107: Feb | D107: Mar | E107: Apr | F107: May | G107: Jun | H107: Jul | I107: Aug | J107: Sep | K107: Oct | L107: Nov | M107: Dec | N107: Total
A108: Rm Nights | N108: =SUM(B108:M108) -> 0
A109: Av.R.R. | N109: =N114/N108 -> #DIV/0!
A110: # Of Guests | N110: =SUM(B110:M110) -> 0
...

Sheet Nov
A1: =Jan!A1 -> TOP 20 Producers
B3: Jan | C3: Feb | D3: Mar | E3: Apr | F3: May | G3: Jun | H3: Jul | I3: Aug | J3: Sep | K3: Oct | L3: Nov | M3: Dec | N3: Total
A4: Rm Nights | N4: =SUM(B4:M4) -> 0
A5: Av.R.R. | N5: =N10/N4 -> #DIV/0!
A6: # Of Guests | N6: =SUM(B6:M6) -> 0
A7: DBL Occ. | B7: =IF(B4=0,0,(B6/B4)) -> 0 | C7: =IF(C4=0,0,(C6/C4)) -> 0 | D7: =IF(D4=0,0,(D6/D4)) -> 0 | E7: =IF(E4=0,0,(E6/E4)) -> 0 | F7: =IF(F4=0,0,(F6/F4)) -> 0 | G7: =IF(G4=0,0,(G6/G4)) -> 0 | H7: =IF(H4=0,0,(H6/H4)) -> 0 | I7: =IF(I4=0,0,(I6/I4)) -> 0 | ... N7: =IF(N4=0,0,(N6/N4)) -> 0
A8: Arrivals | N8: =SUM(B8:M8) -> 0
A9: Length of stay | B9: =IF(B8="","",(B4/B8)) | C9: =IF(C8="","",(C4/C8)) | D9: =IF(D8="","",(D4/D8)) | E9: =IF(E8="","",(E4/E8)) | F9: =IF(F8="","",(F4/F8)) | G9: =IF(G8="","",(G4/G8)) | H9: =IF(H8="","",(H4/H8)) | I9: =IF(I8="","",(I4/I8)) | ... N9: =IF(N8="","",(N4/N8)) -> #DIV/0!
A10: Room Rev | B10: =B4*B5 -> 0 | C10: =C4*C5 -> 0 | D10: =D4*D5 -> 0 | E10: =E4*E5 -> 0 | F10: =F4*F5 -> 0 | G10: =G4*G5 -> 0 | H10: =H4*H5 -> 0 | I10: =I4*I5 -> 0 | ... M10: =M4*M5 -> 0 | N10: =SUM(B10:M10) -> 0
A11: F&B Rev | N11: =SUM(B11:M11) -> 0
A12: Extra Rev | N12: =SUM(B12:M12) -> 0
A13: TOTAL Rev | B13: =SUM(B10:B12) -> 0 | C13: =SUM(C10:C12) -> 0 | D13: =SUM(D10:D12) -> 0 | E13: =SUM(E10:E12) -> 0 | F13: =SUM(F10:F12) -> 0 | G13: =SUM(G10:G12) -> 0 | H13: =SUM(H10:H12) -> 0 | I13: =SUM(I10:I12) -> 0 | ... M13: =SUM(M10:M12) -> 0 | N13: =SUM(B13:M13) -> 0
A14: Av. S. P Gst. | B14: =IF(B13="","",(B13/B6)) -> #DIV/0! | C14: =IF(C13="","",(C13/C6)) -> #DIV/0! | D14: =IF(D13="","",(D13/D6)) -> #DIV/0! | E14: =IF(E13="","",(E13/E6)) -> #DIV/0! | F14: =IF(F13="","",(F13/F6)) -> #DIV/0! | G14: =IF(G13="","",(G13/G6)) -> #DIV/0! | H14: =IF(H13="","",(H13/H6)) -> #DIV/0! | I14: =IF(I13="","",(I13/I6)) -> #DIV/0! | ... N14: =IF(N13="","",(N13/N6)) -> #DIV/0!
B16: Jan | C16: Feb | D16: Mar | E16: Apr | F16: May | G16: Jun | H16: Jul | I16: Aug | J16: Sep | K16: Oct | L16: Nov | M16: Dec | N16: Total
A17: Rm Nights | N17: =SUM(B17:M17) -> 0
A18: Av.R.R. | N18: =N23/N17 -> #DIV/0!
A19: # Of Guests | N19: =SUM(B19:M19) -> 0
A20: DBL Occ. | B20: =IF(B17=0,0,(B19/B17)) -> 0 | C20: =IF(C17=0,0,(C19/C17)) -> 0 | D20: =IF(D17=0,0,(D19/D17)) -> 0 | E20: =IF(E17=0,0,(E19/E17)) -> 0 | F20: =IF(F17=0,0,(F19/F17)) -> 0 | G20: =IF(G17=0,0,(G19/G17)) -> 0 | H20: =IF(H17=0,0,(H19/H17)) -> 0 | I20: =IF(I17=0,0,(I19/I17)) -> 0 | ... N20: =IF(N17=0,0,(N19/N17)) -> 0
A21: Arrivals | N21: =SUM(B21:M21) -> 0
A22: Length of stay | B22: =IF(B21="","",(B17/B21)) | C22: =IF(C21="","",(C17/C21)) | D22: =IF(D21="","",(D17/D21)) | E22: =IF(E21="","",(E17/E21)) | F22: =IF(F21="","",(F17/F21)) | G22: =IF(G21="","",(G17/G21)) | H22: =IF(H21="","",(H17/H21)) | I22: =IF(I21="","",(I17/I21)) | ... N22: =IF(N21="","",(N17/N21)) -> #DIV/0!
A23: Room Rev | B23: =B17*B18 -> 0 | C23: =C17*C18 -> 0 | D23: =D17*D18 -> 0 | E23: =E17*E18 -> 0 | F23: =F17*F18 -> 0 | G23: =G17*G18 -> 0 | H23: =H17*H18 -> 0 | I23: =I17*I18 -> 0 | ... M23: =M17*M18 -> 0 | N23: =SUM(B23:M23) -> 0
A24: F&B Rev | N24: =SUM(B24:M24) -> 0
A25: Extra Rev | N25: =SUM(B25:M25) -> 0
A26: TOTAL Rev | B26: =SUM(B23:B25) -> 0 | C26: =SUM(C23:C25) -> 0 | D26: =SUM(D23:D25) -> 0 | E26: =SUM(E23:E25) -> 0 | F26: =SUM(F23:F25) -> 0 | G26: =SUM(G23:G25) -> 0 | H26: =SUM(H23:H25) -> 0 | I26: =SUM(I23:I25) -> 0 | ... M26: =SUM(M23:M25) -> 0 | N26: =SUM(B26:M26) -> 0
A27: Av. S. P Gst. | B27: =IF(B26="","",(B26/B19)) -> #DIV/0! | C27: =IF(C26="","",(C26/C19)) -> #DIV/0! | D27: =IF(D26="","",(D26/D19)) -> #DIV/0! | E27: =IF(E26="","",(E26/E19)) -> #DIV/0! | F27: =IF(F26="","",(F26/F19)) -> #DIV/0! | G27: =IF(G26="","",(G26/G19)) -> #DIV/0! | H27: =IF(H26="","",(H26/H19)) -> #DIV/0! | I27: =IF(I26="","",(I26/I19)) -> #DIV/0! | ... N27: =IF(N26="","",(N26/N19)) -> #DIV/0!
B29: Jan | C29: Feb | D29: Mar | E29: Apr | F29: May | G29: Jun | H29: Jul | I29: Aug | J29: Sep | K29: Oct | L29: Nov | M29: Dec | N29: Total
A30: Rm Nights | N30: =SUM(B30:M30) -> 0
A31: Av.R.R. | N31: =N36/N30 -> #DIV/0!
A32: # Of Guests | N32: =SUM(B32:M32) -> 0
A33: DBL Occ. | B33: =IF(B30=0,0,(B32/B30)) -> 0 | C33: =IF(C30=0,0,(C32/C30)) -> 0 | D33: =IF(D30=0,0,(D32/D30)) -> 0 | E33: =IF(E30=0,0,(E32/E30)) -> 0 | F33: =IF(F30=0,0,(F32/F30)) -> 0 | G33: =IF(G30=0,0,(G32/G30)) -> 0 | H33: =IF(H30=0,0,(H32/H30)) -> 0 | I33: =IF(I30=0,0,(I32/I30)) -> 0 | ... N33: =IF(N30=0,0,(N32/N30)) -> 0
A34: Arrivals | N34: =SUM(B34:M34) -> 0
A35: Length of stay | B35: =IF(B34="","",(B30/B34)) | C35: =IF(C34="","",(C30/C34)) | D35: =IF(D34="","",(D30/D34)) | E35: =IF(E34="","",(E30/E34)) | F35: =IF(F34="","",(F30/F34)) | G35: =IF(G34="","",(G30/G34)) | H35: =IF(H34="","",(H30/H34)) | I35: =IF(I34="","",(I30/I34)) | ... N35: =IF(N34="","",(N30/N34)) -> #DIV/0!
A36: Room Rev | B36: =B30*B31 -> 0 | C36: =C30*C31 -> 0 | D36: =D30*D31 -> 0 | E36: =E30*E31 -> 0 | F36: =F30*F31 -> 0 | G36: =G30*G31 -> 0 | H36: =H30*H31 -> 0 | I36: =I30*I31 -> 0 | ... M36: =M30*M31 -> 0 | N36: =SUM(B36:M36) -> 0
A37: F&B Rev | N37: =SUM(B37:M37) -> 0
A38: Extra Rev | N38: =SUM(B38:M38) -> 0
A39: TOTAL Rev | B39: =SUM(B36:B38) -> 0 | C39: =SUM(C36:C38) -> 0 | D39: =SUM(D36:D38) -> 0 | E39: =SUM(E36:E38) -> 0 | F39: =SUM(F36:F38) -> 0 | G39: =SUM(G36:G38) -> 0 | H39: =SUM(H36:H38) -> 0 | I39: =SUM(I36:I38) -> 0 | ... M39: =SUM(M36:M38) -> 0 | N39: =SUM(B39:M39) -> 0
A40: Av. S. P Gst. | B40: =IF(B39="","",(B39/B32)) -> #DIV/0! | C40: =IF(C39="","",(C39/C32)) -> #DIV/0! | D40: =IF(D39="","",(D39/D32)) -> #DIV/0! | E40: =IF(E39="","",(E39/E32)) -> #DIV/0! | F40: =IF(F39="","",(F39/F32)) -> #DIV/0! | G40: =IF(G39="","",(G39/G32)) -> #DIV/0! | H40: =IF(H39="","",(H39/H32)) -> #DIV/0! | I40: =IF(I39="","",(I39/I32)) -> #DIV/0! | ... N40: =IF(N39="","",(N39/N32)) -> #DIV/0!
B42: Jan | C42: Feb | D42: Mar | E42: Apr | F42: May | G42: Jun | H42: Jul | I42: Aug | J42: Sep | K42: Oct | L42: Nov | M42: Dec | N42: Total
A43: Rm Nights | N43: =SUM(B43:M43) -> 0
A44: Av.R.R. | N44: =N49/N43 -> #DIV/0!
A45: # Of Guests | N45: =SUM(B45:M45) -> 0
A46: DBL Occ. | B46: =IF(B43=0,0,(B45/B43)) -> 0 | C46: =IF(C43=0,0,(C45/C43)) -> 0 | D46: =IF(D43=0,0,(D45/D43)) -> 0 | E46: =IF(E43=0,0,(E45/E43)) -> 0 | F46: =IF(F43=0,0,(F45/F43)) -> 0 | G46: =IF(G43=0,0,(G45/G43)) -> 0 | H46: =IF(H43=0,0,(H45/H43)) -> 0 | I46: =IF(I43=0,0,(I45/I43)) -> 0 | ... N46: =IF(N43=0,0,(N45/N43)) -> 0
A47: Arrivals | N47: =SUM(B47:M47) -> 0
A48: Length of stay | B48: =IF(B47="","",(B43/B47)) | C48: =IF(C47="","",(C43/C47)) | D48: =IF(D47="","",(D43/D47)) | E48: =IF(E47="","",(E43/E47)) | F48: =IF(F47="","",(F43/F47)) | G48: =IF(G47="","",(G43/G47)) | H48: =IF(H47="","",(H43/H47)) | I48: =IF(I47="","",(I43/I47)) | ... N48: =IF(N47="","",(N43/N47)) -> #DIV/0!
A49: Room Rev | B49: =B43*B44 -> 0 | C49: =C43*C44 -> 0 | D49: =D43*D44 -> 0 | E49: =E43*E44 -> 0 | F49: =F43*F44 -> 0 | G49: =G43*G44 -> 0 | H49: =H43*H44 -> 0 | I49: =I43*I44 -> 0 | ... M49: =M43*M44 -> 0 | N49: =SUM(B49:M49) -> 0
A50: F&B Rev | N50: =SUM(B50:M50) -> 0
A51: Extra Rev | N51: =SUM(B51:M51) -> 0
A52: TOTAL Rev | B52: =SUM(B49:B51) -> 0 | C52: =SUM(C49:C51) -> 0 | D52: =SUM(D49:D51) -> 0 | E52: =SUM(E49:E51) -> 0 | F52: =SUM(F49:F51) -> 0 | G52: =SUM(G49:G51) -> 0 | H52: =SUM(H49:H51) -> 0 | I52: =SUM(I49:I51) -> 0 | ... M52: =SUM(M49:M51) -> 0 | N52: =SUM(B52:M52) -> 0
A53: Av. S. P Gst. | B53: =IF(B52="","",(B52/B45)) -> #DIV/0! | C53: =IF(C52="","",(C52/C45)) -> #DIV/0! | D53: =IF(D52="","",(D52/D45)) -> #DIV/0! | E53: =IF(E52="","",(E52/E45)) -> #DIV/0! | F53: =IF(F52="","",(F52/F45)) -> #DIV/0! | G53: =IF(G52="","",(G52/G45)) -> #DIV/0! | H53: =IF(H52="","",(H52/H45)) -> #DIV/0! | I53: =IF(I52="","",(I52/I45)) -> #DIV/0! | ... N53: =IF(N52="","",(N52/N45)) -> #DIV/0!
B55: Jan | C55: Feb | D55: Mar | E55: Apr | F55: May | G55: Jun | H55: Jul | I55: Aug | J55: Sep | K55: Oct | L55: Nov | M55: Dec | N55: Total
A56: Rm Nights | N56: =SUM(B56:M56) -> 0
A57: Av.R.R. | N57: =N62/N56 -> #DIV/0!
A58: # Of Guests | N58: =SUM(B58:M58) -> 0
A59: DBL Occ. | B59: =IF(B56=0,0,(B58/B56)) -> 0 | C59: =IF(C56=0,0,(C58/C56)) -> 0 | D59: =IF(D56=0,0,(D58/D56)) -> 0 | E59: =IF(E56=0,0,(E58/E56)) -> 0 | F59: =IF(F56=0,0,(F58/F56)) -> 0 | G59: =IF(G56=0,0,(G58/G56)) -> 0 | H59: =IF(H56=0,0,(H58/H56)) -> 0 | I59: =IF(I56=0,0,(I58/I56)) -> 0 | ... N59: =IF(N56=0,0,(N58/N56)) -> 0
A60: Arrivals | N60: =SUM(B60:M60) -> 0
A61: Length of stay | B61: =IF(B60="","",(B56/B60)) | C61: =IF(C60="","",(C56/C60)) | D61: =IF(D60="","",(D56/D60)) | E61: =IF(E60="","",(E56/E60)) | F61: =IF(F60="","",(F56/F60)) | G61: =IF(G60="","",(G56/G60)) | H61: =IF(H60="","",(H56/H60)) | I61: =IF(I60="","",(I56/I60)) | ... N61: =IF(N60="","",(N56/N60)) -> #DIV/0!
A62: Room Rev | B62: =B56*B57 -> 0 | C62: =C56*C57 -> 0 | D62: =D56*D57 -> 0 | E62: =E56*E57 -> 0 | F62: =F56*F57 -> 0 | G62: =G56*G57 -> 0 | H62: =H56*H57 -> 0 | I62: =I56*I57 -> 0 | ... M62: =M56*M57 -> 0 | N62: =SUM(B62:M62) -> 0
A63: F&B Rev | N63: =SUM(B63:M63) -> 0
A64: Extra Rev | N64: =SUM(B64:M64) -> 0
A65: TOTAL Rev | B65: =SUM(B62:B64) -> 0 | C65: =SUM(C62:C64) -> 0 | D65: =SUM(D62:D64) -> 0 | E65: =SUM(E62:E64) -> 0 | F65: =SUM(F62:F64) -> 0 | G65: =SUM(G62:G64) -> 0 | H65: =SUM(H62:H64) -> 0 | I65: =SUM(I62:I64) -> 0 | ... M65: =SUM(M62:M64) -> 0 | N65: =SUM(B65:M65) -> 0
A66: Av. S. P Gst. | B66: =IF(B65="","",(B65/B58)) -> #DIV/0! | C66: =IF(C65="","",(C65/C58)) -> #DIV/0! | D66: =IF(D65="","",(D65/D58)) -> #DIV/0! | E66: =IF(E65="","",(E65/E58)) -> #DIV/0! | F66: =IF(F65="","",(F65/F58)) -> #DIV/0! | G66: =IF(G65="","",(G65/G58)) -> #DIV/0! | H66: =IF(H65="","",(H65/H58)) -> #DIV/0! | I66: =IF(I65="","",(I65/I58)) -> #DIV/0! | ... N66: =IF(N65="","",(N65/N58)) -> #DIV/0!
B68: Jan | C68: Feb | D68: Mar | E68: Apr | F68: May | G68: Jun | H68: Jul | I68: Aug | J68: Sep | K68: Oct | L68: Nov | M68: Dec | N68: Total
A69: Rm Nights | N69: =SUM(B69:M69) -> 0
A70: Av.R.R. | N70: =N75/N69 -> #DIV/0!
A71: # Of Guests | N71: =SUM(B71:M71) -> 0
A72: DBL Occ. | B72: =IF(B69=0,0,(B71/B69)) -> 0 | C72: =IF(C69=0,0,(C71/C69)) -> 0 | D72: =IF(D69=0,0,(D71/D69)) -> 0 | E72: =IF(E69=0,0,(E71/E69)) -> 0 | F72: =IF(F69=0,0,(F71/F69)) -> 0 | G72: =IF(G69=0,0,(G71/G69)) -> 0 | H72: =IF(H69=0,0,(H71/H69)) -> 0 | I72: =IF(I69=0,0,(I71/I69)) -> 0 | ... N72: =IF(N69=0,0,(N71/N69)) -> 0
A73: Arrivals | N73: =SUM(B73:M73) -> 0
A74: Length of stay | B74: =IF(B73="","",(B69/B73)) | C74: =IF(C73="","",(C69/C73)) | D74: =IF(D73="","",(D69/D73)) | E74: =IF(E73="","",(E69/E73)) | F74: =IF(F73="","",(F69/F73)) | G74: =IF(G73="","",(G69/G73)) | H74: =IF(H73="","",(H69/H73)) | I74: =IF(I73="","",(I69/I73)) | ... N74: =IF(N73="","",(N69/N73)) -> #DIV/0!
A75: Room Rev | B75: =B69*B70 -> 0 | C75: =C69*C70 -> 0 | D75: =D69*D70 -> 0 | E75: =E69*E70 -> 0 | F75: =F69*F70 -> 0 | G75: =G69*G70 -> 0 | H75: =H69*H70 -> 0 | I75: =I69*I70 -> 0 | ... M75: =M69*M70 -> 0 | N75: =SUM(B75:M75) -> 0
A76: F&B Rev | N76: =SUM(B76:M76) -> 0
A77: Extra Rev | N77: =SUM(B77:M77) -> 0
A78: TOTAL Rev | B78: =SUM(B75:B77) -> 0 | C78: =SUM(C75:C77) -> 0 | D78: =SUM(D75:D77) -> 0 | E78: =SUM(E75:E77) -> 0 | F78: =SUM(F75:F77) -> 0 | G78: =SUM(G75:G77) -> 0 | H78: =SUM(H75:H77) -> 0 | I78: =SUM(I75:I77) -> 0 | ... M78: =SUM(M75:M77) -> 0 | N78: =SUM(B78:M78) -> 0
A79: Av. S. P Gst. | B79: =IF(B78="","",(B78/B71)) -> #DIV/0! | C79: =IF(C78="","",(C78/C71)) -> #DIV/0! | D79: =IF(D78="","",(D78/D71)) -> #DIV/0! | E79: =IF(E78="","",(E78/E71)) -> #DIV/0! | F79: =IF(F78="","",(F78/F71)) -> #DIV/0! | G79: =IF(G78="","",(G78/G71)) -> #DIV/0! | H79: =IF(H78="","",(H78/H71)) -> #DIV/0! | I79: =IF(I78="","",(I78/I71)) -> #DIV/0! | ... N79: =IF(N78="","",(N78/N71)) -> #DIV/0!
B81: Jan | C81: Feb | D81: Mar | E81: Apr | F81: May | G81: Jun | H81: Jul | I81: Aug | J81: Sep | K81: Oct | L81: Nov | M81: Dec | N81: Total
A82: Rm Nights | N82: =SUM(B82:M82) -> 0
A83: Av.R.R. | N83: =N88/N82 -> #DIV/0!
A84: # Of Guests | N84: =SUM(B84:M84) -> 0
A85: DBL Occ. | B85: =IF(B82=0,0,(B84/B82)) -> 0 | C85: =IF(C82=0,0,(C84/C82)) -> 0 | D85: =IF(D82=0,0,(D84/D82)) -> 0 | E85: =IF(E82=0,0,(E84/E82)) -> 0 | F85: =IF(F82=0,0,(F84/F82)) -> 0 | G85: =IF(G82=0,0,(G84/G82)) -> 0 | H85: =IF(H82=0,0,(H84/H82)) -> 0 | I85: =IF(I82=0,0,(I84/I82)) -> 0 | ... N85: =IF(N82=0,0,(N84/N82)) -> 0
A86: Arrivals | N86: =SUM(B86:M86) -> 0
A87: Length of stay | B87: =IF(B86="","",(B82/B86)) | C87: =IF(C86="","",(C82/C86)) | D87: =IF(D86="","",(D82/D86)) | E87: =IF(E86="","",(E82/E86)) | F87: =IF(F86="","",(F82/F86)) | G87: =IF(G86="","",(G82/G86)) | H87: =IF(H86="","",(H82/H86)) | I87: =IF(I86="","",(I82/I86)) | ... N87: =IF(N86="","",(N82/N86)) -> #DIV/0!
A88: Room Rev | B88: =B82*B83 -> 0 | C88: =C82*C83 -> 0 | D88: =D82*D83 -> 0 | E88: =E82*E83 -> 0 | F88: =F82*F83 -> 0 | G88: =G82*G83 -> 0 | H88: =H82*H83 -> 0 | I88: =I82*I83 -> 0 | ... M88: =M82*M83 -> 0 | N88: =SUM(B88:M88) -> 0
A89: F&B Rev | N89: =SUM(B89:M89) -> 0
A90: Extra Rev | N90: =SUM(B90:M90) -> 0
A91: TOTAL Rev | B91: =SUM(B88:B90) -> 0 | C91: =SUM(C88:C90) -> 0 | D91: =SUM(D88:D90) -> 0 | E91: =SUM(E88:E90) -> 0 | F91: =SUM(F88:F90) -> 0 | G91: =SUM(G88:G90) -> 0 | H91: =SUM(H88:H90) -> 0 | I91: =SUM(I88:I90) -> 0 | ... M91: =SUM(M88:M90) -> 0 | N91: =SUM(B91:M91) -> 0
A92: Av. S. P Gst. | B92: =IF(B91="","",(B91/B84)) -> #DIV/0! | C92: =IF(C91="","",(C91/C84)) -> #DIV/0! | D92: =IF(D91="","",(D91/D84)) -> #DIV/0! | E92: =IF(E91="","",(E91/E84)) -> #DIV/0! | F92: =IF(F91="","",(F91/F84)) -> #DIV/0! | G92: =IF(G91="","",(G91/G84)) -> #DIV/0! | H92: =IF(H91="","",(H91/H84)) -> #DIV/0! | I92: =IF(I91="","",(I91/I84)) -> #DIV/0! | ... N92: =IF(N91="","",(N91/N84)) -> #DIV/0!
B94: Jan | C94: Feb | D94: Mar | E94: Apr | F94: May | G94: Jun | H94: Jul | I94: Aug | J94: Sep | K94: Oct | L94: Nov | M94: Dec | N94: Total
A95: Rm Nights | N95: =SUM(B95:M95) -> 0
A96: Av.R.R. | N96: =N101/N95 -> #DIV/0!
A97: # Of Guests | N97: =SUM(B97:M97) -> 0
A98: DBL Occ. | B98: =IF(B95=0,0,(B97/B95)) -> 0 | C98: =IF(C95=0,0,(C97/C95)) -> 0 | D98: =IF(D95=0,0,(D97/D95)) -> 0 | E98: =IF(E95=0,0,(E97/E95)) -> 0 | F98: =IF(F95=0,0,(F97/F95)) -> 0 | G98: =IF(G95=0,0,(G97/G95)) -> 0 | H98: =IF(H95=0,0,(H97/H95)) -> 0 | I98: =IF(I95=0,0,(I97/I95)) -> 0 | ... N98: =IF(N95=0,0,(N97/N95)) -> 0
A99: Arrivals | N99: =SUM(B99:M99) -> 0
A100: Length of stay | B100: =IF(B99="","",(B95/B99)) | C100: =IF(C99="","",(C95/C99)) | D100: =IF(D99="","",(D95/D99)) | E100: =IF(E99="","",(E95/E99)) | F100: =IF(F99="","",(F95/F99)) | G100: =IF(G99="","",(G95/G99)) | H100: =IF(H99="","",(H95/H99)) | I100: =IF(I99="","",(I95/I99)) | ... N100: =IF(N99="","",(N95/N99)) -> #DIV/0!
A101: Room Rev | B101: =B95*B96 -> 0 | C101: =C95*C96 -> 0 | D101: =D95*D96 -> 0 | E101: =E95*E96 -> 0 | F101: =F95*F96 -> 0 | G101: =G95*G96 -> 0 | H101: =H95*H96 -> 0 | I101: =I95*I96 -> 0 | ... M101: =M95*M96 -> 0 | N101: =SUM(B101:M101) -> 0
A102: F&B Rev | N102: =SUM(B102:M102) -> 0
A103: Extra Rev | N103: =SUM(B103:M103) -> 0
A104: TOTAL Rev | B104: =SUM(B101:B103) -> 0 | C104: =SUM(C101:C103) -> 0 | D104: =SUM(D101:D103) -> 0 | E104: =SUM(E101:E103) -> 0 | F104: =SUM(F101:F103) -> 0 | G104: =SUM(G101:G103) -> 0 | H104: =SUM(H101:H103) -> 0 | I104: =SUM(I101:I103) -> 0 | ... M104: =SUM(M101:M103) -> 0 | N104: =SUM(B104:M104) -> 0
A105: Av. S. P Gst. | B105: =IF(B104="","",(B104/B97)) -> #DIV/0! | C105: =IF(C104="","",(C104/C97)) -> #DIV/0! | D105: =IF(D104="","",(D104/D97)) -> #DIV/0! | E105: =IF(E104="","",(E104/E97)) -> #DIV/0! | F105: =IF(F104="","",(F104/F97)) -> #DIV/0! | G105: =IF(G104="","",(G104/G97)) -> #DIV/0! | H105: =IF(H104="","",(H104/H97)) -> #DIV/0! | I105: =IF(I104="","",(I104/I97)) -> #DIV/0! | ... N105: =IF(N104="","",(N104/N97)) -> #DIV/0!
B107: Jan | C107: Feb | D107: Mar | E107: Apr | F107: May | G107: Jun | H107: Jul | I107: Aug | J107: Sep | K107: Oct | L107: Nov | M107: Dec | N107: Total
A108: Rm Nights | N108: =SUM(B108:M108) -> 0
A109: Av.R.R. | N109: =N114/N108 -> #DIV/0!
...

Sheet Dec
A1: =Jan!A1 -> TOP 20 Producers
B3: Jan | C3: Feb | D3: Mar | E3: Apr | F3: May | G3: Jun | H3: Jul | I3: Aug | J3: Sep | K3: Oct | L3: Nov | M3: Dec | N3: Total
A4: Rm Nights | N4: =SUM(B4:M4) -> 0
A5: Av.R.R. | N5: =N10/N4 -> #DIV/0!
A6: # Of Guests | N6: =SUM(B6:M6) -> 0
A7: DBL Occ. | B7: =IF(B4=0,0,(B6/B4)) -> 0 | C7: =IF(C4=0,0,(C6/C4)) -> 0 | D7: =IF(D4=0,0,(D6/D4)) -> 0 | E7: =IF(E4=0,0,(E6/E4)) -> 0 | F7: =IF(F4=0,0,(F6/F4)) -> 0 | G7: =IF(G4=0,0,(G6/G4)) -> 0 | H7: =IF(H4=0,0,(H6/H4)) -> 0 | I7: =IF(I4=0,0,(I6/I4)) -> 0 | ... N7: =IF(N4=0,0,(N6/N4)) -> 0
A8: Arrivals | N8: =SUM(B8:M8) -> 0
A9: Length of stay | B9: =IF(B8="","",(B4/B8)) | C9: =IF(C8="","",(C4/C8)) | D9: =IF(D8="","",(D4/D8)) | E9: =IF(E8="","",(E4/E8)) | F9: =IF(F8="","",(F4/F8)) | G9: =IF(G8="","",(G4/G8)) | H9: =IF(H8="","",(H4/H8)) | I9: =IF(I8="","",(I4/I8)) | ... N9: =IF(N8="","",(N4/N8)) -> #DIV/0!
A10: Room Rev | B10: =B4*B5 -> 0 | C10: =C4*C5 -> 0 | D10: =D4*D5 -> 0 | E10: =E4*E5 -> 0 | F10: =F4*F5 -> 0 | G10: =G4*G5 -> 0 | H10: =H4*H5 -> 0 | I10: =I4*I5 -> 0 | ... M10: =M4*M5 -> 0 | N10: =SUM(B10:M10) -> 0
A11: F&B Rev | N11: =SUM(B11:M11) -> 0
A12: Extra Rev | N12: =SUM(B12:M12) -> 0
A13: TOTAL Rev | B13: =SUM(B10:B12) -> 0 | C13: =SUM(C10:C12) -> 0 | D13: =SUM(D10:D12) -> 0 | E13: =SUM(E10:E12) -> 0 | F13: =SUM(F10:F12) -> 0 | G13: =SUM(G10:G12) -> 0 | H13: =SUM(H10:H12) -> 0 | I13: =SUM(I10:I12) -> 0 | ... M13: =SUM(M10:M12) -> 0 | N13: =SUM(B13:M13) -> 0
A14: Av. S. P Gst. | B14: =IF(B13="","",(B13/B6)) -> #DIV/0! | C14: =IF(C13="","",(C13/C6)) -> #DIV/0! | D14: =IF(D13="","",(D13/D6)) -> #DIV/0! | E14: =IF(E13="","",(E13/E6)) -> #DIV/0! | F14: =IF(F13="","",(F13/F6)) -> #DIV/0! | G14: =IF(G13="","",(G13/G6)) -> #DIV/0! | H14: =IF(H13="","",(H13/H6)) -> #DIV/0! | I14: =IF(I13="","",(I13/I6)) -> #DIV/0! | ... N14: =IF(N13="","",(N13/N6)) -> #DIV/0!
B16: Jan | C16: Feb | D16: Mar | E16: Apr | F16: May | G16: Jun | H16: Jul | I16: Aug | J16: Sep | K16: Oct | L16: Nov | M16: Dec | N16: Total
A17: Rm Nights | N17: =SUM(B17:M17) -> 0
A18: Av.R.R. | N18: =N23/N17 -> #DIV/0!
A19: # Of Guests | N19: =SUM(B19:M19) -> 0
A20: DBL Occ. | B20: =IF(B17=0,0,(B19/B17)) -> 0 | C20: =IF(C17=0,0,(C19/C17)) -> 0 | D20: =IF(D17=0,0,(D19/D17)) -> 0 | E20: =IF(E17=0,0,(E19/E17)) -> 0 | F20: =IF(F17=0,0,(F19/F17)) -> 0 | G20: =IF(G17=0,0,(G19/G17)) -> 0 | H20: =IF(H17=0,0,(H19/H17)) -> 0 | I20: =IF(I17=0,0,(I19/I17)) -> 0 | ... N20: =IF(N17=0,0,(N19/N17)) -> 0
A21: Arrivals | N21: =SUM(B21:M21) -> 0
A22: Length of stay | B22: =IF(B21="","",(B17/B21)) | C22: =IF(C21="","",(C17/C21)) | D22: =IF(D21="","",(D17/D21)) | E22: =IF(E21="","",(E17/E21)) | F22: =IF(F21="","",(F17/F21)) | G22: =IF(G21="","",(G17/G21)) | H22: =IF(H21="","",(H17/H21)) | I22: =IF(I21="","",(I17/I21)) | ... N22: =IF(N21="","",(N17/N21)) -> #DIV/0!
A23: Room Rev | B23: =B17*B18 -> 0 | C23: =C17*C18 -> 0 | D23: =D17*D18 -> 0 | E23: =E17*E18 -> 0 | F23: =F17*F18 -> 0 | G23: =G17*G18 -> 0 | H23: =H17*H18 -> 0 | I23: =I17*I18 -> 0 | ... M23: =M17*M18 -> 0 | N23: =SUM(B23:M23) -> 0
A24: F&B Rev | N24: =SUM(B24:M24) -> 0
A25: Extra Rev | N25: =SUM(B25:M25) -> 0
A26: TOTAL Rev | B26: =SUM(B23:B25) -> 0 | C26: =SUM(C23:C25) -> 0 | D26: =SUM(D23:D25) -> 0 | E26: =SUM(E23:E25) -> 0 | F26: =SUM(F23:F25) -> 0 | G26: =SUM(G23:G25) -> 0 | H26: =SUM(H23:H25) -> 0 | I26: =SUM(I23:I25) -> 0 | ... M26: =SUM(M23:M25) -> 0 | N26: =SUM(B26:M26) -> 0
A27: Av. S. P Gst. | B27: =IF(B26="","",(B26/B19)) -> #DIV/0! | C27: =IF(C26="","",(C26/C19)) -> #DIV/0! | D27: =IF(D26="","",(D26/D19)) -> #DIV/0! | E27: =IF(E26="","",(E26/E19)) -> #DIV/0! | F27: =IF(F26="","",(F26/F19)) -> #DIV/0! | G27: =IF(G26="","",(G26/G19)) -> #DIV/0! | H27: =IF(H26="","",(H26/H19)) -> #DIV/0! | I27: =IF(I26="","",(I26/I19)) -> #DIV/0! | ... N27: =IF(N26="","",(N26/N19)) -> #DIV/0!
B29: Jan | C29: Feb | D29: Mar | E29: Apr | F29: May | G29: Jun | H29: Jul | I29: Aug | J29: Sep | K29: Oct | L29: Nov | M29: Dec | N29: Total
A30: Rm Nights | N30: =SUM(B30:M30) -> 0
A31: Av.R.R. | N31: =N36/N30 -> #DIV/0!
A32: # Of Guests | N32: =SUM(B32:M32) -> 0
A33: DBL Occ. | B33: =IF(B30=0,0,(B32/B30)) -> 0 | C33: =IF(C30=0,0,(C32/C30)) -> 0 | D33: =IF(D30=0,0,(D32/D30)) -> 0 | E33: =IF(E30=0,0,(E32/E30)) -> 0 | F33: =IF(F30=0,0,(F32/F30)) -> 0 | G33: =IF(G30=0,0,(G32/G30)) -> 0 | H33: =IF(H30=0,0,(H32/H30)) -> 0 | I33: =IF(I30=0,0,(I32/I30)) -> 0 | ... N33: =IF(N30=0,0,(N32/N30)) -> 0
A34: Arrivals | N34: =SUM(B34:M34) -> 0
A35: Length of stay | B35: =IF(B34="","",(B30/B34)) | C35: =IF(C34="","",(C30/C34)) | D35: =IF(D34="","",(D30/D34)) | E35: =IF(E34="","",(E30/E34)) | F35: =IF(F34="","",(F30/F34)) | G35: =IF(G34="","",(G30/G34)) | H35: =IF(H34="","",(H30/H34)) | I35: =IF(I34="","",(I30/I34)) | ... N35: =IF(N34="","",(N30/N34)) -> #DIV/0!
A36: Room Rev | B36: =B30*B31 -> 0 | C36: =C30*C31 -> 0 | D36: =D30*D31 -> 0 | E36: =E30*E31 -> 0 | F36: =F30*F31 -> 0 | G36: =G30*G31 -> 0 | H36: =H30*H31 -> 0 | I36: =I30*I31 -> 0 | ... M36: =M30*M31 -> 0 | N36: =SUM(B36:M36) -> 0
A37: F&B Rev | N37: =SUM(B37:M37) -> 0
A38: Extra Rev | N38: =SUM(B38:M38) -> 0
A39: TOTAL Rev | B39: =SUM(B36:B38) -> 0 | C39: =SUM(C36:C38) -> 0 | D39: =SUM(D36:D38) -> 0 | E39: =SUM(E36:E38) -> 0 | F39: =SUM(F36:F38) -> 0 | G39: =SUM(G36:G38) -> 0 | H39: =SUM(H36:H38) -> 0 | I39: =SUM(I36:I38) -> 0 | ... M39: =SUM(M36:M38) -> 0 | N39: =SUM(B39:M39) -> 0
A40: Av. S. P Gst. | B40: =IF(B39="","",(B39/B32)) -> #DIV/0! | C40: =IF(C39="","",(C39/C32)) -> #DIV/0! | D40: =IF(D39="","",(D39/D32)) -> #DIV/0! | E40: =IF(E39="","",(E39/E32)) -> #DIV/0! | F40: =IF(F39="","",(F39/F32)) -> #DIV/0! | G40: =IF(G39="","",(G39/G32)) -> #DIV/0! | H40: =IF(H39="","",(H39/H32)) -> #DIV/0! | I40: =IF(I39="","",(I39/I32)) -> #DIV/0! | ... N40: =IF(N39="","",(N39/N32)) -> #DIV/0!
B42: Jan | C42: Feb | D42: Mar | E42: Apr | F42: May | G42: Jun | H42: Jul | I42: Aug | J42: Sep | K42: Oct | L42: Nov | M42: Dec | N42: Total
A43: Rm Nights | N43: =SUM(B43:M43) -> 0
A44: Av.R.R. | N44: =N49/N43 -> #DIV/0!
A45: # Of Guests | N45: =SUM(B45:M45) -> 0
A46: DBL Occ. | B46: =IF(B43=0,0,(B45/B43)) -> 0 | C46: =IF(C43=0,0,(C45/C43)) -> 0 | D46: =IF(D43=0,0,(D45/D43)) -> 0 | E46: =IF(E43=0,0,(E45/E43)) -> 0 | F46: =IF(F43=0,0,(F45/F43)) -> 0 | G46: =IF(G43=0,0,(G45/G43)) -> 0 | H46: =IF(H43=0,0,(H45/H43)) -> 0 | I46: =IF(I43=0,0,(I45/I43)) -> 0 | ... N46: =IF(N43=0,0,(N45/N43)) -> 0
A47: Arrivals | N47: =SUM(B47:M47) -> 0
A48: Length of stay | B48: =IF(B47="","",(B43/B47)) | C48: =IF(C47="","",(C43/C47)) | D48: =IF(D47="","",(D43/D47)) | E48: =IF(E47="","",(E43/E47)) | F48: =IF(F47="","",(F43/F47)) | G48: =IF(G47="","",(G43/G47)) | H48: =IF(H47="","",(H43/H47)) | I48: =IF(I47="","",(I43/I47)) | ... N48: =IF(N47="","",(N43/N47)) -> #DIV/0!
A49: Room Rev | B49: =B43*B44 -> 0 | C49: =C43*C44 -> 0 | D49: =D43*D44 -> 0 | E49: =E43*E44 -> 0 | F49: =F43*F44 -> 0 | G49: =G43*G44 -> 0 | H49: =H43*H44 -> 0 | I49: =I43*I44 -> 0 | ... M49: =M43*M44 -> 0 | N49: =SUM(B49:M49) -> 0
A50: F&B Rev | N50: =SUM(B50:M50) -> 0
A51: Extra Rev | N51: =SUM(B51:M51) -> 0
A52: TOTAL Rev | B52: =SUM(B49:B51) -> 0 | C52: =SUM(C49:C51) -> 0 | D52: =SUM(D49:D51) -> 0 | E52: =SUM(E49:E51) -> 0 | F52: =SUM(F49:F51) -> 0 | G52: =SUM(G49:G51) -> 0 | H52: =SUM(H49:H51) -> 0 | I52: =SUM(I49:I51) -> 0 | ... M52: =SUM(M49:M51) -> 0 | N52: =SUM(B52:M52) -> 0
A53: Av. S. P Gst. | B53: =IF(B52="","",(B52/B45)) -> #DIV/0! | C53: =IF(C52="","",(C52/C45)) -> #DIV/0! | D53: =IF(D52="","",(D52/D45)) -> #DIV/0! | E53: =IF(E52="","",(E52/E45)) -> #DIV/0! | F53: =IF(F52="","",(F52/F45)) -> #DIV/0! | G53: =IF(G52="","",(G52/G45)) -> #DIV/0! | H53: =IF(H52="","",(H52/H45)) -> #DIV/0! | I53: =IF(I52="","",(I52/I45)) -> #DIV/0! | ... N53: =IF(N52="","",(N52/N45)) -> #DIV/0!
B55: Jan | C55: Feb | D55: Mar | E55: Apr | F55: May | G55: Jun | H55: Jul | I55: Aug | J55: Sep | K55: Oct | L55: Nov | M55: Dec | N55: Total
A56: Rm Nights | N56: =SUM(B56:M56) -> 0
A57: Av.R.R. | N57: =N62/N56 -> #DIV/0!
A58: # Of Guests | N58: =SUM(B58:M58) -> 0
A59: DBL Occ. | B59: =IF(B56=0,0,(B58/B56)) -> 0 | C59: =IF(C56=0,0,(C58/C56)) -> 0 | D59: =IF(D56=0,0,(D58/D56)) -> 0 | E59: =IF(E56=0,0,(E58/E56)) -> 0 | F59: =IF(F56=0,0,(F58/F56)) -> 0 | G59: =IF(G56=0,0,(G58/G56)) -> 0 | H59: =IF(H56=0,0,(H58/H56)) -> 0 | I59: =IF(I56=0,0,(I58/I56)) -> 0 | ... N59: =IF(N56=0,0,(N58/N56)) -> 0
A60: Arrivals | N60: =SUM(B60:M60) -> 0
A61: Length of stay | B61: =IF(B60="","",(B56/B60)) | C61: =IF(C60="","",(C56/C60)) | D61: =IF(D60="","",(D56/D60)) | E61: =IF(E60="","",(E56/E60)) | F61: =IF(F60="","",(F56/F60)) | G61: =IF(G60="","",(G56/G60)) | H61: =IF(H60="","",(H56/H60)) | I61: =IF(I60="","",(I56/I60)) | ... N61: =IF(N60="","",(N56/N60)) -> #DIV/0!
A62: Room Rev | B62: =B56*B57 -> 0 | C62: =C56*C57 -> 0 | D62: =D56*D57 -> 0 | E62: =E56*E57 -> 0 | F62: =F56*F57 -> 0 | G62: =G56*G57 -> 0 | H62: =H56*H57 -> 0 | I62: =I56*I57 -> 0 | ... M62: =M56*M57 -> 0 | N62: =SUM(B62:M62) -> 0
A63: F&B Rev | N63: =SUM(B63:M63) -> 0
A64: Extra Rev | N64: =SUM(B64:M64) -> 0
A65: TOTAL Rev | B65: =SUM(B62:B64) -> 0 | C65: =SUM(C62:C64) -> 0 | D65: =SUM(D62:D64) -> 0 | E65: =SUM(E62:E64) -> 0 | F65: =SUM(F62:F64) -> 0 | G65: =SUM(G62:G64) -> 0 | H65: =SUM(H62:H64) -> 0 | I65: =SUM(I62:I64) -> 0 | ... M65: =SUM(M62:M64) -> 0 | N65: =SUM(B65:M65) -> 0
A66: Av. S. P Gst. | B66: =IF(B65="","",(B65/B58)) -> #DIV/0! | C66: =IF(C65="","",(C65/C58)) -> #DIV/0! | D66: =IF(D65="","",(D65/D58)) -> #DIV/0! | E66: =IF(E65="","",(E65/E58)) -> #DIV/0! | F66: =IF(F65="","",(F65/F58)) -> #DIV/0! | G66: =IF(G65="","",(G65/G58)) -> #DIV/0! | H66: =IF(H65="","",(H65/H58)) -> #DIV/0! | I66: =IF(I65="","",(I65/I58)) -> #DIV/0! | ... N66: =IF(N65="","",(N65/N58)) -> #DIV/0!
B68: Jan | C68: Feb | D68: Mar | E68: Apr | F68: May | G68: Jun | H68: Jul | I68: Aug | J68: Sep | K68: Oct | L68: Nov | M68: Dec | N68: Total
A69: Rm Nights | N69: =SUM(B69:M69) -> 0
A70: Av.R.R. | N70: =N75/N69 -> #DIV/0!
A71: # Of Guests | N71: =SUM(B71:M71) -> 0
A72: DBL Occ. | B72: =IF(B69=0,0,(B71/B69)) -> 0 | C72: =IF(C69=0,0,(C71/C69)) -> 0 | D72: =IF(D69=0,0,(D71/D69)) -> 0 | E72: =IF(E69=0,0,(E71/E69)) -> 0 | F72: =IF(F69=0,0,(F71/F69)) -> 0 | G72: =IF(G69=0,0,(G71/G69)) -> 0 | H72: =IF(H69=0,0,(H71/H69)) -> 0 | I72: =IF(I69=0,0,(I71/I69)) -> 0 | ... N72: =IF(N69=0,0,(N71/N69)) -> 0
A73: Arrivals | N73: =SUM(B73:M73) -> 0
A74: Length of stay | B74: =IF(B73="","",(B69/B73)) | C74: =IF(C73="","",(C69/C73)) | D74: =IF(D73="","",(D69/D73)) | E74: =IF(E73="","",(E69/E73)) | F74: =IF(F73="","",(F69/F73)) | G74: =IF(G73="","",(G69/G73)) | H74: =IF(H73="","",(H69/H73)) | I74: =IF(I73="","",(I69/I73)) | ... N74: =IF(N73="","",(N69/N73)) -> #DIV/0!
A75: Room Rev | B75: =B69*B70 -> 0 | C75: =C69*C70 -> 0 | D75: =D69*D70 -> 0 | E75: =E69*E70 -> 0 | F75: =F69*F70 -> 0 | G75: =G69*G70 -> 0 | H75: =H69*H70 -> 0 | I75: =I69*I70 -> 0 | ... M75: =M69*M70 -> 0 | N75: =SUM(B75:M75) -> 0
A76: F&B Rev | N76: =SUM(B76:M76) -> 0
A77: Extra Rev | N77: =SUM(B77:M77) -> 0
A78: TOTAL Rev | B78: =SUM(B75:B77) -> 0 | C78: =SUM(C75:C77) -> 0 | D78: =SUM(D75:D77) -> 0 | E78: =SUM(E75:E77) -> 0 | F78: =SUM(F75:F77) -> 0 | G78: =SUM(G75:G77) -> 0 | H78: =SUM(H75:H77) -> 0 | I78: =SUM(I75:I77) -> 0 | ... M78: =SUM(M75:M77) -> 0 | N78: =SUM(B78:M78) -> 0
A79: Av. S. P Gst. | B79: =IF(B78="","",(B78/B71)) -> #DIV/0! | C79: =IF(C78="","",(C78/C71)) -> #DIV/0! | D79: =IF(D78="","",(D78/D71)) -> #DIV/0! | E79: =IF(E78="","",(E78/E71)) -> #DIV/0! | F79: =IF(F78="","",(F78/F71)) -> #DIV/0! | G79: =IF(G78="","",(G78/G71)) -> #DIV/0! | H79: =IF(H78="","",(H78/H71)) -> #DIV/0! | I79: =IF(I78="","",(I78/I71)) -> #DIV/0! | ... N79: =IF(N78="","",(N78/N71)) -> #DIV/0!
B81: Jan | C81: Feb | D81: Mar | E81: Apr | F81: May | G81: Jun | H81: Jul | I81: Aug | J81: Sep | K81: Oct | L81: Nov | M81: Dec | N81: Total
A82: Rm Nights | N82: =SUM(B82:M82) -> 0
A83: Av.R.R. | N83: =N88/N82 -> #DIV/0!
A84: # Of Guests | N84: =SUM(B84:M84) -> 0
A85: DBL Occ. | B85: =IF(B82=0,0,(B84/B82)) -> 0 | C85: =IF(C82=0,0,(C84/C82)) -> 0 | D85: =IF(D82=0,0,(D84/D82)) -> 0 | E85: =IF(E82=0,0,(E84/E82)) -> 0 | F85: =IF(F82=0,0,(F84/F82)) -> 0 | G85: =IF(G82=0,0,(G84/G82)) -> 0 | H85: =IF(H82=0,0,(H84/H82)) -> 0 | I85: =IF(I82=0,0,(I84/I82)) -> 0 | ... N85: =IF(N82=0,0,(N84/N82)) -> 0
A86: Arrivals | N86: =SUM(B86:M86) -> 0
A87: Length of stay | B87: =IF(B86="","",(B82/B86)) | C87: =IF(C86="","",(C82/C86)) | D87: =IF(D86="","",(D82/D86)) | E87: =IF(E86="","",(E82/E86)) | F87: =IF(F86="","",(F82/F86)) | G87: =IF(G86="","",(G82/G86)) | H87: =IF(H86="","",(H82/H86)) | I87: =IF(I86="","",(I82/I86)) | ... N87: =IF(N86="","",(N82/N86)) -> #DIV/0!
A88: Room Rev | B88: =B82*B83 -> 0 | C88: =C82*C83 -> 0 | D88: =D82*D83 -> 0 | E88: =E82*E83 -> 0 | F88: =F82*F83 -> 0 | G88: =G82*G83 -> 0 | H88: =H82*H83 -> 0 | I88: =I82*I83 -> 0 | ... M88: =M82*M83 -> 0 | N88: =SUM(B88:M88) -> 0
A89: F&B Rev | N89: =SUM(B89:M89) -> 0
A90: Extra Rev | N90: =SUM(B90:M90) -> 0
A91: TOTAL Rev | B91: =SUM(B88:B90) -> 0 | C91: =SUM(C88:C90) -> 0 | D91: =SUM(D88:D90) -> 0 | E91: =SUM(E88:E90) -> 0 | F91: =SUM(F88:F90) -> 0 | G91: =SUM(G88:G90) -> 0 | H91: =SUM(H88:H90) -> 0 | I91: =SUM(I88:I90) -> 0 | ... M91: =SUM(M88:M90) -> 0 | N91: =SUM(B91:M91) -> 0
A92: Av. S. P Gst. | B92: =IF(B91="","",(B91/B84)) -> #DIV/0! | C92: =IF(C91="","",(C91/C84)) -> #DIV/0! | D92: =IF(D91="","",(D91/D84)) -> #DIV/0! | E92: =IF(E91="","",(E91/E84)) -> #DIV/0! | F92: =IF(F91="","",(F91/F84)) -> #DIV/0! | G92: =IF(G91="","",(G91/G84)) -> #DIV/0! | H92: =IF(H91="","",(H91/H84)) -> #DIV/0! | I92: =IF(I91="","",(I91/I84)) -> #DIV/0! | ... N92: =IF(N91="","",(N91/N84)) -> #DIV/0!
B94: Jan | C94: Feb | D94: Mar | E94: Apr | F94: May | G94: Jun | H94: Jul | I94: Aug | J94: Sep | K94: Oct | L94: Nov | M94: Dec | N94: Total
A95: Rm Nights | N95: =SUM(B95:M95) -> 0
A96: Av.R.R. | N96: =N101/N95 -> #DIV/0!
A97: # Of Guests | N97: =SUM(B97:M97) -> 0
A98: DBL Occ. | B98: =IF(B95=0,0,(B97/B95)) -> 0 | C98: =IF(C95=0,0,(C97/C95)) -> 0 | D98: =IF(D95=0,0,(D97/D95)) -> 0 | E98: =IF(E95=0,0,(E97/E95)) -> 0 | F98: =IF(F95=0,0,(F97/F95)) -> 0 | G98: =IF(G95=0,0,(G97/G95)) -> 0 | H98: =IF(H95=0,0,(H97/H95)) -> 0 | I98: =IF(I95=0,0,(I97/I95)) -> 0 | ... N98: =IF(N95=0,0,(N97/N95)) -> 0
A99: Arrivals | N99: =SUM(B99:M99) -> 0
A100: Length of stay | B100: =IF(B99="","",(B95/B99)) | C100: =IF(C99="","",(C95/C99)) | D100: =IF(D99="","",(D95/D99)) | E100: =IF(E99="","",(E95/E99)) | F100: =IF(F99="","",(F95/F99)) | G100: =IF(G99="","",(G95/G99)) | H100: =IF(H99="","",(H95/H99)) | I100: =IF(I99="","",(I95/I99)) | ... N100: =IF(N99="","",(N95/N99)) -> #DIV/0!
A101: Room Rev | B101: =B95*B96 -> 0 | C101: =C95*C96 -> 0 | D101: =D95*D96 -> 0 | E101: =E95*E96 -> 0 | F101: =F95*F96 -> 0 | G101: =G95*G96 -> 0 | H101: =H95*H96 -> 0 | I101: =I95*I96 -> 0 | ... M101: =M95*M96 -> 0 | N101: =SUM(B101:M101) -> 0
A102: F&B Rev | N102: =SUM(B102:M102) -> 0
A103: Extra Rev | N103: =SUM(B103:M103) -> 0
A104: TOTAL Rev | B104: =SUM(B101:B103) -> 0 | C104: =SUM(C101:C103) -> 0 | D104: =SUM(D101:D103) -> 0 | E104: =SUM(E101:E103) -> 0 | F104: =SUM(F101:F103) -> 0 | G104: =SUM(G101:G103) -> 0 | H104: =SUM(H101:H103) -> 0 | I104: =SUM(I101:I103) -> 0 | ... M104: =SUM(M101:M103) -> 0 | N104: =SUM(B104:M104) -> 0
A105: Av. S. P Gst. | B105: =IF(B104="","",(B104/B97)) -> #DIV/0! | C105: =IF(C104="","",(C104/C97)) -> #DIV/0! | D105: =IF(D104="","",(D104/D97)) -> #DIV/0! | E105: =IF(E104="","",(E104/E97)) -> #DIV/0! | F105: =IF(F104="","",(F104/F97)) -> #DIV/0! | G105: =IF(G104="","",(G104/G97)) -> #DIV/0! | H105: =IF(H104="","",(H104/H97)) -> #DIV/0! | I105: =IF(I104="","",(I104/I97)) -> #DIV/0! | ... N105: =IF(N104="","",(N104/N97)) -> #DIV/0!
B107: Jan | C107: Feb | D107: Mar | E107: Apr | F107: May | G107: Jun | H107: Jul | I107: Aug | J107: Sep | K107: Oct | L107: Nov | M107: Dec | N107: Total
A108: Rm Nights | N108: =SUM(B108:M108) -> 0
A109: Av.R.R. | N109: =N114/N108 -> #DIV/0!
...

Sheet TOP 10 YTD 09
A1: TOP 10 Producers
B3: Jan | C3: Feb | D3: Mar | E3: Apr | F3: May | G3: Jun | H3: Jul | I3: Aug | J3: Sep | K3: Oct | L3: Nov | M3: Dec | N3: Total
A4: Rm Nights | N4: =SUM(B4:M4) -> 0
A5: Av.R.R. | N5: =N10/N4 -> #DIV/0!
A6: # Of Guests | N6: =SUM(B6:M6) -> 0
A7: DBL Occ. | B7: =IF(B4=0,0,(B6/B4)) -> 0 | C7: =IF(C4=0,0,(C6/C4)) -> 0 | D7: =IF(D4=0,0,(D6/D4)) -> 0 | E7: =IF(E4=0,0,(E6/E4)) -> 0 | F7: =IF(F4=0,0,(F6/F4)) -> 0 | G7: =IF(G4=0,0,(G6/G4)) -> 0 | H7: =IF(H4=0,0,(H6/H4)) -> 0 | I7: =IF(I4=0,0,(I6/I4)) -> 0 | ... N7: =IF(N4=0,0,(N6/N4)) -> 0
A8: Arrivals | N8: =SUM(B8:M8) -> 0
A9: Length of stay | B9: =IF(B8="","",(B4/B8)) | C9: =IF(C8="","",(C4/C8)) | D9: =IF(D8="","",(D4/D8)) | E9: =IF(E8="","",(E4/E8)) | F9: =IF(F8="","",(F4/F8)) | G9: =IF(G8="","",(G4/G8)) | H9: =IF(H8="","",(H4/H8)) | I9: =IF(I8="","",(I4/I8)) | ... N9: =IF(N8="","",(N4/N8)) -> #DIV/0!
A10: Room Rev | B10: =B4*B5 -> 0 | C10: =C4*C5 -> 0 | D10: =D4*D5 -> 0 | E10: =E4*E5 -> 0 | F10: =F4*F5 -> 0 | G10: =G4*G5 -> 0 | H10: =H4*H5 -> 0 | I10: =I4*I5 -> 0 | ... M10: =M4*M5 -> 0 | N10: =SUM(B10:M10) -> 0
A11: F&B Rev | N11: =SUM(B11:M11) -> 0
A12: Extra Rev | N12: =SUM(B12:M12) -> 0
A13: TOTAL Rev | B13: =SUM(B10:B12) -> 0 | C13: =SUM(C10:C12) -> 0 | D13: =SUM(D10:D12) -> 0 | E13: =SUM(E10:E12) -> 0 | F13: =SUM(F10:F12) -> 0 | G13: =SUM(G10:G12) -> 0 | H13: =SUM(H10:H12) -> 0 | I13: =SUM(I10:I12) -> 0 | ... M13: =SUM(M10:M12) -> 0 | N13: =SUM(B13:M13) -> 0
A14: Av. S. P Gst. | B14: =IF(B13="","",(B13/B6)) -> #DIV/0! | C14: =IF(C13="","",(C13/C6)) -> #DIV/0! | D14: =IF(D13="","",(D13/D6)) -> #DIV/0! | E14: =IF(E13="","",(E13/E6)) -> #DIV/0! | F14: =IF(F13="","",(F13/F6)) -> #DIV/0! | G14: =IF(G13="","",(G13/G6)) -> #DIV/0! | H14: =IF(H13="","",(H13/H6)) -> #DIV/0! | I14: =IF(I13="","",(I13/I6)) -> #DIV/0! | ... N14: =IF(N13="","",(N13/N6)) -> #DIV/0!
B16: Jan | C16: Feb | D16: Mar | E16: Apr | F16: May | G16: Jun | H16: Jul | I16: Aug | J16: Sep | K16: Oct | L16: Nov | M16: Dec | N16: Total
A17: Rm Nights | N17: =SUM(B17:M17) -> 0
A18: Av.R.R. | N18: =N23/N17 -> #DIV/0!
A19: # Of Guests | N19: =SUM(B19:M19) -> 0
A20: DBL Occ. | B20: =IF(B17=0,0,(B19/B17)) -> 0 | C20: =IF(C17=0,0,(C19/C17)) -> 0 | D20: =IF(D17=0,0,(D19/D17)) -> 0 | E20: =IF(E17=0,0,(E19/E17)) -> 0 | F20: =IF(F17=0,0,(F19/F17)) -> 0 | G20: =IF(G17=0,0,(G19/G17)) -> 0 | H20: =IF(H17=0,0,(H19/H17)) -> 0 | I20: =IF(I17=0,0,(I19/I17)) -> 0 | ... N20: =IF(N17=0,0,(N19/N17)) -> 0
A21: Arrivals | N21: =SUM(B21:M21) -> 0
A22: Length of stay | B22: =IF(B21="","",(B17/B21)) | C22: =IF(C21="","",(C17/C21)) | D22: =IF(D21="","",(D17/D21)) | E22: =IF(E21="","",(E17/E21)) | F22: =IF(F21="","",(F17/F21)) | G22: =IF(G21="","",(G17/G21)) | H22: =IF(H21="","",(H17/H21)) | I22: =IF(I21="","",(I17/I21)) | ... N22: =IF(N21="","",(N17/N21)) -> #DIV/0!
A23: Room Rev | B23: =B17*B18 -> 0 | C23: =C17*C18 -> 0 | D23: =D17*D18 -> 0 | E23: =E17*E18 -> 0 | F23: =F17*F18 -> 0 | G23: =G17*G18 -> 0 | H23: =H17*H18 -> 0 | I23: =I17*I18 -> 0 | ... M23: =M17*M18 -> 0 | N23: =SUM(B23:M23) -> 0
A24: F&B Rev | N24: =SUM(B24:M24) -> 0
A25: Extra Rev | N25: =SUM(B25:M25) -> 0
A26: TOTAL Rev | B26: =SUM(B23:B25) -> 0 | C26: =SUM(C23:C25) -> 0 | D26: =SUM(D23:D25) -> 0 | E26: =SUM(E23:E25) -> 0 | F26: =SUM(F23:F25) -> 0 | G26: =SUM(G23:G25) -> 0 | H26: =SUM(H23:H25) -> 0 | I26: =SUM(I23:I25) -> 0 | ... M26: =SUM(M23:M25) -> 0 | N26: =SUM(B26:M26) -> 0
A27: Av. S. P Gst. | B27: =IF(B26="","",(B26/B19)) -> #DIV/0! | C27: =IF(C26="","",(C26/C19)) -> #DIV/0! | D27: =IF(D26="","",(D26/D19)) -> #DIV/0! | E27: =IF(E26="","",(E26/E19)) -> #DIV/0! | F27: =IF(F26="","",(F26/F19)) -> #DIV/0! | G27: =IF(G26="","",(G26/G19)) -> #DIV/0! | H27: =IF(H26="","",(H26/H19)) -> #DIV/0! | I27: =IF(I26="","",(I26/I19)) -> #DIV/0! | ... N27: =IF(N26="","",(N26/N19)) -> #DIV/0!
B29: Jan | C29: Feb | D29: Mar | E29: Apr | F29: May | G29: Jun | H29: Jul | I29: Aug | J29: Sep | K29: Oct | L29: Nov | M29: Dec | N29: Total
A30: Rm Nights | N30: =SUM(B30:M30) -> 0
A31: Av.R.R. | N31: =N36/N30 -> #DIV/0!
A32: # Of Guests | N32: =SUM(B32:M32) -> 0
A33: DBL Occ. | B33: =IF(B30=0,0,(B32/B30)) -> 0 | C33: =IF(C30=0,0,(C32/C30)) -> 0 | D33: =IF(D30=0,0,(D32/D30)) -> 0 | E33: =IF(E30=0,0,(E32/E30)) -> 0 | F33: =IF(F30=0,0,(F32/F30)) -> 0 | G33: =IF(G30=0,0,(G32/G30)) -> 0 | H33: =IF(H30=0,0,(H32/H30)) -> 0 | I33: =IF(I30=0,0,(I32/I30)) -> 0 | ... N33: =IF(N30=0,0,(N32/N30)) -> 0
A34: Arrivals | N34: =SUM(B34:M34) -> 0
A35: Length of stay | B35: =IF(B34="","",(B30/B34)) | C35: =IF(C34="","",(C30/C34)) | D35: =IF(D34="","",(D30/D34)) | E35: =IF(E34="","",(E30/E34)) | F35: =IF(F34="","",(F30/F34)) | G35: =IF(G34="","",(G30/G34)) | H35: =IF(H34="","",(H30/H34)) | I35: =IF(I34="","",(I30/I34)) | ... N35: =IF(N34="","",(N30/N34)) -> #DIV/0!
A36: Room Rev | B36: =B30*B31 -> 0 | C36: =C30*C31 -> 0 | D36: =D30*D31 -> 0 | E36: =E30*E31 -> 0 | F36: =F30*F31 -> 0 | G36: =G30*G31 -> 0 | H36: =H30*H31 -> 0 | I36: =I30*I31 -> 0 | ... M36: =M30*M31 -> 0 | N36: =SUM(B36:M36) -> 0
A37: F&B Rev | N37: =SUM(B37:M37) -> 0
A38: Extra Rev | N38: =SUM(B38:M38) -> 0
A39: TOTAL Rev | B39: =SUM(B36:B38) -> 0 | C39: =SUM(C36:C38) -> 0 | D39: =SUM(D36:D38) -> 0 | E39: =SUM(E36:E38) -> 0 | F39: =SUM(F36:F38) -> 0 | G39: =SUM(G36:G38) -> 0 | H39: =SUM(H36:H38) -> 0 | I39: =SUM(I36:I38) -> 0 | ... M39: =SUM(M36:M38) -> 0 | N39: =SUM(B39:M39) -> 0
A40: Av. S. P Gst. | B40: =IF(B39="","",(B39/B32)) -> #DIV/0! | C40: =IF(C39="","",(C39/C32)) -> #DIV/0! | D40: =IF(D39="","",(D39/D32)) -> #DIV/0! | E40: =IF(E39="","",(E39/E32)) -> #DIV/0! | F40: =IF(F39="","",(F39/F32)) -> #DIV/0! | G40: =IF(G39="","",(G39/G32)) -> #DIV/0! | H40: =IF(H39="","",(H39/H32)) -> #DIV/0! | I40: =IF(I39="","",(I39/I32)) -> #DIV/0! | ... N40: =IF(N39="","",(N39/N32)) -> #DIV/0!
B42: Jan | C42: Feb | D42: Mar | E42: Apr | F42: May | G42: Jun | H42: Jul | I42: Aug | J42: Sep | K42: Oct | L42: Nov | M42: Dec | N42: Total
A43: Rm Nights | N43: =SUM(B43:M43) -> 0
A44: Av.R.R. | N44: =N49/N43 -> #DIV/0!
A45: # Of Guests | N45: =SUM(B45:M45) -> 0
A46: DBL Occ. | B46: =IF(B43=0,0,(B45/B43)) -> 0 | C46: =IF(C43=0,0,(C45/C43)) -> 0 | D46: =IF(D43=0,0,(D45/D43)) -> 0 | E46: =IF(E43=0,0,(E45/E43)) -> 0 | F46: =IF(F43=0,0,(F45/F43)) -> 0 | G46: =IF(G43=0,0,(G45/G43)) -> 0 | H46: =IF(H43=0,0,(H45/H43)) -> 0 | I46: =IF(I43=0,0,(I45/I43)) -> 0 | ... N46: =IF(N43=0,0,(N45/N43)) -> 0
A47: Arrivals | N47: =SUM(B47:M47) -> 0
A48: Length of stay | B48: =IF(B47="","",(B43/B47)) | C48: =IF(C47="","",(C43/C47)) | D48: =IF(D47="","",(D43/D47)) | E48: =IF(E47="","",(E43/E47)) | F48: =IF(F47="","",(F43/F47)) | G48: =IF(G47="","",(G43/G47)) | H48: =IF(H47="","",(H43/H47)) | I48: =IF(I47="","",(I43/I47)) | ... N48: =IF(N47="","",(N43/N47)) -> #DIV/0!
A49: Room Rev | B49: =B43*B44 -> 0 | C49: =C43*C44 -> 0 | D49: =D43*D44 -> 0 | E49: =E43*E44 -> 0 | F49: =F43*F44 -> 0 | G49: =G43*G44 -> 0 | H49: =H43*H44 -> 0 | I49: =I43*I44 -> 0 | ... M49: =M43*M44 -> 0 | N49: =SUM(B49:M49) -> 0
A50: F&B Rev | N50: =SUM(B50:M50) -> 0
A51: Extra Rev | N51: =SUM(B51:M51) -> 0
A52: TOTAL Rev | B52: =SUM(B49:B51) -> 0 | C52: =SUM(C49:C51) -> 0 | D52: =SUM(D49:D51) -> 0 | E52: =SUM(E49:E51) -> 0 | F52: =SUM(F49:F51) -> 0 | G52: =SUM(G49:G51) -> 0 | H52: =SUM(H49:H51) -> 0 | I52: =SUM(I49:I51) -> 0 | ... M52: =SUM(M49:M51) -> 0 | N52: =SUM(B52:M52) -> 0
A53: Av. S. P Gst. | B53: =IF(B52="","",(B52/B45)) -> #DIV/0! | C53: =IF(C52="","",(C52/C45)) -> #DIV/0! | D53: =IF(D52="","",(D52/D45)) -> #DIV/0! | E53: =IF(E52="","",(E52/E45)) -> #DIV/0! | F53: =IF(F52="","",(F52/F45)) -> #DIV/0! | G53: =IF(G52="","",(G52/G45)) -> #DIV/0! | H53: =IF(H52="","",(H52/H45)) -> #DIV/0! | I53: =IF(I52="","",(I52/I45)) -> #DIV/0! | ... N53: =IF(N52="","",(N52/N45)) -> #DIV/0!
B55: Jan | C55: Feb | D55: Mar | E55: Apr | F55: May | G55: Jun | H55: Jul | I55: Aug | J55: Sep | K55: Oct | L55: Nov | M55: Dec | N55: Total
A56: Rm Nights | N56: =SUM(B56:M56) -> 0
